{"text_format":"3","workbook":"xlsx","n_sheets":7,"sheets":["RESUMEN","Consolidado","HLS","HCQ","HOV","HILL","FILTRO DIC."],"not_rendered":{"pivot_tables":1},"read":"whole","date_system":"1900"}

{"sheet":"RESUMEN","index":0,"n_rows":29,"n_cols":9,"rows_kept":29,"merged":[[5,1,9,8],[11,1,16,1],[11,2,12,5],[11,6,12,7],[11,8,16,8],[13,2,13,5],[13,6,16,7],[14,2,16,2],[14,3,16,3],[14,4,16,4],[14,5,16,5],[17,1,18,1],[17,2,18,2],[17,3,18,3],[17,4,18,4],[17,5,18,5],[17,6,18,7],[17,8,18,8],[19,1,20,1],[19,2,20,2],[19,3,20,3],[19,4,20,4],[19,5,20,5],[19,6,20,7],[19,8,20,8],[21,1,22,1],[21,2,22,2],[21,3,22,3],[21,4,22,4],[21,5,22,5],[21,6,22,7],[21,8,22,8],[23,1,24,1],[23,2,24,2],[23,3,24,3],[23,4,24,4],[23,5,24,5],[23,6,24,7],[23,8,24,8],[25,1,27,1],[25,2,27,2],[25,3,27,3],[25,4,27,4],[25,5,27,5],[25,6,27,7],[25,8,27,8]]}
["MINISTERIO DE SALUD"]
["SERVICIO DE SALUD COQUIMBO"]
["DEPARTAMENTO  DE GESTIÓN, PLANIFICACIÓN Y CONTROL"]
["SUBDEPTO. DE ESTADÍSTICAS Y GESTIÓN DE LA INFORMACIÓN "]
["AÑO 2022"]
[null,"INDICADOR 2.3: Porcentaje de cumplimiento de la programación de horas de consultas nuevas, tratamientos y procedimientos imagenológicos realizados por profesionales Cirujanos Dentista."]
[]
[]
[]
[]
[]
[null,"HOSPITAL","NUMERADOR ",{"$nulls":3},"DENOMINADOR",null,"INDICADOR"]
[]
[null,null,"Consultas nuevas, tratamientos y procedimientos imagenológicos de Especialidades Odontológicas, realizados por profesional Cirujano Dentista en el período ",{"$nulls":3},"Total de consultas nuevas, tratamientos y procedimientos imagenológicos de Especialidades Odontológicas, programados por profesional Cirujano Dentista en el período "]
[null,null,"ACTIVIDADES DE ATENCIÓN EN ESPECIALIDADES ODONTOLÓGICAS","ACTIVIDADES DE IMAGENOLOGÍA ORAL Y MAXILOFACIAL","CONSULTAS, INGRESOS Y EGRESOS EN ESPECIALIDADES ODONTOLÓGICAS","TOTAL"]
[]
[]
[null,"HOSPITAL LA SERENA",{"$f":"HLS!$Q$66","v":47143},{"$f":"HLS!$Q$79","v":3782},{"$f":"HLS!$Q$83+HLS!$Q$169+HLS!$Q$170+HLS!$Q$171+HLS!$Q$172+HLS!$Q$174","v":33073},{"$f":"SUM(C18:E19)","v":83998},null,null,{"$f":"F18/G18","v":{"$error":"#DIV/0!"}}]
[]
[null,"HOSPITAL COQUIMBO",{"$f":"HCQ!Q68","v":31538},{"$f":"HCQ!Q81","v":6055},{"$f":"HCQ!Q85+HCQ!Q171+HCQ!Q172+HCQ!Q173+HCQ!Q174+HCQ!Q176","v":22854},{"$f":"SUM(C20:E21)","v":60447},null,null,{"$f":"F20/G20","v":{"$error":"#DIV/0!"}}]
[]
[null,"HOSPITAL OVALLE",{"$f":"HOV!Q68","v":15646},{"$f":"HLS!Q79","v":3782},{"$f":"HOV!Q85+HOV!Q171+HOV!Q172+HOV!Q173+HOV!Q174+HOV!Q176","v":19138},{"$f":"SUM(C22:E23)","v":38566},null,null,{"$f":"F22/G22","v":{"$error":"#DIV/0!"}}]
[]
[null,"HOSPITAL ILLAPEL",{"$f":"HILL!Q68","v":11492},{"$f":"HILL!Q81","v":1959},{"$f":"HILL!Q85+HILL!Q171+HILL!Q172+HILL!Q173+HILL!Q174+HILL!Q176","v":14710},{"$f":"SUM(C24:E25)","v":28161},null,null,{"$f":"F24/G24","v":{"$error":"#DIV/0!"}}]
[]
[null,"TOTAL",{"$f":"SUM(C18:C25)","v":105819},{"$f":"SUM(D18:D25)","v":15578},{"$f":"SUM(E18:E25)","v":89775},{"$f":"SUM(F18:F25)","v":211172},{"$f":"SUM(G18:H25)","v":0},null,{"$f":"F26/G26","v":{"$error":"#DIV/0!"}}]
[]
[]
[null,"Fuente: REM A09, Sección I"]

{"sheet":"Consolidado","index":1,"n_rows":177,"n_cols":18,"rows_kept":177,"merged":[[7,2,10,17],[12,3,12,4],[13,3,13,4],[14,3,14,4],[15,3,15,4],[16,3,16,4],[17,3,17,4],[18,3,18,4],[19,3,19,4],[20,3,20,4],[21,3,21,4],[22,3,22,4],[23,3,23,4],[24,3,24,4],[25,3,25,4],[26,3,26,4],[27,3,27,4],[28,3,28,4],[29,3,29,4],[30,3,30,4],[31,3,31,4],[32,3,32,4],[33,3,33,4],[34,3,34,4],[35,3,35,4],[36,3,36,4],[37,3,37,4],[38,3,38,4],[39,3,39,4],[40,3,40,4],[41,3,41,4],[42,3,42,4],[43,3,43,4],[44,3,44,4],[45,3,45,4],[46,3,46,4],[47,3,47,4],[48,3,48,4],[49,3,49,4],[50,3,50,4],[51,3,51,4],[52,3,52,4],[53,3,53,4],[54,3,54,4],[55,3,55,4],[56,3,56,4],[57,3,57,4],[58,3,58,4],[59,3,59,4],[60,3,60,4],[61,3,61,4],[62,3,62,4],[63,3,63,4],[64,3,64,4],[65,3,65,4],[66,3,66,4],[67,3,67,4],[70,3,70,4],[71,3,71,4],[72,3,72,4],[73,3,73,4],[74,3,74,4],[75,3,75,4],[76,3,76,4],[77,3,77,4],[78,3,78,4],[79,3,79,4],[80,3,80,4],[83,3,83,4],[84,2,85,2],[86,2,91,2],[92,2,97,2],[98,2,103,2],[104,2,109,2],[110,2,115,2],[116,2,121,2],[122,2,127,2],[128,2,133,2],[134,2,139,2],[140,2,145,2],[146,2,151,2],[152,2,157,2],[158,2,163,2],[164,2,169,2],[170,2,175,2]]}
["MINISTERIO DE SALUD"]
["SERVICIO DE SALUD COQUIMBO"]
["DEPARTAMENTO  DE GESTIÓN, PLANIFICACIÓN Y CONTROL"]
["SUBDEPTO. DE ESTADÍSTICAS Y GESTIÓN DE LA INFORMACIÓN "]
["AÑO 2022"]
[]
[]
[null,null,"INDICADOR 2.3: Porcentaje de cumplimiento de la programación de horas de consultas nuevas, tratamientos y procedimientos imagenológicos realizados por profesionales Cirujanos Dentista."]
[]
[]
[]
[]
[{"$nulls":3},"ACTIVIDADES DE ESPECIALIDADES",null,"Enero","Febrero","Marzo","Abril","Mayo","Junio","Julio","Agosto","Septiembre","Octubre","Noviembre","Diciembre","Total"]
[null,"09204935",null,"EXAMEN Y DIAGNÓSTICO DE ESPECIALIDAD",null,{"$f":"HLS!E12+HCQ!E14+HOV!E14+HILL!E14","v":2238},{"$f":"HLS!F12+HCQ!F14+HOV!F14+HILL!F14","v":1308},{"$f":"HLS!G12+HCQ!G14+HOV!G14+HILL!G14","v":2444},{"$f":"HLS!H12+HCQ!H14+HOV!H14+HILL!H14","v":2196},{"$f":"HLS!I12+HCQ!I14+HOV!I14+HILL!I14","v":2231},{"$f":"HLS!J12+HCQ!J14+HOV!J14+HILL!J14","v":2069},{"$f":"HLS!K12+HCQ!K14+HOV!K14+HILL!K14","v":1961},{"$f":"HLS!L12+HCQ!L14+HOV!L14+HILL!L14","v":2282},{"$nulls":4},{"$f":"SUM(F14:Q14)","v":16729}]
[null,"09600110",null,"EDUCACIÓN EN SALUD BUCAL",null,{"$f":"HLS!E13+HCQ!E15+HOV!E15+HILL!E15","v":767},{"$f":"HLS!F13+HCQ!F15+HOV!F15+HILL!F15","v":330},{"$f":"HLS!G13+HCQ!G15+HOV!G15+HILL!G15","v":928},{"$f":"HLS!H13+HCQ!H15+HOV!H15+HILL!H15","v":800},{"$f":"HLS!I13+HCQ!I15+HOV!I15+HILL!I15","v":893},{"$f":"HLS!J13+HCQ!J15+HOV!J15+HILL!J15","v":695},{"$f":"HLS!K13+HCQ!K15+HOV!K15+HILL!K15","v":731},{"$f":"HLS!L13+HCQ!L15+HOV!L15+HILL!L15","v":992},{"$nulls":4},{"$f":"SUM(F15:Q15)","v":6136}]
[null,"09600111",null,"RESPUESTA A INTERCONSULTA PERSONAS HOSPITALIZADOS",null,{"$f":"HLS!E14+HCQ!E16+HOV!E16+HILL!E16","v":74},{"$f":"HLS!F14+HCQ!F16+HOV!F16+HILL!F16","v":48},{"$f":"HLS!G14+HCQ!G16+HOV!G16+HILL!G16","v":103},{"$f":"HLS!H14+HCQ!H16+HOV!H16+HILL!H16","v":52},{"$f":"HLS!I14+HCQ!I16+HOV!I16+HILL!I16","v":65},{"$f":"HLS!J14+HCQ!J16+HOV!J16+HILL!J16","v":45},{"$f":"HLS!K14+HCQ!K16+HOV!K16+HILL!K16","v":55},{"$f":"HLS!L14+HCQ!L16+HOV!L16+HILL!L16","v":81},{"$nulls":4},523]
[null,"09600112",null,"VISITA A SALA",null,{"$f":"HLS!E15+HCQ!E17+HOV!E17+HILL!E17","v":46},{"$f":"HLS!F15+HCQ!F17+HOV!F17+HILL!F17","v":31},{"$f":"HLS!G15+HCQ!G17+HOV!G17+HILL!G17","v":58},{"$f":"HLS!H15+HCQ!H17+HOV!H17+HILL!H17","v":35},{"$f":"HLS!I15+HCQ!I17+HOV!I17+HILL!I17","v":66},{"$f":"HLS!J15+HCQ!J17+HOV!J17+HILL!J17","v":42},{"$f":"HLS!K15+HCQ!K17+HOV!K17+HILL!K17","v":45},{"$f":"HLS!L15+HCQ!L17+HOV!L17+HILL!L17","v":61},{"$nulls":4},384]
[null,"09600113",null,"CONTRALORÍA CLÍNICA",null,{"$f":"HLS!E16+HCQ!E18+HOV!E18+HILL!E18","v":105},{"$f":"HLS!F16+HCQ!F18+HOV!F18+HILL!F18","v":0},{"$f":"HLS!G16+HCQ!G18+HOV!G18+HILL!G18","v":44},{"$f":"HLS!H16+HCQ!H18+HOV!H18+HILL!H18","v":128},{"$f":"HLS!I16+HCQ!I18+HOV!I18+HILL!I18","v":121},{"$f":"HLS!J16+HCQ!J18+HOV!J18+HILL!J18","v":47},{"$f":"HLS!K16+HCQ!K18+HOV!K18+HILL!K18","v":86},{"$f":"HLS!L16+HCQ!L18+HOV!L18+HILL!L18","v":70},{"$nulls":4},601]
[null,"09600114",null,"CIRUGÍA TERCER MOLAR",null,{"$f":"HLS!E17+HCQ!E19+HOV!E19+HILL!E19","v":182},{"$f":"HLS!F17+HCQ!F19+HOV!F19+HILL!F19","v":162},{"$f":"HLS!G17+HCQ!G19+HOV!G19+HILL!G19","v":211},{"$f":"HLS!H17+HCQ!H19+HOV!H19+HILL!H19","v":142},{"$f":"HLS!I17+HCQ!I19+HOV!I19+HILL!I19","v":185},{"$f":"HLS!J17+HCQ!J19+HOV!J19+HILL!J19","v":224},{"$f":"HLS!K17+HCQ!K19+HOV!K19+HILL!K19","v":199},{"$f":"HLS!L17+HCQ!L19+HOV!L19+HILL!L19","v":274},{"$nulls":4},1579]
[null,"09600115",null,"CIRUGÍA MENOR AMBULATORIA",null,{"$f":"HLS!E18+HCQ!E20+HOV!E20+HILL!E20","v":171},{"$f":"HLS!F18+HCQ!F20+HOV!F20+HILL!F20","v":172},{"$f":"HLS!G18+HCQ!G20+HOV!G20+HILL!G20","v":233},{"$f":"HLS!H18+HCQ!H20+HOV!H20+HILL!H20","v":291},{"$f":"HLS!I18+HCQ!I20+HOV!I20+HILL!I20","v":242},{"$f":"HLS!J18+HCQ!J20+HOV!J20+HILL!J20","v":165},{"$f":"HLS!K18+HCQ!K20+HOV!K20+HILL!K20","v":176},{"$f":"HLS!L18+HCQ!L20+HOV!L20+HILL!L20","v":416},{"$nulls":4},1866]
[null,"09600116",null,"CIRUGÍA MAYOR AMBULATORIA",null,{"$f":"HLS!E19+HCQ!E21+HOV!E21+HILL!E21","v":38},{"$f":"HLS!F19+HCQ!F21+HOV!F21+HILL!F21","v":32},{"$f":"HLS!G19+HCQ!G21+HOV!G21+HILL!G21","v":22},{"$f":"HLS!H19+HCQ!H21+HOV!H21+HILL!H21","v":90},{"$f":"HLS!I19+HCQ!I21+HOV!I21+HILL!I21","v":45},{"$f":"HLS!J19+HCQ!J21+HOV!J21+HILL!J21","v":47},{"$f":"HLS!K19+HCQ!K21+HOV!K21+HILL!K21","v":37},{"$f":"HLS!L19+HCQ!L21+HOV!L21+HILL!L21","v":43},{"$nulls":4},354]
[null,"09203813",null,"TRATAMIENTO TRAUMATISMO DENTOALVEOLAR",null,{"$f":"HLS!E20+HCQ!E22+HOV!E22+HILL!E22","v":7},{"$f":"HLS!F20+HCQ!F22+HOV!F22+HILL!F22","v":10},{"$f":"HLS!G20+HCQ!G22+HOV!G22+HILL!G22","v":20},{"$f":"HLS!H20+HCQ!H22+HOV!H22+HILL!H22","v":34},{"$f":"HLS!I20+HCQ!I22+HOV!I22+HILL!I22","v":37},{"$f":"HLS!J20+HCQ!J22+HOV!J22+HILL!J22","v":13},{"$f":"HLS!K20+HCQ!K22+HOV!K22+HILL!K22","v":13},{"$f":"HLS!L20+HCQ!L22+HOV!L22+HILL!L22","v":27},{"$nulls":4},161]
[null,"09600117",null,"OBTURACIÓN DIRECTA",null,{"$f":"HLS!E21+HCQ!E23+HOV!E23+HILL!E23","v":220},{"$f":"HLS!F21+HCQ!F23+HOV!F23+HILL!F23","v":176},{"$f":"HLS!G21+HCQ!G23+HOV!G23+HILL!G23","v":309},{"$f":"HLS!H21+HCQ!H23+HOV!H23+HILL!H23","v":278},{"$f":"HLS!I21+HCQ!I23+HOV!I23+HILL!I23","v":436},{"$f":"HLS!J21+HCQ!J23+HOV!J23+HILL!J23","v":314},{"$f":"HLS!K21+HCQ!K23+HOV!K23+HILL!K23","v":311},{"$f":"HLS!L21+HCQ!L23+HOV!L23+HILL!L23","v":286},{"$nulls":4},2330]
[null,"09600118",null,"OBTURACIÓN INDIRECTA (INLAYS U ONLAYS)",null,{"$f":"HLS!E22+HCQ!E24+HOV!E24+HILL!E24","v":3},{"$f":"HLS!F22+HCQ!F24+HOV!F24+HILL!F24","v":5},{"$f":"HLS!G22+HCQ!G24+HOV!G24+HILL!G24","v":22},{"$f":"HLS!H22+HCQ!H24+HOV!H24+HILL!H24","v":1},{"$f":"HLS!I22+HCQ!I24+HOV!I24+HILL!I24","v":2},{"$f":"HLS!J22+HCQ!J24+HOV!J24+HILL!J24","v":3},{"$f":"HLS!K22+HCQ!K24+HOV!K24+HILL!K24","v":0},{"$f":"HLS!L22+HCQ!L24+HOV!L24+HILL!L24","v":0},{"$nulls":4},36]
[null,"09203213",null,"INSTALACIÓN APARATO REMOVIBLE ORTODÓNCICO",null,{"$f":"HLS!E23+HCQ!E25+HOV!E25+HILL!E25","v":37},{"$f":"HLS!F23+HCQ!F25+HOV!F25+HILL!F25","v":38},{"$f":"HLS!G23+HCQ!G25+HOV!G25+HILL!G25","v":29},{"$f":"HLS!H23+HCQ!H25+HOV!H25+HILL!H25","v":37},{"$f":"HLS!I23+HCQ!I25+HOV!I25+HILL!I25","v":39},{"$f":"HLS!J23+HCQ!J25+HOV!J25+HILL!J25","v":26},{"$f":"HLS!K23+HCQ!K25+HOV!K25+HILL!K25","v":27},{"$f":"HLS!L23+HCQ!L25+HOV!L25+HILL!L25","v":19},{"$nulls":4},252]
[null,"09305700",null,"INSTALACIÓN APARATO FIJO ORTODÓNCICO",null,{"$f":"HLS!E24+HCQ!E26+HOV!E26+HILL!E26","v":96},{"$f":"HLS!F24+HCQ!F26+HOV!F26+HILL!F26","v":26},{"$f":"HLS!G24+HCQ!G26+HOV!G26+HILL!G26","v":125},{"$f":"HLS!H24+HCQ!H26+HOV!H26+HILL!H26","v":109},{"$f":"HLS!I24+HCQ!I26+HOV!I26+HILL!I26","v":128},{"$f":"HLS!J24+HCQ!J26+HOV!J26+HILL!J26","v":92},{"$f":"HLS!K24+HCQ!K26+HOV!K26+HILL!K26","v":72},{"$f":"HLS!L24+HCQ!L26+HOV!L26+HILL!L26","v":90},{"$nulls":4},738]
[null,"09305800",null,"INSTALACIÓN APARATO DE CONTENCIÓN ORTODÓNCICO",null,{"$f":"HLS!E25+HCQ!E27+HOV!E27+HILL!E27","v":12},{"$f":"HLS!F25+HCQ!F27+HOV!F27+HILL!F27","v":20},{"$f":"HLS!G25+HCQ!G27+HOV!G27+HILL!G27","v":21},{"$f":"HLS!H25+HCQ!H27+HOV!H27+HILL!H27","v":26},{"$f":"HLS!I25+HCQ!I27+HOV!I27+HILL!I27","v":27},{"$f":"HLS!J25+HCQ!J27+HOV!J27+HILL!J27","v":46},{"$f":"HLS!K25+HCQ!K27+HOV!K27+HILL!K27","v":50},{"$f":"HLS!L25+HCQ!L27+HOV!L27+HILL!L27","v":40},{"$nulls":4},242]
[null,"09600119",null,"RETIRO APARATOLOGÍA DE ORTODONCIA",null,{"$f":"HLS!E26+HCQ!E28+HOV!E28+HILL!E28","v":62},{"$f":"HLS!F26+HCQ!F28+HOV!F28+HILL!F28","v":27},{"$f":"HLS!G26+HCQ!G28+HOV!G28+HILL!G28","v":27},{"$f":"HLS!H26+HCQ!H28+HOV!H28+HILL!H28","v":26},{"$f":"HLS!I26+HCQ!I28+HOV!I28+HILL!I28","v":36},{"$f":"HLS!J26+HCQ!J28+HOV!J28+HILL!J28","v":36},{"$f":"HLS!K26+HCQ!K28+HOV!K28+HILL!K28","v":36},{"$f":"HLS!L26+HCQ!L28+HOV!L28+HILL!L28","v":47},{"$nulls":4},297]
[null,"09600120",null,"ORTOPEDIA PREQUIRÚRGICA",null,{"$f":"HLS!E27+HCQ!E29+HOV!E29+HILL!E29","v":0},{"$f":"HLS!F27+HCQ!F29+HOV!F29+HILL!F29","v":0},{"$f":"HLS!G27+HCQ!G29+HOV!G29+HILL!G29","v":0},{"$f":"HLS!H27+HCQ!H29+HOV!H29+HILL!H29","v":2},{"$f":"HLS!I27+HCQ!I29+HOV!I29+HILL!I29","v":0},{"$f":"HLS!J27+HCQ!J29+HOV!J29+HILL!J29","v":0},{"$f":"HLS!K27+HCQ!K29+HOV!K29+HILL!K29","v":0},{"$f":"HLS!L27+HCQ!L29+HOV!L29+HILL!L29","v":0},{"$nulls":4},2]
[null,"09600121",null,"ORTODONCIA PREVENTIVA E INTERCEPTIVA (OPI)",null,{"$f":"HLS!E28+HCQ!E30+HOV!E30+HILL!E30","v":133},{"$f":"HLS!F28+HCQ!F30+HOV!F30+HILL!F30","v":63},{"$f":"HLS!G28+HCQ!G30+HOV!G30+HILL!G30","v":153},{"$f":"HLS!H28+HCQ!H30+HOV!H30+HILL!H30","v":129},{"$f":"HLS!I28+HCQ!I30+HOV!I30+HILL!I30","v":167},{"$f":"HLS!J28+HCQ!J30+HOV!J30+HILL!J30","v":128},{"$f":"HLS!K28+HCQ!K30+HOV!K30+HILL!K30","v":32},{"$f":"HLS!L28+HCQ!L30+HOV!L30+HILL!L30","v":85},{"$nulls":4},890]
[null,"09202725",null,"TRATAMIENTO ENDODONCIA UNIRRADICULAR",null,{"$f":"HLS!E29+HCQ!E31+HOV!E31+HILL!E31","v":62},{"$f":"HLS!F29+HCQ!F31+HOV!F31+HILL!F31","v":39},{"$f":"HLS!G29+HCQ!G31+HOV!G31+HILL!G31","v":74},{"$f":"HLS!H29+HCQ!H31+HOV!H31+HILL!H31","v":70},{"$f":"HLS!I29+HCQ!I31+HOV!I31+HILL!I31","v":81},{"$f":"HLS!J29+HCQ!J31+HOV!J31+HILL!J31","v":71},{"$f":"HLS!K29+HCQ!K31+HOV!K31+HILL!K31","v":85},{"$f":"HLS!L29+HCQ!L31+HOV!L31+HILL!L31","v":100},{"$nulls":4},582]
[null,"09202735",null,"TRATAMIENTO ENDODONCIA BIRRADICULAR",null,{"$f":"HLS!E30+HCQ!E32+HOV!E32+HILL!E32","v":96},{"$f":"HLS!F30+HCQ!F32+HOV!F32+HILL!F32","v":28},{"$f":"HLS!G30+HCQ!G32+HOV!G32+HILL!G32","v":102},{"$f":"HLS!H30+HCQ!H32+HOV!H32+HILL!H32","v":76},{"$f":"HLS!I30+HCQ!I32+HOV!I32+HILL!I32","v":70},{"$f":"HLS!J30+HCQ!J32+HOV!J32+HILL!J32","v":76},{"$f":"HLS!K30+HCQ!K32+HOV!K32+HILL!K32","v":65},{"$f":"HLS!L30+HCQ!L32+HOV!L32+HILL!L32","v":82},{"$nulls":4},595]
[null,"09202745",null,"TRATAMIENTO ENDODONCIA MULTIRRADICULAR",null,{"$f":"HLS!E31+HCQ!E33+HOV!E33+HILL!E33","v":127},{"$f":"HLS!F31+HCQ!F33+HOV!F33+HILL!F33","v":42},{"$f":"HLS!G31+HCQ!G33+HOV!G33+HILL!G33","v":140},{"$f":"HLS!H31+HCQ!H33+HOV!H33+HILL!H33","v":121},{"$f":"HLS!I31+HCQ!I33+HOV!I33+HILL!I33","v":149},{"$f":"HLS!J31+HCQ!J33+HOV!J33+HILL!J33","v":99},{"$f":"HLS!K31+HCQ!K33+HOV!K33+HILL!K33","v":100},{"$f":"HLS!L31+HCQ!L33+HOV!L33+HILL!L33","v":156},{"$nulls":4},934]
[null,"09600122",null,"INDUCCIÓN AL CIERRE APICAL",null,{"$f":"HLS!E32+HCQ!E34+HOV!E34+HILL!E34","v":1},{"$f":"HLS!F32+HCQ!F34+HOV!F34+HILL!F34","v":3},{"$f":"HLS!G32+HCQ!G34+HOV!G34+HILL!G34","v":2},{"$f":"HLS!H32+HCQ!H34+HOV!H34+HILL!H34","v":3},{"$f":"HLS!I32+HCQ!I34+HOV!I34+HILL!I34","v":1},{"$f":"HLS!J32+HCQ!J34+HOV!J34+HILL!J34","v":1},{"$f":"HLS!K32+HCQ!K34+HOV!K34+HILL!K34","v":2},{"$f":"HLS!L32+HCQ!L34+HOV!L34+HILL!L34","v":1},{"$nulls":4},14]
[null,"09600123",null,"RETRATAMIENTO DE ENDODONCIA",null,{"$f":"HLS!E33+HCQ!E35+HOV!E35+HILL!E35","v":7},{"$f":"HLS!F33+HCQ!F35+HOV!F35+HILL!F35","v":4},{"$f":"HLS!G33+HCQ!G35+HOV!G35+HILL!G35","v":8},{"$f":"HLS!H33+HCQ!H35+HOV!H35+HILL!H35","v":10},{"$f":"HLS!I33+HCQ!I35+HOV!I35+HILL!I35","v":8},{"$f":"HLS!J33+HCQ!J35+HOV!J35+HILL!J35","v":8},{"$f":"HLS!K33+HCQ!K35+HOV!K35+HILL!K35","v":5},{"$f":"HLS!L33+HCQ!L35+HOV!L35+HILL!L35","v":6},{"$nulls":4},56]
[null,"09600124",null,"CIRUGÍA APICAL",null,{"$f":"HLS!E34+HCQ!E36+HOV!E36+HILL!E36","v":1},{"$f":"HLS!F34+HCQ!F36+HOV!F36+HILL!F36","v":1},{"$f":"HLS!G34+HCQ!G36+HOV!G36+HILL!G36","v":1},{"$f":"HLS!H34+HCQ!H36+HOV!H36+HILL!H36","v":6},{"$f":"HLS!I34+HCQ!I36+HOV!I36+HILL!I36","v":5},{"$f":"HLS!J34+HCQ!J36+HOV!J36+HILL!J36","v":1},{"$f":"HLS!K34+HCQ!K36+HOV!K36+HILL!K36","v":1},{"$f":"HLS!L34+HCQ!L36+HOV!L36+HILL!L36","v":0},{"$nulls":4},16]
[null,"09600125",null,"ADAPTACIÓN A LA ATENCIÓN ODONTOLÓGICA ",null,{"$f":"HLS!E35+HCQ!E37+HOV!E37+HILL!E37","v":189},{"$f":"HLS!F35+HCQ!F37+HOV!F37+HILL!F37","v":145},{"$f":"HLS!G35+HCQ!G37+HOV!G37+HILL!G37","v":259},{"$f":"HLS!H35+HCQ!H37+HOV!H37+HILL!H37","v":197},{"$f":"HLS!I35+HCQ!I37+HOV!I37+HILL!I37","v":290},{"$f":"HLS!J35+HCQ!J37+HOV!J37+HILL!J37","v":194},{"$f":"HLS!K35+HCQ!K37+HOV!K37+HILL!K37","v":206},{"$f":"HLS!L35+HCQ!L37+HOV!L37+HILL!L37","v":183},{"$nulls":4},1663]
[null,"09600126",null,"PROCEDIMIENTO RESTAURADOR (ODONTOPEDIATRÍA)",null,{"$f":"HLS!E36+HCQ!E38+HOV!E38+HILL!E38","v":130},{"$f":"HLS!F36+HCQ!F38+HOV!F38+HILL!F38","v":89},{"$f":"HLS!G36+HCQ!G38+HOV!G38+HILL!G38","v":153},{"$f":"HLS!H36+HCQ!H38+HOV!H38+HILL!H38","v":144},{"$f":"HLS!I36+HCQ!I38+HOV!I38+HILL!I38","v":160},{"$f":"HLS!J36+HCQ!J38+HOV!J38+HILL!J38","v":119},{"$f":"HLS!K36+HCQ!K38+HOV!K38+HILL!K38","v":110},{"$f":"HLS!L36+HCQ!L38+HOV!L38+HILL!L38","v":135},{"$nulls":4},1040]
[null,"09600127",null,"PROCEDIMIENTO PULPAR (ODONTOPEDIATRÍA)",null,{"$f":"HLS!E37+HCQ!E39+HOV!E39+HILL!E39","v":33},{"$f":"HLS!F37+HCQ!F39+HOV!F39+HILL!F39","v":22},{"$f":"HLS!G37+HCQ!G39+HOV!G39+HILL!G39","v":43},{"$f":"HLS!H37+HCQ!H39+HOV!H39+HILL!H39","v":26},{"$f":"HLS!I37+HCQ!I39+HOV!I39+HILL!I39","v":49},{"$f":"HLS!J37+HCQ!J39+HOV!J39+HILL!J39","v":39},{"$f":"HLS!K37+HCQ!K39+HOV!K39+HILL!K39","v":28},{"$f":"HLS!L37+HCQ!L39+HOV!L39+HILL!L39","v":30},{"$nulls":4},270]
[null,"09600128",null,"CIRUGÍA AMBULATORIA (ODONTOPEDIATRÍA)",null,{"$f":"HLS!E38+HCQ!E40+HOV!E40+HILL!E40","v":21},{"$f":"HLS!F38+HCQ!F40+HOV!F40+HILL!F40","v":14},{"$f":"HLS!G38+HCQ!G40+HOV!G40+HILL!G40","v":27},{"$f":"HLS!H38+HCQ!H40+HOV!H40+HILL!H40","v":27},{"$f":"HLS!I38+HCQ!I40+HOV!I40+HILL!I40","v":21},{"$f":"HLS!J38+HCQ!J40+HOV!J40+HILL!J40","v":17},{"$f":"HLS!K38+HCQ!K40+HOV!K40+HILL!K40","v":7},{"$f":"HLS!L38+HCQ!L40+HOV!L40+HILL!L40","v":43},{"$nulls":4},177]
[null,"09305600",null,"DESTARTRAJE SUBGINGIVAL O PULIDO RADICULAR ",null,{"$f":"HLS!E39+HCQ!E41+HOV!E41+HILL!E41","v":1413},{"$f":"HLS!F39+HCQ!F41+HOV!F41+HILL!F41","v":680},{"$f":"HLS!G39+HCQ!G41+HOV!G41+HILL!G41","v":1563},{"$f":"HLS!H39+HCQ!H41+HOV!H41+HILL!H41","v":940},{"$f":"HLS!I39+HCQ!I41+HOV!I41+HILL!I41","v":879},{"$f":"HLS!J39+HCQ!J41+HOV!J41+HILL!J41","v":1376},{"$f":"HLS!K39+HCQ!K41+HOV!K41+HILL!K41","v":888},{"$f":"HLS!L39+HCQ!L41+HOV!L41+HILL!L41","v":1535},{"$nulls":4},9274]
[null,"09600129",null,"DESTARTRAJE SUPRAGINGIVAL O PULIDO CORONARIO",null,{"$f":"HLS!E40+HCQ!E42+HOV!E42+HILL!E42","v":452},{"$f":"HLS!F40+HCQ!F42+HOV!F42+HILL!F42","v":311},{"$f":"HLS!G40+HCQ!G42+HOV!G42+HILL!G42","v":725},{"$f":"HLS!H40+HCQ!H42+HOV!H42+HILL!H42","v":609},{"$f":"HLS!I40+HCQ!I42+HOV!I42+HILL!I42","v":254},{"$f":"HLS!J40+HCQ!J42+HOV!J42+HILL!J42","v":605},{"$f":"HLS!K40+HCQ!K42+HOV!K42+HILL!K42","v":465},{"$f":"HLS!L40+HCQ!L42+HOV!L42+HILL!L42","v":698},{"$nulls":4},4119]
[null,"09600130",null,"PROCEDIMIENTO QUIRÚRGICO (PERIODONCIA)",null,{"$f":"HLS!E41+HCQ!E43+HOV!E43+HILL!E43","v":2},{"$f":"HLS!F41+HCQ!F43+HOV!F43+HILL!F43","v":0},{"$f":"HLS!G41+HCQ!G43+HOV!G43+HILL!G43","v":1},{"$f":"HLS!H41+HCQ!H43+HOV!H43+HILL!H43","v":5},{"$f":"HLS!I41+HCQ!I43+HOV!I43+HILL!I43","v":3},{"$f":"HLS!J41+HCQ!J43+HOV!J43+HILL!J43","v":11},{"$f":"HLS!K41+HCQ!K43+HOV!K43+HILL!K43","v":5},{"$f":"HLS!L41+HCQ!L43+HOV!L43+HILL!L43","v":3},{"$nulls":4},30]
[null,"09600131",null,"PROCEDIMIENTO QUIRÚRGICO PERIIMPLANTAR (PERIODONCIA)",null,{"$f":"HLS!E42+HCQ!E44+HOV!E44+HILL!E44","v":0},{"$f":"HLS!F42+HCQ!F44+HOV!F44+HILL!F44","v":0},{"$f":"HLS!G42+HCQ!G44+HOV!G44+HILL!G44","v":0},{"$f":"HLS!H42+HCQ!H44+HOV!H44+HILL!H44","v":0},{"$f":"HLS!I42+HCQ!I44+HOV!I44+HILL!I44","v":1},{"$f":"HLS!J42+HCQ!J44+HOV!J44+HILL!J44","v":0},{"$f":"HLS!K42+HCQ!K44+HOV!K44+HILL!K44","v":0},{"$f":"HLS!L42+HCQ!L44+HOV!L44+HILL!L44","v":0},{"$nulls":4},1]
[null,"09600132",null,"FERULIZACIÓN",null,{"$f":"HLS!E43+HCQ!E45+HOV!E45+HILL!E45","v":7},{"$f":"HLS!F43+HCQ!F45+HOV!F45+HILL!F45","v":4},{"$f":"HLS!G43+HCQ!G45+HOV!G45+HILL!G45","v":10},{"$f":"HLS!H43+HCQ!H45+HOV!H45+HILL!H45","v":7},{"$f":"HLS!I43+HCQ!I45+HOV!I45+HILL!I45","v":11},{"$f":"HLS!J43+HCQ!J45+HOV!J45+HILL!J45","v":4},{"$f":"HLS!K43+HCQ!K45+HOV!K45+HILL!K45","v":7},{"$f":"HLS!L43+HCQ!L45+HOV!L45+HILL!L45","v":4},{"$nulls":4},54]
[null,"09203425",null,"REHABILITACIÓN MEDIANTE PRÓTESIS REMOVIBLE ACRÍLICA PARCIAL O TOTAL",null,{"$f":"HLS!E44+HCQ!E46+HOV!E46+HILL!E46","v":848},{"$f":"HLS!F44+HCQ!F46+HOV!F46+HILL!F46","v":607},{"$f":"HLS!G44+HCQ!G46+HOV!G46+HILL!G46","v":1093},{"$f":"HLS!H44+HCQ!H46+HOV!H46+HILL!H46","v":1048},{"$f":"HLS!I44+HCQ!I46+HOV!I46+HILL!I46","v":617},{"$f":"HLS!J44+HCQ!J46+HOV!J46+HILL!J46","v":733},{"$f":"HLS!K44+HCQ!K46+HOV!K46+HILL!K46","v":503},{"$f":"HLS!L44+HCQ!L46+HOV!L46+HILL!L46","v":839},{"$nulls":4},6288]
[null,"09203435",null,"REHABILITACIÓN MEDIANTE PRÓTESIS REMOVIBLE METÁLICA PARCIAL",null,{"$f":"HLS!E45+HCQ!E47+HOV!E47+HILL!E47","v":0},{"$f":"HLS!F45+HCQ!F47+HOV!F47+HILL!F47","v":4},{"$f":"HLS!G45+HCQ!G47+HOV!G47+HILL!G47","v":2},{"$f":"HLS!H45+HCQ!H47+HOV!H47+HILL!H47","v":0},{"$f":"HLS!I45+HCQ!I47+HOV!I47+HILL!I47","v":11},{"$f":"HLS!J45+HCQ!J47+HOV!J47+HILL!J47","v":0},{"$f":"HLS!K45+HCQ!K47+HOV!K47+HILL!K47","v":1},{"$f":"HLS!L45+HCQ!L47+HOV!L47+HILL!L47","v":1},{"$nulls":4},19]
[null,"09203313",null,"REHABILITACIÓN MEDIANTE PRÓTESIS FIJA UNITARIA O PLURAL",null,{"$f":"HLS!E46+HCQ!E48+HOV!E48+HILL!E48","v":0},{"$f":"HLS!F46+HCQ!F48+HOV!F48+HILL!F48","v":4},{"$f":"HLS!G46+HCQ!G48+HOV!G48+HILL!G48","v":6},{"$f":"HLS!H46+HCQ!H48+HOV!H48+HILL!H48","v":5},{"$f":"HLS!I46+HCQ!I48+HOV!I48+HILL!I48","v":7},{"$f":"HLS!J46+HCQ!J48+HOV!J48+HILL!J48","v":3},{"$f":"HLS!K46+HCQ!K48+HOV!K48+HILL!K48","v":5},{"$f":"HLS!L46+HCQ!L48+HOV!L48+HILL!L48","v":9},{"$nulls":4},39]
[null,"09600133",null,"REHABILITACIÓN MEDIANTE PRÓTESIS FIJA IMPLANTOASISTIDA",null,{"$f":"HLS!E47+HCQ!E49+HOV!E49+HILL!E49","v":13},{"$f":"HLS!F47+HCQ!F49+HOV!F49+HILL!F49","v":10},{"$f":"HLS!G47+HCQ!G49+HOV!G49+HILL!G49","v":48},{"$f":"HLS!H47+HCQ!H49+HOV!H49+HILL!H49","v":83},{"$f":"HLS!I47+HCQ!I49+HOV!I49+HILL!I49","v":9},{"$f":"HLS!J47+HCQ!J49+HOV!J49+HILL!J49","v":47},{"$f":"HLS!K47+HCQ!K49+HOV!K49+HILL!K49","v":27},{"$f":"HLS!L47+HCQ!L49+HOV!L49+HILL!L49","v":37},{"$nulls":4},274]
[null,"09600134",null,"REHABILITACIÓN MEDIANTE PRÓTESIS MUCO-  IMPLANTOASISTIDA",null,{"$f":"HLS!E48+HCQ!E50+HOV!E50+HILL!E50","v":18},{"$f":"HLS!F48+HCQ!F50+HOV!F50+HILL!F50","v":7},{"$f":"HLS!G48+HCQ!G50+HOV!G50+HILL!G50","v":41},{"$f":"HLS!H48+HCQ!H50+HOV!H50+HILL!H50","v":31},{"$f":"HLS!I48+HCQ!I50+HOV!I50+HILL!I50","v":2},{"$f":"HLS!J48+HCQ!J50+HOV!J50+HILL!J50","v":21},{"$f":"HLS!K48+HCQ!K50+HOV!K50+HILL!K50","v":26},{"$f":"HLS!L48+HCQ!L50+HOV!L50+HILL!L50","v":21},{"$nulls":4},167]
[null,"09306000",null,"REPARACIÓN DE PRÓTESIS",null,{"$f":"HLS!E49+HCQ!E51+HOV!E51+HILL!E51","v":204},{"$f":"HLS!F49+HCQ!F51+HOV!F51+HILL!F51","v":124},{"$f":"HLS!G49+HCQ!G51+HOV!G51+HILL!G51","v":188},{"$f":"HLS!H49+HCQ!H51+HOV!H51+HILL!H51","v":248},{"$f":"HLS!I49+HCQ!I51+HOV!I51+HILL!I51","v":279},{"$f":"HLS!J49+HCQ!J51+HOV!J51+HILL!J51","v":194},{"$f":"HLS!K49+HCQ!K51+HOV!K51+HILL!K51","v":145},{"$f":"HLS!L49+HCQ!L51+HOV!L51+HILL!L51","v":245},{"$nulls":4},1627]
[null,"09600135",null,"IMPLANTOLOGÍA QUIRÚRGICA",null,{"$f":"HLS!E50+HCQ!E52+HOV!E52+HILL!E52","v":11},{"$f":"HLS!F50+HCQ!F52+HOV!F52+HILL!F52","v":4},{"$f":"HLS!G50+HCQ!G52+HOV!G52+HILL!G52","v":4},{"$f":"HLS!H50+HCQ!H52+HOV!H52+HILL!H52","v":2},{"$f":"HLS!I50+HCQ!I52+HOV!I52+HILL!I52","v":8},{"$f":"HLS!J50+HCQ!J52+HOV!J52+HILL!J52","v":15},{"$f":"HLS!K50+HCQ!K52+HOV!K52+HILL!K52","v":12},{"$f":"HLS!L50+HCQ!L52+HOV!L52+HILL!L52","v":26},{"$nulls":4},82]
[null,"09600137",null,"TOMA DE BIOPSIA",null,{"$f":"HLS!E51+HCQ!E53+HOV!E53+HILL!E53","v":7},{"$f":"HLS!F51+HCQ!F53+HOV!F53+HILL!F53","v":2},{"$f":"HLS!G51+HCQ!G53+HOV!G53+HILL!G53","v":8},{"$f":"HLS!H51+HCQ!H53+HOV!H53+HILL!H53","v":11},{"$f":"HLS!I51+HCQ!I53+HOV!I53+HILL!I53","v":9},{"$f":"HLS!J51+HCQ!J53+HOV!J53+HILL!J53","v":4},{"$f":"HLS!K51+HCQ!K53+HOV!K53+HILL!K53","v":1},{"$f":"HLS!L51+HCQ!L53+HOV!L53+HILL!L53","v":12},{"$nulls":4},54]
[null,"09600138",null,"ESTUDIO HISTOPATOLÓGICO",null,{"$f":"HLS!E52+HCQ!E54+HOV!E54+HILL!E54","v":6},{"$f":"HLS!F52+HCQ!F54+HOV!F54+HILL!F54","v":6},{"$f":"HLS!G52+HCQ!G54+HOV!G54+HILL!G54","v":4},{"$f":"HLS!H52+HCQ!H54+HOV!H54+HILL!H54","v":12},{"$f":"HLS!I52+HCQ!I54+HOV!I54+HILL!I54","v":14},{"$f":"HLS!J52+HCQ!J54+HOV!J54+HILL!J54","v":6},{"$f":"HLS!K52+HCQ!K54+HOV!K54+HILL!K54","v":6},{"$f":"HLS!L52+HCQ!L54+HOV!L54+HILL!L54","v":8},{"$nulls":4},62]
[null,"09600139",null,"SIALOMETRÍA",null,{"$f":"HLS!E53+HCQ!E55+HOV!E55+HILL!E55","v":0},{"$f":"HLS!F53+HCQ!F55+HOV!F55+HILL!F55","v":0},{"$f":"HLS!G53+HCQ!G55+HOV!G55+HILL!G55","v":0},{"$f":"HLS!H53+HCQ!H55+HOV!H55+HILL!H55","v":0},{"$f":"HLS!I53+HCQ!I55+HOV!I55+HILL!I55","v":0},{"$f":"HLS!J53+HCQ!J55+HOV!J55+HILL!J55","v":0},{"$f":"HLS!K53+HCQ!K55+HOV!K55+HILL!K55","v":0},{"$f":"HLS!L53+HCQ!L55+HOV!L55+HILL!L55","v":0},{"$nulls":4},0]
[null,"09600140",null,"TERAPIA FARMACOLÓGICA DE LESIONES DEL TERRITORIO ORAL Y MAXILOFACIAL",null,{"$f":"HLS!E54+HCQ!E56+HOV!E56+HILL!E56","v":221},{"$f":"HLS!F54+HCQ!F56+HOV!F56+HILL!F56","v":151},{"$f":"HLS!G54+HCQ!G56+HOV!G56+HILL!G56","v":327},{"$f":"HLS!H54+HCQ!H56+HOV!H56+HILL!H56","v":279},{"$f":"HLS!I54+HCQ!I56+HOV!I56+HILL!I56","v":254},{"$f":"HLS!J54+HCQ!J56+HOV!J56+HILL!J56","v":135},{"$f":"HLS!K54+HCQ!K56+HOV!K56+HILL!K56","v":122},{"$f":"HLS!L54+HCQ!L56+HOV!L56+HILL!L56","v":178},{"$nulls":4},1667]
[null,"09600316",null,"TERAPIA NO FARMACOLÓGICA DE LESIONES DEL TERRITORIO ORAL Y MAXILOFACIAL",null,{"$f":"HLS!E55+HCQ!E57+HOV!E57+HILL!E57","v":534},{"$f":"HLS!F55+HCQ!F57+HOV!F57+HILL!F57","v":464},{"$f":"HLS!G55+HCQ!G57+HOV!G57+HILL!G57","v":688},{"$f":"HLS!H55+HCQ!H57+HOV!H57+HILL!H57","v":668},{"$f":"HLS!I55+HCQ!I57+HOV!I57+HILL!I57","v":729},{"$f":"HLS!J55+HCQ!J57+HOV!J57+HILL!J57","v":738},{"$f":"HLS!K55+HCQ!K57+HOV!K57+HILL!K57","v":437},{"$f":"HLS!L55+HCQ!L57+HOV!L57+HILL!L57","v":818},{"$nulls":4},5076]
[null,"09600317",null,"ESTUDIO CLÍNICO LESIONES DEL TERRITORIO ORAL MAXILOFACIAL",null,{"$f":"HLS!E56+HCQ!E58+HOV!E58+HILL!E58","v":132},{"$f":"HLS!F56+HCQ!F58+HOV!F58+HILL!F58","v":42},{"$f":"HLS!G56+HCQ!G58+HOV!G58+HILL!G58","v":95},{"$f":"HLS!H56+HCQ!H58+HOV!H58+HILL!H58","v":96},{"$f":"HLS!I56+HCQ!I58+HOV!I58+HILL!I58","v":132},{"$f":"HLS!J56+HCQ!J58+HOV!J58+HILL!J58","v":116},{"$f":"HLS!K56+HCQ!K58+HOV!K58+HILL!K58","v":90},{"$f":"HLS!L56+HCQ!L58+HOV!L58+HILL!L58","v":62},{"$nulls":4},765]
[null,"09600141",null,"TERAPIA FÍSICA EN TRASTORNOS TEMPOROMANDIBULARES (TTM) Y DOLOR OROFACIAL (DOF)",null,{"$f":"HLS!E57+HCQ!E59+HOV!E59+HILL!E59","v":34},{"$f":"HLS!F57+HCQ!F59+HOV!F59+HILL!F59","v":24},{"$f":"HLS!G57+HCQ!G59+HOV!G59+HILL!G59","v":48},{"$f":"HLS!H57+HCQ!H59+HOV!H59+HILL!H59","v":62},{"$f":"HLS!I57+HCQ!I59+HOV!I59+HILL!I59","v":75},{"$f":"HLS!J57+HCQ!J59+HOV!J59+HILL!J59","v":58},{"$f":"HLS!K57+HCQ!K59+HOV!K59+HILL!K59","v":41},{"$f":"HLS!L57+HCQ!L59+HOV!L59+HILL!L59","v":47},{"$nulls":4},389]
[null,"09600142",null,"INFILTRACIÓN EN ARTICULACIÓN TEMPORO MANDIBULAR (ATM)",null,{"$f":"HLS!E58+HCQ!E60+HOV!E60+HILL!E60","v":24},{"$f":"HLS!F58+HCQ!F60+HOV!F60+HILL!F60","v":14},{"$f":"HLS!G58+HCQ!G60+HOV!G60+HILL!G60","v":39},{"$f":"HLS!H58+HCQ!H60+HOV!H60+HILL!H60","v":37},{"$f":"HLS!I58+HCQ!I60+HOV!I60+HILL!I60","v":62},{"$f":"HLS!J58+HCQ!J60+HOV!J60+HILL!J60","v":73},{"$f":"HLS!K58+HCQ!K60+HOV!K60+HILL!K60","v":42},{"$f":"HLS!L58+HCQ!L60+HOV!L60+HILL!L60","v":40},{"$nulls":4},331]
[null,"09600143",null,"BLOQUEO ANESTÉSICO Y/O MEDICAMENTOSO EN TTM Y DOF",null,{"$f":"HLS!E59+HCQ!E61+HOV!E61+HILL!E61","v":77},{"$f":"HLS!F59+HCQ!F61+HOV!F61+HILL!F61","v":34},{"$f":"HLS!G59+HCQ!G61+HOV!G61+HILL!G61","v":75},{"$f":"HLS!H59+HCQ!H61+HOV!H61+HILL!H61","v":106},{"$f":"HLS!I59+HCQ!I61+HOV!I61+HILL!I61","v":134},{"$f":"HLS!J59+HCQ!J61+HOV!J61+HILL!J61","v":132},{"$f":"HLS!K59+HCQ!K61+HOV!K61+HILL!K61","v":80},{"$f":"HLS!L59+HCQ!L61+HOV!L61+HILL!L61","v":78},{"$nulls":4},716]
[null,"09600144",null,"ARTROCENTESIS EN ATM",null,{"$f":"HLS!E60+HCQ!E62+HOV!E62+HILL!E62","v":46},{"$f":"HLS!F60+HCQ!F62+HOV!F62+HILL!F62","v":14},{"$f":"HLS!G60+HCQ!G62+HOV!G62+HILL!G62","v":51},{"$f":"HLS!H60+HCQ!H62+HOV!H62+HILL!H62","v":39},{"$f":"HLS!I60+HCQ!I62+HOV!I62+HILL!I62","v":49},{"$f":"HLS!J60+HCQ!J62+HOV!J62+HILL!J62","v":43},{"$f":"HLS!K60+HCQ!K62+HOV!K62+HILL!K62","v":19},{"$f":"HLS!L60+HCQ!L62+HOV!L62+HILL!L62","v":27},{"$nulls":4},288]
[null,"09600145",null,"TERAPIA BIOCONDUCTUAL",null,{"$f":"HLS!E61+HCQ!E63+HOV!E63+HILL!E63","v":101},{"$f":"HLS!F61+HCQ!F63+HOV!F63+HILL!F63","v":51},{"$f":"HLS!G61+HCQ!G63+HOV!G63+HILL!G63","v":75},{"$f":"HLS!H61+HCQ!H63+HOV!H63+HILL!H63","v":92},{"$f":"HLS!I61+HCQ!I63+HOV!I63+HILL!I63","v":65},{"$f":"HLS!J61+HCQ!J63+HOV!J63+HILL!J63","v":57},{"$f":"HLS!K61+HCQ!K63+HOV!K63+HILL!K63","v":55},{"$f":"HLS!L61+HCQ!L63+HOV!L63+HILL!L63","v":64},{"$nulls":4},560]
[null,"09600146",null,"DESGASTE SELECTIVO",null,{"$f":"HLS!E62+HCQ!E64+HOV!E64+HILL!E64","v":28},{"$f":"HLS!F62+HCQ!F64+HOV!F64+HILL!F64","v":10},{"$f":"HLS!G62+HCQ!G64+HOV!G64+HILL!G64","v":27},{"$f":"HLS!H62+HCQ!H64+HOV!H64+HILL!H64","v":54},{"$f":"HLS!I62+HCQ!I64+HOV!I64+HILL!I64","v":69},{"$f":"HLS!J62+HCQ!J64+HOV!J64+HILL!J64","v":59},{"$f":"HLS!K62+HCQ!K64+HOV!K64+HILL!K64","v":41},{"$f":"HLS!L62+HCQ!L64+HOV!L64+HILL!L64","v":59},{"$nulls":4},347]
[null,"09600147",null,"INSTALACIÓN DE DISPOSITIVO ORTOPÉDICO",null,{"$f":"HLS!E63+HCQ!E65+HOV!E65+HILL!E65","v":33},{"$f":"HLS!F63+HCQ!F65+HOV!F65+HILL!F65","v":6},{"$f":"HLS!G63+HCQ!G65+HOV!G65+HILL!G65","v":34},{"$f":"HLS!H63+HCQ!H65+HOV!H65+HILL!H65","v":10},{"$f":"HLS!I63+HCQ!I65+HOV!I65+HILL!I65","v":48},{"$f":"HLS!J63+HCQ!J65+HOV!J65+HILL!J65","v":47},{"$f":"HLS!K63+HCQ!K65+HOV!K65+HILL!K65","v":28},{"$f":"HLS!L63+HCQ!L65+HOV!L65+HILL!L65","v":32},{"$nulls":4},238]
[null,"09600148",null,"ACTIVIDADES SOMATOPRÓTESIS",null,{"$f":"HLS!E64+HCQ!E66+HOV!E66+HILL!E66","v":6},{"$f":"HLS!F64+HCQ!F66+HOV!F66+HILL!F66","v":1},{"$f":"HLS!G64+HCQ!G66+HOV!G66+HILL!G66","v":5},{"$f":"HLS!H64+HCQ!H66+HOV!H66+HILL!H66","v":5},{"$f":"HLS!I64+HCQ!I66+HOV!I66+HILL!I66","v":4},{"$f":"HLS!J64+HCQ!J66+HOV!J66+HILL!J66","v":3},{"$f":"HLS!K64+HCQ!K66+HOV!K66+HILL!K66","v":1},{"$f":"HLS!L64+HCQ!L66+HOV!L66+HILL!L66","v":4},{"$nulls":4},29]
[null,"09600318",null,"REHABILITACIÓN DE PRÓTESIS MAXILOFACIAL",null,{"$f":"HLS!E65+HCQ!E67+HOV!E67+HILL!E67","v":1},{"$f":"HLS!F65+HCQ!F67+HOV!F67+HILL!F67","v":0},{"$f":"HLS!G65+HCQ!G67+HOV!G67+HILL!G67","v":3},{"$f":"HLS!H65+HCQ!H67+HOV!H67+HILL!H67","v":1},{"$f":"HLS!I65+HCQ!I67+HOV!I67+HILL!I67","v":0},{"$f":"HLS!J65+HCQ!J67+HOV!J67+HILL!J67","v":0},{"$f":"HLS!K65+HCQ!K67+HOV!K67+HILL!K67","v":0},{"$f":"HLS!L65+HCQ!L67+HOV!L67+HILL!L67","v":0},{"$nulls":4},5]
[{"$nulls":3},"TOTAL",null,{"$f":"SUM(F14:F67)","v":9076},{"$f":"SUM(G14:G67)","v":5409},10718,9506,9279,9097,7487,10396,0,0,0,0,70968]
[]
[]
[{"$nulls":3},"ACTIVIDADES DE ESPECIALIDADES",null,"Enero","Febrero","Marzo","Abril","Mayo","Junio","Julio","Agosto","Septiembre","Octubre","Noviembre","Diciembre","Total"]
[null,"09600149",null,"RADIOGRAFÍA INTRAORAL MEDIANTE TÉCNICAS RETROALVEOLARES (POR PLACA)",null,{"$f":"HLS!E70+HCQ!E72+HOV!E72+HILL!E72","v":796},{"$f":"HLS!F70+HCQ!F72+HOV!F72+HILL!F72","v":677},{"$f":"HLS!G70+HCQ!G72+HOV!G72+HILL!G72","v":1036},{"$f":"HLS!H70+HCQ!H72+HOV!H72+HILL!H72","v":898},{"$f":"HLS!I70+HCQ!I72+HOV!I72+HILL!I72","v":860},{"$f":"HLS!J70+HCQ!J72+HOV!J72+HILL!J72","v":772},{"$nulls":6},{"$f":"SUM(F72:Q72)","v":5039}]
[null,"09600319",null,"RADIOGRAFÍA INTRAORAL MEDIANTE TÉCNICAS BITE WING (POR PLACA)",null,{"$f":"HLS!E71+HCQ!E73+HOV!E73+HILL!E73","v":59},{"$f":"HLS!F71+HCQ!F73+HOV!F73+HILL!F73","v":34},{"$f":"HLS!G71+HCQ!G73+HOV!G73+HILL!G73","v":57},{"$f":"HLS!H71+HCQ!H73+HOV!H73+HILL!H73","v":48},{"$f":"HLS!I71+HCQ!I73+HOV!I73+HILL!I73","v":64},{"$f":"HLS!J71+HCQ!J73+HOV!J73+HILL!J73","v":81},{"$nulls":6},{"$f":"SUM(F73:Q73)","v":343}]
[null,"09203913",null,"RADIOGRAFÍA EXTRAORAL (POR PLACA)",null,{"$f":"HLS!E72+HCQ!E74+HOV!E74+HILL!E74","v":1},{"$f":"HLS!F72+HCQ!F74+HOV!F74+HILL!F74","v":0},{"$f":"HLS!G72+HCQ!G74+HOV!G74+HILL!G74","v":0},{"$f":"HLS!H72+HCQ!H74+HOV!H74+HILL!H74","v":1},{"$f":"HLS!I72+HCQ!I74+HOV!I74+HILL!I74","v":0},{"$f":"HLS!J72+HCQ!J74+HOV!J74+HILL!J74","v":0},{"$nulls":6},2]
[null,"09306200",null,"RADIOGRAFÍA OCLUSAL (POR PLACA)",null,{"$f":"HLS!E73+HCQ!E75+HOV!E75+HILL!E75","v":0},{"$f":"HLS!F73+HCQ!F75+HOV!F75+HILL!F75","v":0},{"$f":"HLS!G73+HCQ!G75+HOV!G75+HILL!G75","v":1},{"$f":"HLS!H73+HCQ!H75+HOV!H75+HILL!H75","v":0},{"$f":"HLS!I73+HCQ!I75+HOV!I75+HILL!I75","v":2},{"$f":"HLS!J73+HCQ!J75+HOV!J75+HILL!J75","v":0},{"$nulls":6},3]
[null,"09306300",null,"TELERRADIOGRAFÍA (POR PLACA)",null,{"$f":"HLS!E74+HCQ!E76+HOV!E76+HILL!E76","v":89},{"$f":"HLS!F74+HCQ!F76+HOV!F76+HILL!F76","v":72},{"$f":"HLS!G74+HCQ!G76+HOV!G76+HILL!G76","v":74},{"$f":"HLS!H74+HCQ!H76+HOV!H76+HILL!H76","v":57},{"$f":"HLS!I74+HCQ!I76+HOV!I76+HILL!I76","v":47},{"$f":"HLS!J74+HCQ!J76+HOV!J76+HILL!J76","v":22},{"$nulls":6},361]
[null,"09306400",null,"RADIOGRAFÍA PANORÁMICA (POR PLACA)",null,{"$f":"HLS!E75+HCQ!E77+HOV!E77+HILL!E77","v":405},{"$f":"HLS!F75+HCQ!F77+HOV!F77+HILL!F77","v":234},{"$f":"HLS!G75+HCQ!G77+HOV!G77+HILL!G77","v":270},{"$f":"HLS!H75+HCQ!H77+HOV!H77+HILL!H77","v":254},{"$f":"HLS!I75+HCQ!I77+HOV!I77+HILL!I77","v":155},{"$f":"HLS!J75+HCQ!J77+HOV!J77+HILL!J77","v":113},{"$nulls":6},1431]
[null,"09306500",null,"TOMOGRAFÍA COMPUTACIONAL MAXILO FACIAL CONE BEAM (POR ADQUISICIÓN)",null,{"$f":"HLS!E76+HCQ!E78+HOV!E78+HILL!E78","v":136},{"$f":"HLS!F76+HCQ!F78+HOV!F78+HILL!F78","v":114},{"$f":"HLS!G76+HCQ!G78+HOV!G78+HILL!G78","v":151},{"$f":"HLS!H76+HCQ!H78+HOV!H78+HILL!H78","v":106},{"$f":"HLS!I76+HCQ!I78+HOV!I78+HILL!I78","v":72},{"$f":"HLS!J76+HCQ!J78+HOV!J78+HILL!J78","v":94},{"$nulls":6},673]
[null,"09204013",null,"SIALOGRAFÍAS (POR PROCEDIMIENTO)",null,{"$f":"HLS!E77+HCQ!E79+HOV!E79+HILL!E79","v":0},{"$f":"HLS!F77+HCQ!F79+HOV!F79+HILL!F79","v":0},{"$f":"HLS!G77+HCQ!G79+HOV!G79+HILL!G79","v":0},{"$f":"HLS!H77+HCQ!H79+HOV!H79+HILL!H79","v":0},{"$f":"HLS!I77+HCQ!I79+HOV!I79+HILL!I79","v":0},{"$f":"HLS!J77+HCQ!J79+HOV!J79+HILL!J79","v":0},{"$nulls":6},0]
[null,"09600150",null,"PROCEDIMIENTO IMAGENOLÓGICO COMPLEJO (POR PROCEDIMIENTO)",null,{"$f":"HLS!E78+HCQ!E80+HOV!E80+HILL!E80","v":0},{"$f":"HLS!F78+HCQ!F80+HOV!F80+HILL!F80","v":0},{"$f":"HLS!G78+HCQ!G80+HOV!G80+HILL!G80","v":0},{"$f":"HLS!H78+HCQ!H80+HOV!H80+HILL!H80","v":0},{"$f":"HLS!I78+HCQ!I80+HOV!I80+HILL!I80","v":0},{"$f":"HLS!J78+HCQ!J80+HOV!J80+HILL!J80","v":387},{"$nulls":6},387]
[{"$nulls":3},"TOTAL",null,{"$f":"SUM(F72:F80)","v":1486},1131,1589,1364,1200,1469,0,0,0,0,0,0,8239]
[]
[]
[null,null,"ESPECIALIDAD Y TIPO DE INGRESO O EGRESO","Tipo de Ingreso",null,"Enero","Febrero","Marzo","Abril","Mayo","Junio","Julio","Agosto","Septiembre","Octubre","Noviembre","Diciembre","Total"]
[null,"09240700","CONSULTAS DE URGENCIA","CONSULTAS GES",null,{"$f":"HLS!E83+HCQ!E85+HOV!E85+HILL!E85","v":61},{"$f":"HLS!F83+HCQ!F85+HOV!F85+HILL!F85","v":56},{"$f":"HLS!G83+HCQ!G85+HOV!G85+HILL!G85","v":71},{"$f":"HLS!H83+HCQ!H85+HOV!H85+HILL!H85","v":65},{"$f":"HLS!I83+HCQ!I85+HOV!I85+HILL!I85","v":78},{"$f":"HLS!J83+HCQ!J85+HOV!J85+HILL!J85","v":33},{"$nulls":6},{"$f":"SUM(F85:Q85)","v":364}]
[null,"09600325",null,"CONSULTA NO GES",null,{"$f":"HLS!E84+HCQ!E86+HOV!E86+HILL!E86","v":86},{"$f":"HLS!F84+HCQ!F86+HOV!F86+HILL!F86","v":76},{"$f":"HLS!G84+HCQ!G86+HOV!G86+HILL!G86","v":114},{"$f":"HLS!H84+HCQ!H86+HOV!H86+HILL!H86","v":63},{"$f":"HLS!I84+HCQ!I86+HOV!I86+HILL!I86","v":83},{"$f":"HLS!J84+HCQ!J86+HOV!J86+HILL!J86","v":59},{"$nulls":6},{"$f":"SUM(F86:Q86)","v":481}]
[null,"09600155","CIRUGÍA BUCAL","CONSULTA NUEVA ",null,{"$f":"HLS!E85+HCQ!E87+HOV!E87+HILL!E87","v":29},{"$f":"HLS!F85+HCQ!F87+HOV!F87+HILL!F87","v":28},{"$f":"HLS!G85+HCQ!G87+HOV!G87+HILL!G87","v":47},{"$f":"HLS!H85+HCQ!H87+HOV!H87+HILL!H87","v":27},{"$f":"HLS!I85+HCQ!I87+HOV!I87+HILL!I87","v":61},{"$f":"HLS!J85+HCQ!J87+HOV!J87+HILL!J87","v":49},{"$nulls":6},241]
[null,"09600156",null,"CONTROL ",null,{"$f":"HLS!E86+HCQ!E88+HOV!E88+HILL!E88","v":106},{"$f":"HLS!F86+HCQ!F88+HOV!F88+HILL!F88","v":95},{"$f":"HLS!G86+HCQ!G88+HOV!G88+HILL!G88","v":120},{"$f":"HLS!H86+HCQ!H88+HOV!H88+HILL!H88","v":59},{"$f":"HLS!I86+HCQ!I88+HOV!I88+HILL!I88","v":140},{"$f":"HLS!J86+HCQ!J88+HOV!J88+HILL!J88","v":135},{"$nulls":6},655]
[null,"09216113",null,"INGRESOS A TRATAMIENTO",null,{"$f":"HLS!E87+HCQ!E89+HOV!E89+HILL!E89","v":28},{"$f":"HLS!F87+HCQ!F89+HOV!F89+HILL!F89","v":28},{"$f":"HLS!G87+HCQ!G89+HOV!G89+HILL!G89","v":47},{"$f":"HLS!H87+HCQ!H89+HOV!H89+HILL!H89","v":26},{"$f":"HLS!I87+HCQ!I89+HOV!I89+HILL!I89","v":62},{"$f":"HLS!J87+HCQ!J89+HOV!J89+HILL!J89","v":46},{"$nulls":6},237]
[null,"09216213",null,"ALTAS DE TRATAMIENTO",null,{"$f":"HLS!E88+HCQ!E90+HOV!E90+HILL!E90","v":36},{"$f":"HLS!F88+HCQ!F90+HOV!F90+HILL!F90","v":22},{"$f":"HLS!G88+HCQ!G90+HOV!G90+HILL!G90","v":41},{"$f":"HLS!H88+HCQ!H90+HOV!H90+HILL!H90","v":25},{"$f":"HLS!I88+HCQ!I90+HOV!I90+HILL!I90","v":44},{"$f":"HLS!J88+HCQ!J90+HOV!J90+HILL!J90","v":38},{"$nulls":6},206]
[null,"09600326",null,"CONTROL DE ESPECIALIDAD POST ALTA",null,{"$f":"HLS!E89+HCQ!E91+HOV!E91+HILL!E91","v":51},{"$f":"HLS!F89+HCQ!F91+HOV!F91+HILL!F91","v":49},{"$f":"HLS!G89+HCQ!G91+HOV!G91+HILL!G91","v":41},{"$f":"HLS!H89+HCQ!H91+HOV!H91+HILL!H91","v":32},{"$f":"HLS!I89+HCQ!I91+HOV!I91+HILL!I91","v":57},{"$f":"HLS!J89+HCQ!J91+HOV!J91+HILL!J91","v":58},{"$nulls":6},288]
[null,"09600157",null,"ALTAS ADMINISTRATIVAS",null,{"$f":"HLS!E90+HCQ!E92+HOV!E92+HILL!E92","v":0},{"$f":"HLS!F90+HCQ!F92+HOV!F92+HILL!F92","v":0},{"$f":"HLS!G90+HCQ!G92+HOV!G92+HILL!G92","v":0},{"$f":"HLS!H90+HCQ!H92+HOV!H92+HILL!H92","v":0},{"$f":"HLS!I90+HCQ!I92+HOV!I92+HILL!I92","v":0},{"$f":"HLS!J90+HCQ!J92+HOV!J92+HILL!J92","v":0},{"$nulls":6},0]
[null,"09600158","CIRUGÍA Y TRAUMATOLOGÍA MAXILOFACIAL","CONSULTA NUEVA ",null,{"$f":"HLS!E91+HCQ!E93+HOV!E93+HILL!E93","v":201},{"$f":"HLS!F91+HCQ!F93+HOV!F93+HILL!F93","v":171},{"$f":"HLS!G91+HCQ!G93+HOV!G93+HILL!G93","v":213},{"$f":"HLS!H91+HCQ!H93+HOV!H93+HILL!H93","v":236},{"$f":"HLS!I91+HCQ!I93+HOV!I93+HILL!I93","v":300},{"$f":"HLS!J91+HCQ!J93+HOV!J93+HILL!J93","v":263},{"$nulls":6},1384]
[null,"09600159",null,"CONTROL ",null,{"$f":"HLS!E92+HCQ!E94+HOV!E94+HILL!E94","v":477},{"$f":"HLS!F92+HCQ!F94+HOV!F94+HILL!F94","v":443},{"$f":"HLS!G92+HCQ!G94+HOV!G94+HILL!G94","v":517},{"$f":"HLS!H92+HCQ!H94+HOV!H94+HILL!H94","v":585},{"$f":"HLS!I92+HCQ!I94+HOV!I94+HILL!I94","v":578},{"$f":"HLS!J92+HCQ!J94+HOV!J94+HILL!J94","v":565},{"$nulls":6},3165]
[null,"09204953",null,"INGRESOS A TRATAMIENTO",null,{"$f":"HLS!E93+HCQ!E95+HOV!E95+HILL!E95","v":167},{"$f":"HLS!F93+HCQ!F95+HOV!F95+HILL!F95","v":149},{"$f":"HLS!G93+HCQ!G95+HOV!G95+HILL!G95","v":160},{"$f":"HLS!H93+HCQ!H95+HOV!H95+HILL!H95","v":211},{"$f":"HLS!I93+HCQ!I95+HOV!I95+HILL!I95","v":196},{"$f":"HLS!J93+HCQ!J95+HOV!J95+HILL!J95","v":167},{"$nulls":6},1050]
[null,"09204954",null,"ALTAS DE TRATAMIENTO",null,{"$f":"HLS!E94+HCQ!E96+HOV!E96+HILL!E96","v":119},{"$f":"HLS!F94+HCQ!F96+HOV!F96+HILL!F96","v":106},{"$f":"HLS!G94+HCQ!G96+HOV!G96+HILL!G96","v":160},{"$f":"HLS!H94+HCQ!H96+HOV!H96+HILL!H96","v":197},{"$f":"HLS!I94+HCQ!I96+HOV!I96+HILL!I96","v":163},{"$f":"HLS!J94+HCQ!J96+HOV!J96+HILL!J96","v":185},{"$nulls":6},930]
[null,"09600327",null,"CONTROL DE ESPECIALIDAD POST ALTA",null,{"$f":"HLS!E95+HCQ!E97+HOV!E97+HILL!E97","v":26},{"$f":"HLS!F95+HCQ!F97+HOV!F97+HILL!F97","v":43},{"$f":"HLS!G95+HCQ!G97+HOV!G97+HILL!G97","v":25},{"$f":"HLS!H95+HCQ!H97+HOV!H97+HILL!H97","v":35},{"$f":"HLS!I95+HCQ!I97+HOV!I97+HILL!I97","v":100},{"$f":"HLS!J95+HCQ!J97+HOV!J97+HILL!J97","v":104},{"$nulls":6},333]
[null,"09600160",null,"ALTAS ADMINISTRATIVAS",null,{"$f":"HLS!E96+HCQ!E98+HOV!E98+HILL!E98","v":0},{"$f":"HLS!F96+HCQ!F98+HOV!F98+HILL!F98","v":0},{"$f":"HLS!G96+HCQ!G98+HOV!G98+HILL!G98","v":0},{"$f":"HLS!H96+HCQ!H98+HOV!H98+HILL!H98","v":0},{"$f":"HLS!I96+HCQ!I98+HOV!I98+HILL!I98","v":3},{"$f":"HLS!J96+HCQ!J98+HOV!J98+HILL!J98","v":9},{"$nulls":6},12]
[null,"09600161","ENDODONCIA","CONSULTA NUEVA ",null,{"$f":"HLS!E97+HCQ!E99+HOV!E99+HILL!E99","v":285},{"$f":"HLS!F97+HCQ!F99+HOV!F99+HILL!F99","v":167},{"$f":"HLS!G97+HCQ!G99+HOV!G99+HILL!G99","v":401},{"$f":"HLS!H97+HCQ!H99+HOV!H99+HILL!H99","v":338},{"$f":"HLS!I97+HCQ!I99+HOV!I99+HILL!I99","v":400},{"$f":"HLS!J97+HCQ!J99+HOV!J99+HILL!J99","v":415},{"$nulls":6},2006]
[null,"09600162",null,"CONTROL ",null,{"$f":"HLS!E98+HCQ!E100+HOV!E100+HILL!E100","v":531},{"$f":"HLS!F98+HCQ!F100+HOV!F100+HILL!F100","v":300},{"$f":"HLS!G98+HCQ!G100+HOV!G100+HILL!G100","v":614},{"$f":"HLS!H98+HCQ!H100+HOV!H100+HILL!H100","v":585},{"$f":"HLS!I98+HCQ!I100+HOV!I100+HILL!I100","v":739},{"$f":"HLS!J98+HCQ!J100+HOV!J100+HILL!J100","v":636},{"$nulls":6},3405]
[null,"09216513",null,"INGRESOS A TRATAMIENTO",null,{"$f":"HLS!E99+HCQ!E101+HOV!E101+HILL!E101","v":215},{"$f":"HLS!F99+HCQ!F101+HOV!F101+HILL!F101","v":128},{"$f":"HLS!G99+HCQ!G101+HOV!G101+HILL!G101","v":292},{"$f":"HLS!H99+HCQ!H101+HOV!H101+HILL!H101","v":267},{"$f":"HLS!I99+HCQ!I101+HOV!I101+HILL!I101","v":320},{"$f":"HLS!J99+HCQ!J101+HOV!J101+HILL!J101","v":294},{"$nulls":6},1516]
[null,"09216613",null,"ALTAS DE TRATAMIENTO",null,{"$f":"HLS!E100+HCQ!E102+HOV!E102+HILL!E102","v":172},{"$f":"HLS!F100+HCQ!F102+HOV!F102+HILL!F102","v":92},{"$f":"HLS!G100+HCQ!G102+HOV!G102+HILL!G102","v":215},{"$f":"HLS!H100+HCQ!H102+HOV!H102+HILL!H102","v":196},{"$f":"HLS!I100+HCQ!I102+HOV!I102+HILL!I102","v":244},{"$f":"HLS!J100+HCQ!J102+HOV!J102+HILL!J102","v":239},{"$nulls":6},1158]
[null,"09600328",null,"CONTROL DE ESPECIALIDAD POST ALTA",null,{"$f":"HLS!E101+HCQ!E103+HOV!E103+HILL!E103","v":47},{"$f":"HLS!F101+HCQ!F103+HOV!F103+HILL!F103","v":17},{"$f":"HLS!G101+HCQ!G103+HOV!G103+HILL!G103","v":68},{"$f":"HLS!H101+HCQ!H103+HOV!H103+HILL!H103","v":67},{"$f":"HLS!I101+HCQ!I103+HOV!I103+HILL!I103","v":52},{"$f":"HLS!J101+HCQ!J103+HOV!J103+HILL!J103","v":69},{"$nulls":6},320]
[null,"09600163",null,"ALTAS ADMINISTRATIVAS",null,{"$f":"HLS!E102+HCQ!E104+HOV!E104+HILL!E104","v":2},{"$f":"HLS!F102+HCQ!F104+HOV!F104+HILL!F104","v":15},{"$f":"HLS!G102+HCQ!G104+HOV!G104+HILL!G104","v":4},{"$f":"HLS!H102+HCQ!H104+HOV!H104+HILL!H104","v":5},{"$f":"HLS!I102+HCQ!I104+HOV!I104+HILL!I104","v":2},{"$f":"HLS!J102+HCQ!J104+HOV!J104+HILL!J104","v":3},{"$nulls":6},31]
[null,"09600164","ODONTOPEDIATRÍA","CONSULTA NUEVA ",null,{"$f":"HLS!E103+HCQ!E105+HOV!E105+HILL!E105","v":111},{"$f":"HLS!F103+HCQ!F105+HOV!F105+HILL!F105","v":57},{"$f":"HLS!G103+HCQ!G105+HOV!G105+HILL!G105","v":123},{"$f":"HLS!H103+HCQ!H105+HOV!H105+HILL!H105","v":104},{"$f":"HLS!I103+HCQ!I105+HOV!I105+HILL!I105","v":137},{"$f":"HLS!J103+HCQ!J105+HOV!J105+HILL!J105","v":128},{"$nulls":6},660]
[null,"09600165",null,"CONTROL ",null,{"$f":"HLS!E104+HCQ!E106+HOV!E106+HILL!E106","v":376},{"$f":"HLS!F104+HCQ!F106+HOV!F106+HILL!F106","v":326},{"$f":"HLS!G104+HCQ!G106+HOV!G106+HILL!G106","v":597},{"$f":"HLS!H104+HCQ!H106+HOV!H106+HILL!H106","v":605},{"$f":"HLS!I104+HCQ!I106+HOV!I106+HILL!I106","v":765},{"$f":"HLS!J104+HCQ!J106+HOV!J106+HILL!J106","v":611},{"$nulls":6},3280]
[null,"09216913",null,"INGRESOS A TRATAMIENTO",null,{"$f":"HLS!E105+HCQ!E107+HOV!E107+HILL!E107","v":100},{"$f":"HLS!F105+HCQ!F107+HOV!F107+HILL!F107","v":83},{"$f":"HLS!G105+HCQ!G107+HOV!G107+HILL!G107","v":100},{"$f":"HLS!H105+HCQ!H107+HOV!H107+HILL!H107","v":98},{"$f":"HLS!I105+HCQ!I107+HOV!I107+HILL!I107","v":126},{"$f":"HLS!J105+HCQ!J107+HOV!J107+HILL!J107","v":112},{"$nulls":6},619]
[null,"09217013",null,"ALTAS DE TRATAMIENTO",null,{"$f":"HLS!E106+HCQ!E108+HOV!E108+HILL!E108","v":75},{"$f":"HLS!F106+HCQ!F108+HOV!F108+HILL!F108","v":76},{"$f":"HLS!G106+HCQ!G108+HOV!G108+HILL!G108","v":85},{"$f":"HLS!H106+HCQ!H108+HOV!H108+HILL!H108","v":102},{"$f":"HLS!I106+HCQ!I108+HOV!I108+HILL!I108","v":128},{"$f":"HLS!J106+HCQ!J108+HOV!J108+HILL!J108","v":125},{"$nulls":6},591]
[null,"09600329",null,"CONTROL DE ESPECIALIDAD POST ALTA",null,{"$f":"HLS!E107+HCQ!E109+HOV!E109+HILL!E109","v":13},{"$f":"HLS!F107+HCQ!F109+HOV!F109+HILL!F109","v":8},{"$f":"HLS!G107+HCQ!G109+HOV!G109+HILL!G109","v":21},{"$f":"HLS!H107+HCQ!H109+HOV!H109+HILL!H109","v":19},{"$f":"HLS!I107+HCQ!I109+HOV!I109+HILL!I109","v":14},{"$f":"HLS!J107+HCQ!J109+HOV!J109+HILL!J109","v":12},{"$nulls":6},87]
[null,"09600166",null,"ALTAS ADMINISTRATIVAS",null,{"$f":"HLS!E108+HCQ!E110+HOV!E110+HILL!E110","v":0},{"$f":"HLS!F108+HCQ!F110+HOV!F110+HILL!F110","v":0},{"$f":"HLS!G108+HCQ!G110+HOV!G110+HILL!G110","v":0},{"$f":"HLS!H108+HCQ!H110+HOV!H110+HILL!H110","v":0},{"$f":"HLS!I108+HCQ!I110+HOV!I110+HILL!I110","v":0},{"$f":"HLS!J108+HCQ!J110+HOV!J110+HILL!J110","v":1},{"$nulls":6},1]
[null,"09600167","OPERATORIA","CONSULTA NUEVA ",null,{"$f":"HLS!E109+HCQ!E111+HOV!E111+HILL!E111","v":27},{"$f":"HLS!F109+HCQ!F111+HOV!F111+HILL!F111","v":19},{"$f":"HLS!G109+HCQ!G111+HOV!G111+HILL!G111","v":18},{"$f":"HLS!H109+HCQ!H111+HOV!H111+HILL!H111","v":12},{"$f":"HLS!I109+HCQ!I111+HOV!I111+HILL!I111","v":22},{"$f":"HLS!J109+HCQ!J111+HOV!J111+HILL!J111","v":19},{"$nulls":6},117]
[null,"09600168",null,"CONTROL ",null,{"$f":"HLS!E110+HCQ!E112+HOV!E112+HILL!E112","v":124},{"$f":"HLS!F110+HCQ!F112+HOV!F112+HILL!F112","v":81},{"$f":"HLS!G110+HCQ!G112+HOV!G112+HILL!G112","v":86},{"$f":"HLS!H110+HCQ!H112+HOV!H112+HILL!H112","v":103},{"$f":"HLS!I110+HCQ!I112+HOV!I112+HILL!I112","v":129},{"$f":"HLS!J110+HCQ!J112+HOV!J112+HILL!J112","v":71},{"$nulls":6},594]
[null,"09217413",null,"INGRESOS A TRATAMIENTO",null,{"$f":"HLS!E111+HCQ!E113+HOV!E113+HILL!E113","v":31},{"$f":"HLS!F111+HCQ!F113+HOV!F113+HILL!F113","v":20},{"$f":"HLS!G111+HCQ!G113+HOV!G113+HILL!G113","v":21},{"$f":"HLS!H111+HCQ!H113+HOV!H113+HILL!H113","v":16},{"$f":"HLS!I111+HCQ!I113+HOV!I113+HILL!I113","v":25},{"$f":"HLS!J111+HCQ!J113+HOV!J113+HILL!J113","v":22},{"$nulls":6},135]
[null,"09217513",null,"ALTAS DE TRATAMIENTO",null,{"$f":"HLS!E112+HCQ!E114+HOV!E114+HILL!E114","v":37},{"$f":"HLS!F112+HCQ!F114+HOV!F114+HILL!F114","v":24},{"$f":"HLS!G112+HCQ!G114+HOV!G114+HILL!G114","v":25},{"$f":"HLS!H112+HCQ!H114+HOV!H114+HILL!H114","v":21},{"$f":"HLS!I112+HCQ!I114+HOV!I114+HILL!I114","v":39},{"$f":"HLS!J112+HCQ!J114+HOV!J114+HILL!J114","v":28},{"$nulls":6},174]
[null,"09600330",null,"CONTROL DE ESPECIALIDAD POST ALTA",null,{"$f":"HLS!E113+HCQ!E115+HOV!E115+HILL!E115","v":9},{"$f":"HLS!F113+HCQ!F115+HOV!F115+HILL!F115","v":2},{"$f":"HLS!G113+HCQ!G115+HOV!G115+HILL!G115","v":0},{"$f":"HLS!H113+HCQ!H115+HOV!H115+HILL!H115","v":1},{"$f":"HLS!I113+HCQ!I115+HOV!I115+HILL!I115","v":5},{"$f":"HLS!J113+HCQ!J115+HOV!J115+HILL!J115","v":0},{"$nulls":6},17]
[null,"09600169",null,"ALTAS ADMINISTRATIVAS",null,{"$f":"HLS!E114+HCQ!E116+HOV!E116+HILL!E116","v":0},{"$f":"HLS!F114+HCQ!F116+HOV!F116+HILL!F116","v":0},{"$f":"HLS!G114+HCQ!G116+HOV!G116+HILL!G116","v":0},{"$f":"HLS!H114+HCQ!H116+HOV!H116+HILL!H116","v":0},{"$f":"HLS!I114+HCQ!I116+HOV!I116+HILL!I116","v":1},{"$f":"HLS!J114+HCQ!J116+HOV!J116+HILL!J116","v":0},{"$nulls":6},1]
[null,"09600170","ORTODONCIA Y ORTOPEDIA DENTO MAXILOFACIAL: APARATOLOGÍA FIJA","CONSULTA NUEVA ",null,{"$f":"HLS!E115+HCQ!E117+HOV!E117+HILL!E117","v":92},{"$f":"HLS!F115+HCQ!F117+HOV!F117+HILL!F117","v":51},{"$f":"HLS!G115+HCQ!G117+HOV!G117+HILL!G117","v":96},{"$f":"HLS!H115+HCQ!H117+HOV!H117+HILL!H117","v":95},{"$f":"HLS!I115+HCQ!I117+HOV!I117+HILL!I117","v":102},{"$f":"HLS!J115+HCQ!J117+HOV!J117+HILL!J117","v":102},{"$nulls":6},538]
[null,"09600171",null,"CONTROL ",null,{"$f":"HLS!E116+HCQ!E118+HOV!E118+HILL!E118","v":912},{"$f":"HLS!F116+HCQ!F118+HOV!F118+HILL!F118","v":643},{"$f":"HLS!G116+HCQ!G118+HOV!G118+HILL!G118","v":1056},{"$f":"HLS!H116+HCQ!H118+HOV!H118+HILL!H118","v":793},{"$f":"HLS!I116+HCQ!I118+HOV!I118+HILL!I118","v":1015},{"$f":"HLS!J116+HCQ!J118+HOV!J118+HILL!J118","v":967},{"$nulls":6},5386]
[null,"09217913",null,"INGRESOS A TRATAMIENTO",null,{"$f":"HLS!E117+HCQ!E119+HOV!E119+HILL!E119","v":45},{"$f":"HLS!F117+HCQ!F119+HOV!F119+HILL!F119","v":198},{"$f":"HLS!G117+HCQ!G119+HOV!G119+HILL!G119","v":99},{"$f":"HLS!H117+HCQ!H119+HOV!H119+HILL!H119","v":96},{"$f":"HLS!I117+HCQ!I119+HOV!I119+HILL!I119","v":83},{"$f":"HLS!J117+HCQ!J119+HOV!J119+HILL!J119","v":70},{"$nulls":6},591]
[null,"09218013",null,"ALTAS DE TRATAMIENTO",null,{"$f":"HLS!E118+HCQ!E120+HOV!E120+HILL!E120","v":43},{"$f":"HLS!F118+HCQ!F120+HOV!F120+HILL!F120","v":35},{"$f":"HLS!G118+HCQ!G120+HOV!G120+HILL!G120","v":31},{"$f":"HLS!H118+HCQ!H120+HOV!H120+HILL!H120","v":27},{"$f":"HLS!I118+HCQ!I120+HOV!I120+HILL!I120","v":27},{"$f":"HLS!J118+HCQ!J120+HOV!J120+HILL!J120","v":57},{"$nulls":6},220]
[null,"09600331",null,"CONTROL DE ESPECIALIDAD POST ALTA",null,{"$f":"HLS!E119+HCQ!E121+HOV!E121+HILL!E121","v":18},{"$f":"HLS!F119+HCQ!F121+HOV!F121+HILL!F121","v":17},{"$f":"HLS!G119+HCQ!G121+HOV!G121+HILL!G121","v":32},{"$f":"HLS!H119+HCQ!H121+HOV!H121+HILL!H121","v":27},{"$f":"HLS!I119+HCQ!I121+HOV!I121+HILL!I121","v":20},{"$f":"HLS!J119+HCQ!J121+HOV!J121+HILL!J121","v":28},{"$nulls":6},142]
[null,"09600172",null,"ALTAS ADMINISTRATIVAS",null,{"$f":"HLS!E120+HCQ!E122+HOV!E122+HILL!E122","v":1},{"$f":"HLS!F120+HCQ!F122+HOV!F122+HILL!F122","v":4},{"$f":"HLS!G120+HCQ!G122+HOV!G122+HILL!G122","v":0},{"$f":"HLS!H120+HCQ!H122+HOV!H122+HILL!H122","v":3},{"$f":"HLS!I120+HCQ!I122+HOV!I122+HILL!I122","v":1},{"$f":"HLS!J120+HCQ!J122+HOV!J122+HILL!J122","v":4},{"$nulls":6},13]
[null,"09600173","ORTODONCIA Y ORTOPEDIA DENTO MAXILOFACIAL: APARATOLOGÍA REMOVIBLE","CONSULTA NUEVA ",null,{"$f":"HLS!E121+HCQ!E123+HOV!E123+HILL!E123","v":16},{"$f":"HLS!F121+HCQ!F123+HOV!F123+HILL!F123","v":7},{"$f":"HLS!G121+HCQ!G123+HOV!G123+HILL!G123","v":21},{"$f":"HLS!H121+HCQ!H123+HOV!H123+HILL!H123","v":1},{"$f":"HLS!I121+HCQ!I123+HOV!I123+HILL!I123","v":11},{"$f":"HLS!J121+HCQ!J123+HOV!J123+HILL!J123","v":8},{"$nulls":6},64]
[null,"09600174",null,"CONTROL ",null,{"$f":"HLS!E122+HCQ!E124+HOV!E124+HILL!E124","v":116},{"$f":"HLS!F122+HCQ!F124+HOV!F124+HILL!F124","v":53},{"$f":"HLS!G122+HCQ!G124+HOV!G124+HILL!G124","v":132},{"$f":"HLS!H122+HCQ!H124+HOV!H124+HILL!H124","v":115},{"$f":"HLS!I122+HCQ!I124+HOV!I124+HILL!I124","v":140},{"$f":"HLS!J122+HCQ!J124+HOV!J124+HILL!J124","v":92},{"$nulls":6},648]
[null,"09600175",null,"INGRESOS A TRATAMIENTO",null,{"$f":"HLS!E123+HCQ!E125+HOV!E125+HILL!E125","v":21},{"$f":"HLS!F123+HCQ!F125+HOV!F125+HILL!F125","v":2},{"$f":"HLS!G123+HCQ!G125+HOV!G125+HILL!G125","v":13},{"$f":"HLS!H123+HCQ!H125+HOV!H125+HILL!H125","v":12},{"$f":"HLS!I123+HCQ!I125+HOV!I125+HILL!I125","v":20},{"$f":"HLS!J123+HCQ!J125+HOV!J125+HILL!J125","v":18},{"$nulls":6},86]
[null,"09600176",null,"ALTAS DE TRATAMIENTO",null,{"$f":"HLS!E124+HCQ!E126+HOV!E126+HILL!E126","v":7},{"$f":"HLS!F124+HCQ!F126+HOV!F126+HILL!F126","v":10},{"$f":"HLS!G124+HCQ!G126+HOV!G126+HILL!G126","v":12},{"$f":"HLS!H124+HCQ!H126+HOV!H126+HILL!H126","v":13},{"$f":"HLS!I124+HCQ!I126+HOV!I126+HILL!I126","v":21},{"$f":"HLS!J124+HCQ!J126+HOV!J126+HILL!J126","v":10},{"$nulls":6},73]
[null,"09600332",null,"CONTROL DE ESPECIALIDAD POST ALTA",null,{"$f":"HLS!E125+HCQ!E127+HOV!E127+HILL!E127","v":2},{"$f":"HLS!F125+HCQ!F127+HOV!F127+HILL!F127","v":4},{"$f":"HLS!G125+HCQ!G127+HOV!G127+HILL!G127","v":1},{"$f":"HLS!H125+HCQ!H127+HOV!H127+HILL!H127","v":6},{"$f":"HLS!I125+HCQ!I127+HOV!I127+HILL!I127","v":1},{"$f":"HLS!J125+HCQ!J127+HOV!J127+HILL!J127","v":0},{"$nulls":6},14]
[null,"09600177",null,"ALTAS ADMINISTRATIVAS",null,{"$f":"HLS!E126+HCQ!E128+HOV!E128+HILL!E128","v":0},{"$f":"HLS!F126+HCQ!F128+HOV!F128+HILL!F128","v":1},{"$f":"HLS!G126+HCQ!G128+HOV!G128+HILL!G128","v":0},{"$f":"HLS!H126+HCQ!H128+HOV!H128+HILL!H128","v":0},{"$f":"HLS!I126+HCQ!I128+HOV!I128+HILL!I128","v":0},{"$f":"HLS!J126+HCQ!J128+HOV!J128+HILL!J128","v":0},{"$nulls":6},1]
[null,"09600178","PERIODONCIA","CONSULTA NUEVA ",null,{"$f":"HLS!E127+HCQ!E129+HOV!E129+HILL!E129","v":124},{"$f":"HLS!F127+HCQ!F129+HOV!F129+HILL!F129","v":79},{"$f":"HLS!G127+HCQ!G129+HOV!G129+HILL!G129","v":126},{"$f":"HLS!H127+HCQ!H129+HOV!H129+HILL!H129","v":108},{"$f":"HLS!I127+HCQ!I129+HOV!I129+HILL!I129","v":114},{"$f":"HLS!J127+HCQ!J129+HOV!J129+HILL!J129","v":175},{"$nulls":6},726]
[null,"09600179",null,"CONTROL ",null,{"$f":"HLS!E128+HCQ!E130+HOV!E130+HILL!E130","v":399},{"$f":"HLS!F128+HCQ!F130+HOV!F130+HILL!F130","v":198},{"$f":"HLS!G128+HCQ!G130+HOV!G130+HILL!G130","v":478},{"$f":"HLS!H128+HCQ!H130+HOV!H130+HILL!H130","v":398},{"$f":"HLS!I128+HCQ!I130+HOV!I130+HILL!I130","v":457},{"$f":"HLS!J128+HCQ!J130+HOV!J130+HILL!J130","v":433},{"$nulls":6},2363]
[null,"09218313",null,"INGRESOS A TRATAMIENTO",null,{"$f":"HLS!E129+HCQ!E131+HOV!E131+HILL!E131","v":115},{"$f":"HLS!F129+HCQ!F131+HOV!F131+HILL!F131","v":66},{"$f":"HLS!G129+HCQ!G131+HOV!G131+HILL!G131","v":107},{"$f":"HLS!H129+HCQ!H131+HOV!H131+HILL!H131","v":96},{"$f":"HLS!I129+HCQ!I131+HOV!I131+HILL!I131","v":104},{"$f":"HLS!J129+HCQ!J131+HOV!J131+HILL!J131","v":168},{"$nulls":6},656]
[null,"09218413",null,"ALTAS DE TRATAMIENTO",null,{"$f":"HLS!E130+HCQ!E132+HOV!E132+HILL!E132","v":93},{"$f":"HLS!F130+HCQ!F132+HOV!F132+HILL!F132","v":40},{"$f":"HLS!G130+HCQ!G132+HOV!G132+HILL!G132","v":94},{"$f":"HLS!H130+HCQ!H132+HOV!H132+HILL!H132","v":83},{"$f":"HLS!I130+HCQ!I132+HOV!I132+HILL!I132","v":88},{"$f":"HLS!J130+HCQ!J132+HOV!J132+HILL!J132","v":102},{"$nulls":6},500]
[null,"09600333",null,"CONTROL DE ESPECIALIDAD POST ALTA",null,{"$f":"HLS!E131+HCQ!E133+HOV!E133+HILL!E133","v":7},{"$f":"HLS!F131+HCQ!F133+HOV!F133+HILL!F133","v":20},{"$f":"HLS!G131+HCQ!G133+HOV!G133+HILL!G133","v":8},{"$f":"HLS!H131+HCQ!H133+HOV!H133+HILL!H133","v":10},{"$f":"HLS!I131+HCQ!I133+HOV!I133+HILL!I133","v":21},{"$f":"HLS!J131+HCQ!J133+HOV!J133+HILL!J133","v":45},{"$nulls":6},111]
[null,"09600180",null,"ALTAS ADMINISTRATIVAS",null,{"$f":"HLS!E132+HCQ!E134+HOV!E134+HILL!E134","v":5},{"$f":"HLS!F132+HCQ!F134+HOV!F134+HILL!F134","v":0},{"$f":"HLS!G132+HCQ!G134+HOV!G134+HILL!G134","v":2},{"$f":"HLS!H132+HCQ!H134+HOV!H134+HILL!H134","v":2},{"$f":"HLS!I132+HCQ!I134+HOV!I134+HILL!I134","v":3},{"$f":"HLS!J132+HCQ!J134+HOV!J134+HILL!J134","v":1},{"$nulls":6},13]
[null,"09600181","REHABILITACIÓN: PRÓTESIS FIJA","CONSULTA NUEVA ",null,{"$f":"HLS!E133+HCQ!E135+HOV!E135+HILL!E135","v":0},{"$f":"HLS!F133+HCQ!F135+HOV!F135+HILL!F135","v":4},{"$f":"HLS!G133+HCQ!G135+HOV!G135+HILL!G135","v":9},{"$f":"HLS!H133+HCQ!H135+HOV!H135+HILL!H135","v":2},{"$f":"HLS!I133+HCQ!I135+HOV!I135+HILL!I135","v":5},{"$f":"HLS!J133+HCQ!J135+HOV!J135+HILL!J135","v":7},{"$nulls":6},27]
[null,"09600182",null,"CONTROL ",null,{"$f":"HLS!E134+HCQ!E136+HOV!E136+HILL!E136","v":12},{"$f":"HLS!F134+HCQ!F136+HOV!F136+HILL!F136","v":15},{"$f":"HLS!G134+HCQ!G136+HOV!G136+HILL!G136","v":17},{"$f":"HLS!H134+HCQ!H136+HOV!H136+HILL!H136","v":11},{"$f":"HLS!I134+HCQ!I136+HOV!I136+HILL!I136","v":19},{"$f":"HLS!J134+HCQ!J136+HOV!J136+HILL!J136","v":12},{"$nulls":6},86]
[null,"09218813",null,"INGRESOS A TRATAMIENTO",null,{"$f":"HLS!E135+HCQ!E137+HOV!E137+HILL!E137","v":1},{"$f":"HLS!F135+HCQ!F137+HOV!F137+HILL!F137","v":6},{"$f":"HLS!G135+HCQ!G137+HOV!G137+HILL!G137","v":8},{"$f":"HLS!H135+HCQ!H137+HOV!H137+HILL!H137","v":3},{"$f":"HLS!I135+HCQ!I137+HOV!I137+HILL!I137","v":8},{"$f":"HLS!J135+HCQ!J137+HOV!J137+HILL!J137","v":9},{"$nulls":6},35]
[null,"09218913",null,"ALTAS DE TRATAMIENTO",null,{"$f":"HLS!E136+HCQ!E138+HOV!E138+HILL!E138","v":2},{"$f":"HLS!F136+HCQ!F138+HOV!F138+HILL!F138","v":6},{"$f":"HLS!G136+HCQ!G138+HOV!G138+HILL!G138","v":7},{"$f":"HLS!H136+HCQ!H138+HOV!H138+HILL!H138","v":2},{"$f":"HLS!I136+HCQ!I138+HOV!I138+HILL!I138","v":4},{"$f":"HLS!J136+HCQ!J138+HOV!J138+HILL!J138","v":5},{"$nulls":6},26]
[null,"09600334",null,"CONTROL DE ESPECIALIDAD POST ALTA",null,{"$f":"HLS!E137+HCQ!E139+HOV!E139+HILL!E139","v":0},{"$f":"HLS!F137+HCQ!F139+HOV!F139+HILL!F139","v":0},{"$f":"HLS!G137+HCQ!G139+HOV!G139+HILL!G139","v":0},{"$f":"HLS!H137+HCQ!H139+HOV!H139+HILL!H139","v":0},{"$f":"HLS!I137+HCQ!I139+HOV!I139+HILL!I139","v":0},{"$f":"HLS!J137+HCQ!J139+HOV!J139+HILL!J139","v":0},{"$nulls":6},0]
[null,"09600183",null,"ALTAS ADMINISTRATIVAS",null,{"$f":"HLS!E138+HCQ!E140+HOV!E140+HILL!E140","v":0},{"$f":"HLS!F138+HCQ!F140+HOV!F140+HILL!F140","v":0},{"$f":"HLS!G138+HCQ!G140+HOV!G140+HILL!G140","v":0},{"$f":"HLS!H138+HCQ!H140+HOV!H140+HILL!H140","v":0},{"$f":"HLS!I138+HCQ!I140+HOV!I140+HILL!I140","v":0},{"$f":"HLS!J138+HCQ!J140+HOV!J140+HILL!J140","v":0},{"$nulls":6},0]
[null,"09600184","REHABILITACIÓN: PRÓTESIS REMOVIBLE","CONSULTA NUEVA ",null,{"$f":"HLS!E139+HCQ!E141+HOV!E141+HILL!E141","v":212},{"$f":"HLS!F139+HCQ!F141+HOV!F141+HILL!F141","v":133},{"$f":"HLS!G139+HCQ!G141+HOV!G141+HILL!G141","v":207},{"$f":"HLS!H139+HCQ!H141+HOV!H141+HILL!H141","v":197},{"$f":"HLS!I139+HCQ!I141+HOV!I141+HILL!I141","v":164},{"$f":"HLS!J139+HCQ!J141+HOV!J141+HILL!J141","v":133},{"$nulls":6},1046]
[null,"09600185",null,"CONTROL ",null,{"$f":"HLS!E140+HCQ!E142+HOV!E142+HILL!E142","v":1037},{"$f":"HLS!F140+HCQ!F142+HOV!F142+HILL!F142","v":586},{"$f":"HLS!G140+HCQ!G142+HOV!G142+HILL!G142","v":982},{"$f":"HLS!H140+HCQ!H142+HOV!H142+HILL!H142","v":994},{"$f":"HLS!I140+HCQ!I142+HOV!I142+HILL!I142","v":831},{"$f":"HLS!J140+HCQ!J142+HOV!J142+HILL!J142","v":453},{"$nulls":6},4883]
[null,"09219213",null,"INGRESOS A TRATAMIENTO",null,{"$f":"HLS!E141+HCQ!E143+HOV!E143+HILL!E143","v":181},{"$f":"HLS!F141+HCQ!F143+HOV!F143+HILL!F143","v":245},{"$f":"HLS!G141+HCQ!G143+HOV!G143+HILL!G143","v":175},{"$f":"HLS!H141+HCQ!H143+HOV!H143+HILL!H143","v":214},{"$f":"HLS!I141+HCQ!I143+HOV!I143+HILL!I143","v":180},{"$f":"HLS!J141+HCQ!J143+HOV!J143+HILL!J143","v":96},{"$nulls":6},1091]
[null,"09219313",null,"ALTAS DE TRATAMIENTO",null,{"$f":"HLS!E142+HCQ!E144+HOV!E144+HILL!E144","v":169},{"$f":"HLS!F142+HCQ!F144+HOV!F144+HILL!F144","v":91},{"$f":"HLS!G142+HCQ!G144+HOV!G144+HILL!G144","v":213},{"$f":"HLS!H142+HCQ!H144+HOV!H144+HILL!H144","v":185},{"$f":"HLS!I142+HCQ!I144+HOV!I144+HILL!I144","v":217},{"$f":"HLS!J142+HCQ!J144+HOV!J144+HILL!J144","v":93},{"$nulls":6},968]
[null,"09600335",null,"CONTROL DE ESPECIALIDAD POST ALTA",null,{"$f":"HLS!E143+HCQ!E145+HOV!E145+HILL!E145","v":107},{"$f":"HLS!F143+HCQ!F145+HOV!F145+HILL!F145","v":40},{"$f":"HLS!G143+HCQ!G145+HOV!G145+HILL!G145","v":54},{"$f":"HLS!H143+HCQ!H145+HOV!H145+HILL!H145","v":65},{"$f":"HLS!I143+HCQ!I145+HOV!I145+HILL!I145","v":77},{"$f":"HLS!J143+HCQ!J145+HOV!J145+HILL!J145","v":8},{"$nulls":6},351]
[null,"09600186",null,"ALTAS ADMINISTRATIVAS",null,{"$f":"HLS!E144+HCQ!E146+HOV!E146+HILL!E146","v":0},{"$f":"HLS!F144+HCQ!F146+HOV!F146+HILL!F146","v":18},{"$f":"HLS!G144+HCQ!G146+HOV!G146+HILL!G146","v":1},{"$f":"HLS!H144+HCQ!H146+HOV!H146+HILL!H146","v":3},{"$f":"HLS!I144+HCQ!I146+HOV!I146+HILL!I146","v":1},{"$f":"HLS!J144+HCQ!J146+HOV!J146+HILL!J146","v":1},{"$nulls":6},24]
[null,"09600187","REHABILITACIÓN: PRÓTESIS IMPLANTOASISTIDA","CONSULTA NUEVA ",null,{"$f":"HLS!E145+HCQ!E147+HOV!E147+HILL!E147","v":4},{"$f":"HLS!F145+HCQ!F147+HOV!F147+HILL!F147","v":0},{"$f":"HLS!G145+HCQ!G147+HOV!G147+HILL!G147","v":9},{"$f":"HLS!H145+HCQ!H147+HOV!H147+HILL!H147","v":5},{"$f":"HLS!I145+HCQ!I147+HOV!I147+HILL!I147","v":6},{"$f":"HLS!J145+HCQ!J147+HOV!J147+HILL!J147","v":3},{"$nulls":6},27]
[null,"09600188",null,"CONTROL ",null,{"$f":"HLS!E146+HCQ!E148+HOV!E148+HILL!E148","v":34},{"$f":"HLS!F146+HCQ!F148+HOV!F148+HILL!F148","v":23},{"$f":"HLS!G146+HCQ!G148+HOV!G148+HILL!G148","v":47},{"$f":"HLS!H146+HCQ!H148+HOV!H148+HILL!H148","v":52},{"$f":"HLS!I146+HCQ!I148+HOV!I148+HILL!I148","v":54},{"$f":"HLS!J146+HCQ!J148+HOV!J148+HILL!J148","v":31},{"$nulls":6},241]
[null,"09600189",null,"INGRESOS A TRATAMIENTO",null,{"$f":"HLS!E147+HCQ!E149+HOV!E149+HILL!E149","v":5},{"$f":"HLS!F147+HCQ!F149+HOV!F149+HILL!F149","v":0},{"$f":"HLS!G147+HCQ!G149+HOV!G149+HILL!G149","v":11},{"$f":"HLS!H147+HCQ!H149+HOV!H149+HILL!H149","v":7},{"$f":"HLS!I147+HCQ!I149+HOV!I149+HILL!I149","v":7},{"$f":"HLS!J147+HCQ!J149+HOV!J149+HILL!J149","v":5},{"$nulls":6},35]
[null,"09600190",null,"ALTAS DE TRATAMIENTO",null,{"$f":"HLS!E148+HCQ!E150+HOV!E150+HILL!E150","v":5},{"$f":"HLS!F148+HCQ!F150+HOV!F150+HILL!F150","v":2},{"$f":"HLS!G148+HCQ!G150+HOV!G150+HILL!G150","v":5},{"$f":"HLS!H148+HCQ!H150+HOV!H150+HILL!H150","v":9},{"$f":"HLS!I148+HCQ!I150+HOV!I150+HILL!I150","v":10},{"$f":"HLS!J148+HCQ!J150+HOV!J150+HILL!J150","v":5},{"$nulls":6},{"$f":"SUM(F150:Q150)","v":36}]
[null,"09600336",null,"CONTROL DE ESPECIALIDAD POST ALTA",null,{"$f":"HLS!E149+HCQ!E151+HOV!E151+HILL!E151","v":7},{"$f":"HLS!F149+HCQ!F151+HOV!F151+HILL!F151","v":1},{"$f":"HLS!G149+HCQ!G151+HOV!G151+HILL!G151","v":4},{"$f":"HLS!H149+HCQ!H151+HOV!H151+HILL!H151","v":5},{"$f":"HLS!I149+HCQ!I151+HOV!I151+HILL!I151","v":2},{"$f":"HLS!J149+HCQ!J151+HOV!J151+HILL!J151","v":4},{"$nulls":6},23]
[null,"09600191",null,"ALTAS ADMINISTRATIVAS",null,{"$f":"HLS!E150+HCQ!E152+HOV!E152+HILL!E152","v":0},{"$f":"HLS!F150+HCQ!F152+HOV!F152+HILL!F152","v":0},{"$f":"HLS!G150+HCQ!G152+HOV!G152+HILL!G152","v":0},{"$f":"HLS!H150+HCQ!H152+HOV!H152+HILL!H152","v":0},{"$f":"HLS!I150+HCQ!I152+HOV!I152+HILL!I152","v":0},{"$f":"HLS!J150+HCQ!J152+HOV!J152+HILL!J152","v":0},{"$nulls":6},0]
[null,"09600192","IMPLANTOLOGÍA BUCO MAXILOFACIAL","CONSULTA NUEVA ",null,{"$f":"HLS!E151+HCQ!E153+HOV!E153+HILL!E153","v":29},{"$f":"HLS!F151+HCQ!F153+HOV!F153+HILL!F153","v":14},{"$f":"HLS!G151+HCQ!G153+HOV!G153+HILL!G153","v":47},{"$f":"HLS!H151+HCQ!H153+HOV!H153+HILL!H153","v":29},{"$f":"HLS!I151+HCQ!I153+HOV!I153+HILL!I153","v":33},{"$f":"HLS!J151+HCQ!J153+HOV!J153+HILL!J153","v":65},{"$nulls":6},217]
[null,"09600193",null,"CONTROL ",null,{"$f":"HLS!E152+HCQ!E154+HOV!E154+HILL!E154","v":83},{"$f":"HLS!F152+HCQ!F154+HOV!F154+HILL!F154","v":31},{"$f":"HLS!G152+HCQ!G154+HOV!G154+HILL!G154","v":130},{"$f":"HLS!H152+HCQ!H154+HOV!H154+HILL!H154","v":117},{"$f":"HLS!I152+HCQ!I154+HOV!I154+HILL!I154","v":122},{"$f":"HLS!J152+HCQ!J154+HOV!J154+HILL!J154","v":142},{"$nulls":6},625]
[null,"09309000",null,"INGRESOS A TRATAMIENTO",null,{"$f":"HLS!E153+HCQ!E155+HOV!E155+HILL!E155","v":16},{"$f":"HLS!F153+HCQ!F155+HOV!F155+HILL!F155","v":15},{"$f":"HLS!G153+HCQ!G155+HOV!G155+HILL!G155","v":10},{"$f":"HLS!H153+HCQ!H155+HOV!H155+HILL!H155","v":13},{"$f":"HLS!I153+HCQ!I155+HOV!I155+HILL!I155","v":24},{"$f":"HLS!J153+HCQ!J155+HOV!J155+HILL!J155","v":19},{"$nulls":6},97]
[null,"09309050",null,"ALTAS DE TRATAMIENTO",null,{"$f":"HLS!E154+HCQ!E156+HOV!E156+HILL!E156","v":10},{"$f":"HLS!F154+HCQ!F156+HOV!F156+HILL!F156","v":3},{"$f":"HLS!G154+HCQ!G156+HOV!G156+HILL!G156","v":16},{"$f":"HLS!H154+HCQ!H156+HOV!H156+HILL!H156","v":22},{"$f":"HLS!I154+HCQ!I156+HOV!I156+HILL!I156","v":25},{"$f":"HLS!J154+HCQ!J156+HOV!J156+HILL!J156","v":49},{"$nulls":6},125]
[null,"09600337",null,"CONTROL DE ESPECIALIDAD POST ALTA",null,{"$f":"HLS!E155+HCQ!E157+HOV!E157+HILL!E157","v":8},{"$f":"HLS!F155+HCQ!F157+HOV!F157+HILL!F157","v":6},{"$f":"HLS!G155+HCQ!G157+HOV!G157+HILL!G157","v":19},{"$f":"HLS!H155+HCQ!H157+HOV!H157+HILL!H157","v":21},{"$f":"HLS!I155+HCQ!I157+HOV!I157+HILL!I157","v":16},{"$f":"HLS!J155+HCQ!J157+HOV!J157+HILL!J157","v":26},{"$nulls":6},96]
[null,"09600194",null,"ALTAS ADMINISTRATIVAS",null,{"$f":"HLS!E156+HCQ!E158+HOV!E158+HILL!E158","v":0},{"$f":"HLS!F156+HCQ!F158+HOV!F158+HILL!F158","v":1},{"$f":"HLS!G156+HCQ!G158+HOV!G158+HILL!G158","v":0},{"$f":"HLS!H156+HCQ!H158+HOV!H158+HILL!H158","v":0},{"$f":"HLS!I156+HCQ!I158+HOV!I158+HILL!I158","v":0},{"$f":"HLS!J156+HCQ!J158+HOV!J158+HILL!J158","v":0},{"$nulls":6},1]
[null,"09600195","PATOLOGÍA ORAL","CONSULTA NUEVA ",null,{"$f":"HLS!E157+HCQ!E159+HOV!E159+HILL!E159","v":0},{"$f":"HLS!F157+HCQ!F159+HOV!F159+HILL!F159","v":0},{"$f":"HLS!G157+HCQ!G159+HOV!G159+HILL!G159","v":0},{"$f":"HLS!H157+HCQ!H159+HOV!H159+HILL!H159","v":0},{"$f":"HLS!I157+HCQ!I159+HOV!I159+HILL!I159","v":0},{"$f":"HLS!J157+HCQ!J159+HOV!J159+HILL!J159","v":0},{"$nulls":6},0]
[null,"09600196",null,"CONTROL ",null,{"$f":"HLS!E158+HCQ!E160+HOV!E160+HILL!E160","v":0},{"$f":"HLS!F158+HCQ!F160+HOV!F160+HILL!F160","v":0},{"$f":"HLS!G158+HCQ!G160+HOV!G160+HILL!G160","v":0},{"$f":"HLS!H158+HCQ!H160+HOV!H160+HILL!H160","v":0},{"$f":"HLS!I158+HCQ!I160+HOV!I160+HILL!I160","v":0},{"$f":"HLS!J158+HCQ!J160+HOV!J160+HILL!J160","v":0},{"$nulls":6},0]
[null,"09309200",null,"INGRESOS A TRATAMIENTO",null,{"$f":"HLS!E159+HCQ!E161+HOV!E161+HILL!E161","v":0},{"$f":"HLS!F159+HCQ!F161+HOV!F161+HILL!F161","v":0},{"$f":"HLS!G159+HCQ!G161+HOV!G161+HILL!G161","v":0},{"$f":"HLS!H159+HCQ!H161+HOV!H161+HILL!H161","v":0},{"$f":"HLS!I159+HCQ!I161+HOV!I161+HILL!I161","v":0},{"$f":"HLS!J159+HCQ!J161+HOV!J161+HILL!J161","v":0},{"$nulls":6},0]
[null,"09309250",null,"ALTAS DE TRATAMIENTO",null,{"$f":"HLS!E160+HCQ!E162+HOV!E162+HILL!E162","v":0},{"$f":"HLS!F160+HCQ!F162+HOV!F162+HILL!F162","v":0},{"$f":"HLS!G160+HCQ!G162+HOV!G162+HILL!G162","v":0},{"$f":"HLS!H160+HCQ!H162+HOV!H162+HILL!H162","v":0},{"$f":"HLS!I160+HCQ!I162+HOV!I162+HILL!I162","v":0},{"$f":"HLS!J160+HCQ!J162+HOV!J162+HILL!J162","v":0},{"$nulls":6},0]
[null,"09600338",null,"CONTROL DE ESPECIALIDAD POST ALTA",null,{"$f":"HLS!E161+HCQ!E163+HOV!E163+HILL!E163","v":0},{"$f":"HLS!F161+HCQ!F163+HOV!F163+HILL!F163","v":0},{"$f":"HLS!G161+HCQ!G163+HOV!G163+HILL!G163","v":0},{"$f":"HLS!H161+HCQ!H163+HOV!H163+HILL!H163","v":0},{"$f":"HLS!I161+HCQ!I163+HOV!I163+HILL!I163","v":0},{"$f":"HLS!J161+HCQ!J163+HOV!J163+HILL!J163","v":0},{"$nulls":6},0]
[null,"09600197",null,"ALTAS ADMINISTRATIVAS",null,{"$f":"HLS!E162+HCQ!E164+HOV!E164+HILL!E164","v":0},{"$f":"HLS!F162+HCQ!F164+HOV!F164+HILL!F164","v":0},{"$f":"HLS!G162+HCQ!G164+HOV!G164+HILL!G164","v":0},{"$f":"HLS!H162+HCQ!H164+HOV!H164+HILL!H164","v":0},{"$f":"HLS!I162+HCQ!I164+HOV!I164+HILL!I164","v":0},{"$f":"HLS!J162+HCQ!J164+HOV!J164+HILL!J164","v":0},{"$nulls":6},0]
[null,"09600198","TRASTORNOS TEMPOROMANDIBULARES Y DOLOR OROFACIAL","CONSULTA NUEVA ",null,{"$f":"HLS!E163+HCQ!E165+HOV!E165+HILL!E165","v":35},{"$f":"HLS!F163+HCQ!F165+HOV!F165+HILL!F165","v":22},{"$f":"HLS!G163+HCQ!G165+HOV!G165+HILL!G165","v":34},{"$f":"HLS!H163+HCQ!H165+HOV!H165+HILL!H165","v":46},{"$f":"HLS!I163+HCQ!I165+HOV!I165+HILL!I165","v":44},{"$f":"HLS!J163+HCQ!J165+HOV!J165+HILL!J165","v":97},{"$nulls":6},278]
[null,"09600199",null,"CONTROL ",null,{"$f":"HLS!E164+HCQ!E166+HOV!E166+HILL!E166","v":218},{"$f":"HLS!F164+HCQ!F166+HOV!F166+HILL!F166","v":119},{"$f":"HLS!G164+HCQ!G166+HOV!G166+HILL!G166","v":161},{"$f":"HLS!H164+HCQ!H166+HOV!H166+HILL!H166","v":171},{"$f":"HLS!I164+HCQ!I166+HOV!I166+HILL!I166","v":181},{"$f":"HLS!J164+HCQ!J166+HOV!J166+HILL!J166","v":307},{"$nulls":6},1157]
[null,"09240500",null,"INGRESOS A TRATAMIENTO",null,{"$f":"HLS!E165+HCQ!E167+HOV!E167+HILL!E167","v":37},{"$f":"HLS!F165+HCQ!F167+HOV!F167+HILL!F167","v":23},{"$f":"HLS!G165+HCQ!G167+HOV!G167+HILL!G167","v":34},{"$f":"HLS!H165+HCQ!H167+HOV!H167+HILL!H167","v":42},{"$f":"HLS!I165+HCQ!I167+HOV!I167+HILL!I167","v":45},{"$f":"HLS!J165+HCQ!J167+HOV!J167+HILL!J167","v":65},{"$nulls":6},246]
[null,"09240600",null,"ALTAS DE TRATAMIENTO",null,{"$f":"HLS!E166+HCQ!E168+HOV!E168+HILL!E168","v":21},{"$f":"HLS!F166+HCQ!F168+HOV!F168+HILL!F168","v":21},{"$f":"HLS!G166+HCQ!G168+HOV!G168+HILL!G168","v":31},{"$f":"HLS!H166+HCQ!H168+HOV!H168+HILL!H168","v":40},{"$f":"HLS!I166+HCQ!I168+HOV!I168+HILL!I168","v":56},{"$f":"HLS!J166+HCQ!J168+HOV!J168+HILL!J168","v":87},{"$nulls":6},256]
[null,"09600339",null,"CONTROL DE ESPECIALIDAD POST ALTA",null,{"$f":"HLS!E167+HCQ!E169+HOV!E169+HILL!E169","v":0},{"$f":"HLS!F167+HCQ!F169+HOV!F169+HILL!F169","v":4},{"$f":"HLS!G167+HCQ!G169+HOV!G169+HILL!G169","v":1},{"$f":"HLS!H167+HCQ!H169+HOV!H169+HILL!H169","v":0},{"$f":"HLS!I167+HCQ!I169+HOV!I169+HILL!I169","v":0},{"$f":"HLS!J167+HCQ!J169+HOV!J169+HILL!J169","v":0},{"$nulls":6},5]
[null,"09600200",null,"ALTAS ADMINISTRATIVAS",null,{"$f":"HLS!E168+HCQ!E170+HOV!E170+HILL!E170","v":0},{"$f":"HLS!F168+HCQ!F170+HOV!F170+HILL!F170","v":0},{"$f":"HLS!G168+HCQ!G170+HOV!G170+HILL!G170","v":0},{"$f":"HLS!H168+HCQ!H170+HOV!H170+HILL!H170","v":0},{"$f":"HLS!I168+HCQ!I170+HOV!I170+HILL!I170","v":0},{"$f":"HLS!J168+HCQ!J170+HOV!J170+HILL!J170","v":0},{"$nulls":6},{"$f":"SUM(F170:Q170)","v":0}]
[null,null,"TOTAL","CONSULTA NUEVA ",null,{"$f":"F87+F93+F99+F105+F111+F117+F123+F129+F135+F141+F147+F153+F159+F165","v":1165},{"$f":"G87+G93+G99+G105+G111+G117+G123+G129+G135+G141+G147+G153+G159+G165","v":752},1351,1200,1399,1464,0,0,0,0,0,0,{"$f":"SUM(F171:Q171)","v":7331}]
[{"$nulls":3},"CONTROL ",null,{"$f":"F88+F94+F100+F106+F112+F118+F124+F130+F136+F142+F148+F154+F160+F166","v":4425},2913,4937,4588,5170,4455,0,0,0,0,0,0,{"$f":"SUM(F172:Q172)","v":26488}]
[{"$nulls":3},"INGRESOS A TRATAMIENTO",null,962,963,1077,1101,1200,1091,0,0,0,0,0,0,6394]
[{"$nulls":3},"ALTAS DE TRATAMIENTO",null,789,528,935,922,1066,1023,0,0,0,0,0,0,5263]
[{"$nulls":3},"CONTROL DE ESPECIALIDAD POST ALTA",null,295,211,274,288,365,354,0,0,0,0,0,0,1787]
[{"$nulls":3},"ALTAS ADMINISTRATIVAS",null,8,39,7,13,11,19,0,0,0,0,0,0,97]
[null,null,"Fuente: REM A09, Sección F, F1, I"]

{"sheet":"HLS","index":2,"n_rows":175,"n_cols":17,"rows_kept":175,"merged":[[5,1,8,16],[10,2,10,3],[11,2,11,3],[12,2,12,3],[13,2,13,3],[14,2,14,3],[15,2,15,3],[16,2,16,3],[17,2,17,3],[18,2,18,3],[19,2,19,3],[20,2,20,3],[21,2,21,3],[22,2,22,3],[23,2,23,3],[24,2,24,3],[25,2,25,3],[26,2,26,3],[27,2,27,3],[28,2,28,3],[29,2,29,3],[30,2,30,3],[31,2,31,3],[32,2,32,3],[33,2,33,3],[34,2,34,3],[35,2,35,3],[36,2,36,3],[37,2,37,3],[38,2,38,3],[39,2,39,3],[40,2,40,3],[41,2,41,3],[42,2,42,3],[43,2,43,3],[44,2,44,3],[45,2,45,3],[46,2,46,3],[47,2,47,3],[48,2,48,3],[49,2,49,3],[50,2,50,3],[51,2,51,3],[52,2,52,3],[53,2,53,3],[54,2,54,3],[55,2,55,3],[56,2,56,3],[57,2,57,3],[58,2,58,3],[59,2,59,3],[60,2,60,3],[61,2,61,3],[62,2,62,3],[63,2,63,3],[64,2,64,3],[65,2,65,3],[68,2,68,3],[69,2,69,3],[70,2,70,3],[71,2,71,3],[72,2,72,3],[73,2,73,3],[74,2,74,3],[75,2,75,3],[76,2,76,3],[77,2,77,3],[78,2,78,3],[81,2,81,3],[82,1,83,1],[84,1,89,1],[90,1,95,1],[96,1,101,1],[102,1,107,1],[108,1,113,1],[114,1,119,1],[120,1,125,1],[126,1,131,1],[132,1,137,1],[138,1,143,1],[144,1,149,1],[150,1,155,1],[156,1,161,1],[162,1,167,1],[168,1,173,1]]}
["MINISTERIO DE SALUD"]
["SERVICIO DE SALUD COQUIMBO"]
["DEPARTAMENTO  DE GESTIÓN, PLANIFICACIÓN Y CONTROL"]
["SUBDEPTO. DE ESTADÍSTICAS Y GESTIÓN DE LA INFORMACIÓN "]
["AÑO 2022"]
[null,"INDICADOR 2.3: Porcentaje de cumplimiento de la programación de horas de consultas nuevas, tratamientos y procedimientos imagenológicos realizados por profesionales Cirujanos Dentista."]
[]
[]
[]
[]
[null,null,"ACTIVIDADES DE ESPECIALIDADES",null,"Enero","Febrero","Marzo","Abril","Mayo","Junio","Julio","Agosto","Septiembre","Octubre","Noviembre","Diciembre","Total"]
[null,null,"EXAMEN Y DIAGNÓSTICO DE ESPECIALIDAD",null,853,545,839,658,757,766,746,668,407,715,774,562,{"$f":"SUM(E12:P12)","v":8290}]
[null,null,"EDUCACIÓN EN SALUD BUCAL",null,233,83,295,214,283,160,250,349,72,301,292,269,{"$f":"SUM(E13:P13)","v":2801}]
[null,null,"RESPUESTA A INTERCONSULTA PERSONAS HOSPITALIZADOS",null,38,26,61,24,35,18,22,37,20,18,29,21,349]
[null,null,"VISITA A SALA",null,0,0,3,0,5,0,4,12,2,4,12,1,43]
[null,null,"CONTRALORÍA CLÍNICA",null,0,0,0,0,0,0,0,0,0,0,0,0,0]
[null,null,"CIRUGÍA TERCER MOLAR",null,43,49,79,66,52,65,54,67,65,94,66,99,799]
[null,null,"CIRUGÍA MENOR AMBULATORIA",null,91,106,125,93,133,101,81,98,78,96,86,83,1171]
[null,null,"CIRUGÍA MAYOR AMBULATORIA",null,3,2,6,4,7,2,1,4,1,5,7,8,50]
[null,null,"TRATAMIENTO TRAUMATISMO DENTOALVEOLAR",null,6,7,10,23,18,7,7,16,13,9,21,11,148]
[null,null,"OBTURACIÓN DIRECTA",null,157,91,187,152,196,138,151,130,131,146,201,226,1906]
[null,null,"OBTURACIÓN INDIRECTA (INLAYS U ONLAYS)",null,2,3,5,1,1,3,0,0,0,0,4,5,24]
[null,null,"INSTALACIÓN APARATO REMOVIBLE ORTODÓNCICO",null,36,6,28,35,33,23,26,17,2,20,19,18,263]
[null,null,"INSTALACIÓN APARATO FIJO ORTODÓNCICO",null,29,2,36,35,16,11,42,22,13,15,19,20,260]
[null,null,"INSTALACIÓN APARATO DE CONTENCIÓN ORTODÓNCICO",null,7,2,8,5,10,6,16,13,3,17,17,4,108]
[null,null,"RETIRO APARATOLOGÍA DE ORTODONCIA",null,21,8,8,10,16,6,17,16,2,29,16,3,152]
[null,null,"ORTOPEDIA PREQUIRÚRGICA",null,0,0,0,0,0,0,0,0,0,0,0,0,0]
[null,null,"ORTODONCIA PREVENTIVA E INTERCEPTIVA (OPI)",null,7,3,7,7,18,6,9,11,9,7,16,21,121]
[null,null,"TRATAMIENTO ENDODONCIA UNIRRADICULAR",null,18,14,26,6,20,20,18,14,9,13,5,8,171]
[null,null,"TRATAMIENTO ENDODONCIA BIRRADICULAR",null,13,7,16,13,14,12,18,15,15,14,20,17,174]
[null,null,"TRATAMIENTO ENDODONCIA MULTIRRADICULAR",null,34,15,33,25,34,23,27,32,30,49,35,29,366]
[null,null,"INDUCCIÓN AL CIERRE APICAL",null,0,2,1,2,1,1,1,1,0,2,0,2,13]
[null,null,"RETRATAMIENTO DE ENDODONCIA",null,0,0,0,0,1,0,0,0,0,0,0,1,2]
[null,null,"CIRUGÍA APICAL",null,0,1,1,0,2,0,1,0,0,0,2,0,7]
[null,null,"ADAPTACIÓN A LA ATENCIÓN ODONTOLÓGICA ",null,142,102,157,114,169,120,153,78,137,113,166,143,1594]
[null,null,"PROCEDIMIENTO RESTAURADOR (ODONTOPEDIATRÍA)",null,96,60,108,92,104,79,85,72,75,91,112,107,1081]
[null,null,"PROCEDIMIENTO PULPAR (ODONTOPEDIATRÍA)",null,17,7,14,7,13,12,21,3,12,11,26,10,153]
[null,null,"CIRUGÍA AMBULATORIA (ODONTOPEDIATRÍA)",null,7,4,5,7,7,7,6,11,9,9,9,6,87]
[null,null,"DESTARTRAJE SUBGINGIVAL O PULIDO RADICULAR ",null,794,455,918,391,638,773,519,944,529,616,739,589,7905]
[null,null,"DESTARTRAJE SUPRAGINGIVAL O PULIDO CORONARIO",null,69,38,58,27,80,53,56,96,65,64,82,68,756]
[null,null,"PROCEDIMIENTO QUIRÚRGICO (PERIODONCIA)",null,0,0,0,0,0,1,0,1,1,0,0,0,3]
[null,null,"PROCEDIMIENTO QUIRÚRGICO PERIIMPLANTAR (PERIODONCIA)",null,0,0,0,0,0,0,0,0,0,0,0,0,0]
[null,null,"FERULIZACIÓN",null,0,0,0,0,0,0,0,0,1,0,1,0,2]
[null,null,"REHABILITACIÓN MEDIANTE PRÓTESIS REMOVIBLE ACRÍLICA PARCIAL O TOTAL",null,472,306,593,636,528,476,255,562,492,453,471,296,5540]
[null,null,"REHABILITACIÓN MEDIANTE PRÓTESIS REMOVIBLE METÁLICA PARCIAL",null,0,1,2,0,10,0,0,0,2,2,2,0,19]
[null,null,"REHABILITACIÓN MEDIANTE PRÓTESIS FIJA UNITARIA O PLURAL",null,0,2,4,5,5,3,3,7,3,3,0,1,36]
[null,null,"REHABILITACIÓN MEDIANTE PRÓTESIS FIJA IMPLANTOASISTIDA",null,2,2,2,6,5,1,1,2,2,0,3,3,29]
[null,null,"REHABILITACIÓN MEDIANTE PRÓTESIS MUCO-  IMPLANTOASISTIDA",null,2,0,1,4,1,0,0,1,0,0,0,0,9]
[null,null,"REPARACIÓN DE PRÓTESIS",null,197,115,170,245,277,186,129,238,232,231,208,121,2349]
[null,null,"IMPLANTOLOGÍA QUIRÚRGICA",null,5,1,3,2,2,2,0,5,2,3,1,3,29]
[null,null,"TOMA DE BIOPSIA",null,0,0,0,0,0,1,0,1,1,0,2,0,5]
[null,null,"ESTUDIO HISTOPATOLÓGICO",null,0,0,0,0,0,0,0,0,0,0,0,0,0]
[null,null,"SIALOMETRÍA",null,0,0,0,0,0,0,0,0,0,0,0,0,0]
[null,null,"TERAPIA FARMACOLÓGICA DE LESIONES DEL TERRITORIO ORAL Y MAXILOFACIAL",null,126,100,129,108,103,78,50,77,53,56,75,86,1041]
[null,null,"TERAPIA NO FARMACOLÓGICA DE LESIONES DEL TERRITORIO ORAL Y MAXILOFACIAL",null,462,421,659,593,669,657,402,730,620,558,625,571,6967]
[null,null,"ESTUDIO CLÍNICO LESIONES DEL TERRITORIO ORAL MAXILOFACIAL",null,122,42,89,84,124,109,83,59,98,107,144,128,1189]
[null,null,"TERAPIA FÍSICA EN TRASTORNOS TEMPOROMANDIBULARES (TTM) Y DOLOR OROFACIAL (DOF)",null,21,24,23,32,35,33,21,27,28,36,16,17,313]
[null,null,"INFILTRACIÓN EN ARTICULACIÓN TEMPORO MANDIBULAR (ATM)",null,4,1,1,3,1,2,0,3,1,0,2,2,20]
[null,null,"BLOQUEO ANESTÉSICO Y/O MEDICAMENTOSO EN TTM Y DOF",null,13,12,14,12,9,18,5,8,14,13,8,4,130]
[null,null,"ARTROCENTESIS EN ATM",null,4,1,1,3,2,2,0,3,1,0,2,2,21]
[null,null,"TERAPIA BIOCONDUCTUAL",null,25,31,27,36,38,36,25,32,33,37,16,18,354]
[null,null,"DESGASTE SELECTIVO",null,22,8,9,9,23,17,18,20,23,14,12,13,188]
[null,null,"INSTALACIÓN DE DISPOSITIVO ORTOPÉDICO",null,7,2,5,5,9,8,6,5,11,2,0,3,63]
[null,null,"ACTIVIDADES SOMATOPRÓTESIS",null,6,1,5,5,4,3,1,4,4,2,0,3,38]
[null,null,"REHABILITACIÓN DE PRÓTESIS MAXILOFACIAL",null,1,0,1,1,0,0,0,0,1,0,0,0,4]
[null,null,"TOTAL",null,{"$f":"SUM(E12:E65)","v":4207},{"$f":"SUM(F12:F65)","v":2708},4772,3800,4508,4045,3330,4511,3322,3975,4363,3602,47143]
[]
[]
[null,null,"ACTIVIDADES DE ESPECIALIDADES",null,"Enero","Febrero","Marzo","Abril","Mayo","Junio","Julio","Agosto","Septiembre","Octubre","Noviembre","Diciembre","Total"]
[null,null,"RADIOGRAFÍA INTRAORAL MEDIANTE TÉCNICAS RETROALVEOLARES (POR PLACA)",null,241,181,329,213,287,224,217,235,207,228,261,283,{"$f":"SUM(E70:P70)","v":2906}]
[null,null,"RADIOGRAFÍA INTRAORAL MEDIANTE TÉCNICAS BITE WING (POR PLACA)",null,2,0,0,0,0,0,0,0,0,0,47,23,{"$f":"SUM(E71:P71)","v":72}]
[null,null,"RADIOGRAFÍA EXTRAORAL (POR PLACA)",null,0,0,0,0,0,0,0,0,0,0,0,0,0]
[null,null,"RADIOGRAFÍA OCLUSAL (POR PLACA)",null,0,0,0,0,0,0,0,0,0,0,4,0,4]
[null,null,"TELERRADIOGRAFÍA (POR PLACA)",null,30,25,14,0,0,0,0,0,0,0,25,19,113]
[null,null,"RADIOGRAFÍA PANORÁMICA (POR PLACA)",null,183,111,65,0,0,0,0,0,0,0,94,65,518]
[null,null,"TOMOGRAFÍA COMPUTACIONAL MAXILO FACIAL CONE BEAM (POR ADQUISICIÓN)",null,32,24,20,0,0,0,0,0,0,0,46,47,169]
[null,null,"SIALOGRAFÍAS (POR PROCEDIMIENTO)",null,0,0,0,0,0,0,0,0,0,0,0,0,0]
[null,null,"PROCEDIMIENTO IMAGENOLÓGICO COMPLEJO (POR PROCEDIMIENTO)",null,0,0,0,0,0,0,0,0,0,0,0,0,0]
[null,null,"TOTAL",null,{"$f":"SUM(E70:E78)","v":488},341,428,213,287,224,217,235,207,228,477,437,3782]
[]
[]
[null,"ESPECIALIDAD Y TIPO DE INGRESO O EGRESO","Tipo de Ingreso",null,"Enero","Febrero","Marzo","Abril","Mayo","Junio","Julio","Agosto","Septiembre","Octubre","Noviembre","Diciembre","Total"]
[null,"CONSULTAS DE URGENCIA","CONSULTAS GES",null,48,36,37,41,38,10,18,37,17,22,22,11,{"$f":"SUM(E83:P83)","v":337}]
[null,null,"CONSULTA NO GES",null,27,14,16,12,11,1,12,17,2,11,3,6,{"$f":"SUM(E84:P84)","v":132}]
[null,"CIRUGÍA BUCAL","CONSULTA NUEVA ",null,16,24,25,7,36,39,36,11,45,59,59,35,392]
[null,null,"CONTROL ",null,75,92,75,25,89,93,104,132,76,92,118,55,1026]
[null,null,"INGRESOS A TRATAMIENTO",null,15,24,25,6,37,36,37,11,45,57,56,34,383]
[null,null,"ALTAS DE TRATAMIENTO",null,25,20,15,8,23,19,20,15,11,25,30,16,227]
[null,null,"CONTROL DE ESPECIALIDAD POST ALTA",null,38,46,28,12,34,40,36,41,23,26,37,18,379]
[null,null,"ALTAS ADMINISTRATIVAS",null,0,0,0,0,0,0,0,0,0,0,0,0,0]
[null,"CIRUGÍA Y TRAUMATOLOGÍA MAXILOFACIAL","CONSULTA NUEVA ",null,45,55,53,52,61,65,42,50,67,90,90,73,743]
[null,null,"CONTROL ",null,120,151,210,229,193,193,136,165,140,201,208,252,2198]
[null,null,"INGRESOS A TRATAMIENTO",null,35,37,41,47,49,47,34,25,25,67,87,67,561]
[null,null,"ALTAS DE TRATAMIENTO",null,11,34,53,54,38,40,24,33,25,33,35,49,429]
[null,null,"CONTROL DE ESPECIALIDAD POST ALTA",null,0,0,0,0,54,70,31,62,40,46,60,77,440]
[null,null,"ALTAS ADMINISTRATIVAS",null,0,0,0,0,0,0,0,1,1,0,3,2,7]
[null,"ENDODONCIA","CONSULTA NUEVA ",null,112,88,175,124,128,139,146,104,84,82,85,66,1333]
[null,null,"CONTROL ",null,189,153,251,172,246,180,216,223,187,226,198,190,2431]
[null,null,"INGRESOS A TRATAMIENTO",null,89,64,127,98,98,101,130,83,70,64,73,61,1058]
[null,null,"ALTAS DE TRATAMIENTO",null,71,41,87,48,80,62,75,62,58,89,68,66,807]
[null,null,"CONTROL DE ESPECIALIDAD POST ALTA",null,0,0,0,0,0,0,0,0,0,0,0,0,0]
[null,null,"ALTAS ADMINISTRATIVAS",null,0,0,1,0,0,0,0,0,1,0,0,0,2]
[null,"ODONTOPEDIATRÍA","CONSULTA NUEVA ",null,70,30,48,48,49,42,55,36,32,44,42,35,531]
[null,null,"CONTROL ",null,227,139,226,189,225,176,233,187,191,192,248,245,2478]
[null,null,"INGRESOS A TRATAMIENTO",null,63,23,33,44,37,40,47,29,34,42,43,35,470]
[null,null,"ALTAS DE TRATAMIENTO",null,56,40,47,53,60,44,66,44,50,47,62,58,627]
[null,null,"CONTROL DE ESPECIALIDAD POST ALTA",null,0,0,0,0,0,0,0,0,0,0,0,0,0]
[null,null,"ALTAS ADMINISTRATIVAS",null,0,0,0,0,0,0,0,0,0,0,1,0,1]
[null,"OPERATORIA","CONSULTA NUEVA ",null,11,5,9,6,11,15,7,6,8,6,14,4,102]
[null,null,"CONTROL ",null,52,17,35,32,50,30,20,41,30,25,26,15,373]
[null,null,"INGRESOS A TRATAMIENTO",null,14,6,11,7,13,15,7,19,14,12,11,9,138]
[null,null,"ALTAS DE TRATAMIENTO",null,25,13,15,14,25,20,17,23,23,18,15,10,218]
[null,null,"CONTROL DE ESPECIALIDAD POST ALTA",null,0,0,0,0,0,0,0,0,0,0,0,0,0]
[null,null,"ALTAS ADMINISTRATIVAS",null,0,0,0,0,1,0,0,0,0,0,0,0,1]
[null,"ORTODONCIA Y ORTOPEDIA DENTO MAXILOFACIAL: APARATOLOGÍA FIJA","CONSULTA NUEVA ",null,31,12,42,38,52,52,68,10,0,0,43,57,405]
[null,null,"CONTROL ",null,216,110,309,260,327,196,345,364,82,303,292,336,3140]
[null,null,"INGRESOS A TRATAMIENTO",null,20,3,22,34,26,11,29,10,4,5,17,18,199]
[null,null,"ALTAS DE TRATAMIENTO",null,11,2,8,10,9,7,14,17,1,17,8,4,108]
[null,null,"CONTROL DE ESPECIALIDAD POST ALTA",null,4,1,7,11,5,2,10,13,0,10,6,11,80]
[null,null,"ALTAS ADMINISTRATIVAS",null,0,0,0,2,0,2,2,4,0,2,1,1,14]
[null,"ORTODONCIA Y ORTOPEDIA DENTO MAXILOFACIAL: APARATOLOGÍA REMOVIBLE","CONSULTA NUEVA ",null,14,3,10,1,8,7,10,1,0,0,16,13,83]
[null,null,"CONTROL ",null,101,38,117,105,129,73,104,126,27,116,93,85,1114]
[null,null,"INGRESOS A TRATAMIENTO",null,17,0,11,11,16,11,14,7,0,2,4,2,95]
[null,null,"ALTAS DE TRATAMIENTO",null,5,8,11,13,20,5,7,15,0,11,10,4,109]
[null,null,"CONTROL DE ESPECIALIDAD POST ALTA",null,2,0,0,0,1,0,0,0,3,1,1,1,9]
[null,null,"ALTAS ADMINISTRATIVAS",null,0,0,0,0,0,0,1,1,0,0,1,0,3]
[null,"PERIODONCIA","CONSULTA NUEVA ",null,40,43,46,33,42,102,68,66,62,81,69,56,708]
[null,null,"CONTROL ",null,181,112,214,105,158,170,118,201,131,148,158,129,1825]
[null,null,"INGRESOS A TRATAMIENTO",null,48,42,37,37,44,100,69,67,62,81,70,56,713]
[null,null,"ALTAS DE TRATAMIENTO",null,31,26,40,25,30,42,27,42,26,20,19,14,342]
[null,null,"CONTROL DE ESPECIALIDAD POST ALTA",null,0,0,0,0,0,0,0,0,0,0,0,0,0]
[null,null,"ALTAS ADMINISTRATIVAS",null,1,0,0,0,0,1,0,1,0,0,0,0,3]
[null,"REHABILITACIÓN: PRÓTESIS FIJA","CONSULTA NUEVA ",null,0,4,9,2,4,6,1,0,2,5,5,0,38]
[null,null,"CONTROL ",null,7,4,10,6,10,5,5,11,10,6,8,8,90]
[null,null,"INGRESOS A TRATAMIENTO",null,1,4,8,2,5,7,1,1,5,5,6,1,46]
[null,null,"ALTAS DE TRATAMIENTO",null,2,4,5,2,2,5,0,4,2,1,5,5,37]
[null,null,"CONTROL DE ESPECIALIDAD POST ALTA",null,0,0,0,0,0,0,0,0,0,0,0,0,0]
[null,null,"ALTAS ADMINISTRATIVAS",null,0,0,0,0,0,0,0,0,0,0,0,0,0]
[null,"REHABILITACIÓN: PRÓTESIS REMOVIBLE","CONSULTA NUEVA ",null,62,40,63,53,54,92,65,24,25,34,78,28,618]
[null,null,"CONTROL ",null,337,203,367,406,376,264,179,464,364,287,292,166,3705]
[null,null,"INGRESOS A TRATAMIENTO",null,59,27,57,61,62,71,49,49,33,44,58,31,601]
[null,null,"ALTAS DE TRATAMIENTO",null,74,35,61,88,84,53,36,74,82,54,59,35,735]
[null,null,"CONTROL DE ESPECIALIDAD POST ALTA",null,0,0,0,0,0,0,0,3,0,0,0,0,3]
[null,null,"ALTAS ADMINISTRATIVAS",null,0,0,0,0,1,0,1,1,0,0,1,0,4]
[null,"REHABILITACIÓN: PRÓTESIS IMPLANTOASISTIDA","CONSULTA NUEVA ",null,2,0,4,2,3,0,1,5,2,1,0,0,20]
[null,null,"CONTROL ",null,27,11,28,32,33,16,3,20,14,4,14,11,213]
[null,null,"INGRESOS A TRATAMIENTO",null,2,0,6,3,4,2,2,6,3,1,1,2,32]
[null,null,"ALTAS DE TRATAMIENTO",null,4,2,3,8,6,2,1,5,2,0,3,5,{"$f":"SUM(E148:P148)","v":41}]
[null,null,"CONTROL DE ESPECIALIDAD POST ALTA",null,0,0,0,0,0,0,0,0,0,0,0,0,0]
[null,null,"ALTAS ADMINISTRATIVAS",null,0,0,0,0,0,0,0,0,0,0,0,0,0]
[null,"IMPLANTOLOGÍA BUCO MAXILOFACIAL","CONSULTA NUEVA ",null,14,2,14,10,14,17,1,0,2,0,0,0,74]
[null,null,"CONTROL ",null,38,3,29,17,19,18,4,19,22,5,18,25,217]
[null,null,"INGRESOS A TRATAMIENTO",null,12,0,2,5,10,8,1,1,3,0,1,0,43]
[null,null,"ALTAS DE TRATAMIENTO",null,2,0,4,4,1,5,0,2,2,2,8,7,37]
[null,null,"CONTROL DE ESPECIALIDAD POST ALTA",null,0,0,0,0,0,0,0,0,0,0,0,0,0]
[null,null,"ALTAS ADMINISTRATIVAS",null,0,0,0,0,0,0,0,0,0,0,0,0,0]
[null,"PATOLOGÍA ORAL","CONSULTA NUEVA ",null,0,0,0,0,0,0,0,0,0,0,15,8,23]
[null,null,"CONTROL ",null,0,0,0,0,0,0,0,0,0,0,13,3,16]
[null,null,"INGRESOS A TRATAMIENTO",null,0,0,0,0,0,0,0,0,0,0,14,5,19]
[null,null,"ALTAS DE TRATAMIENTO",null,0,0,0,0,0,0,0,0,0,0,4,1,5]
[null,null,"CONTROL DE ESPECIALIDAD POST ALTA",null,0,0,0,0,0,0,0,0,0,0,0,0,0]
[null,null,"ALTAS ADMINISTRATIVAS",null,0,0,0,0,0,0,0,0,0,0,0,0,0]
[null,"TRASTORNOS TEMPOROMANDIBULARES Y DOLOR OROFACIAL","CONSULTA NUEVA ",null,6,8,10,10,7,15,7,11,12,14,2,6,108]
[null,null,"CONTROL ",null,36,31,38,45,46,52,34,37,41,30,20,17,427]
[null,null,"INGRESOS A TRATAMIENTO",null,5,9,9,12,10,15,6,11,12,13,2,7,111]
[null,null,"ALTAS DE TRATAMIENTO",null,3,13,8,7,7,10,11,4,6,4,5,1,79]
[null,null,"CONTROL DE ESPECIALIDAD POST ALTA",null,0,0,0,0,0,0,0,0,0,0,0,0,0]
[null,null,"ALTAS ADMINISTRATIVAS",null,0,0,0,0,0,0,0,0,0,0,0,0,0]
[null,"TOTAL","CONSULTA NUEVA ",null,{"$f":"E85+E91+E97+E103+E109+E115+E121+E127+E133+E139+E145+E151+E157+E163","v":423},{"$f":"F85+F91+F97+F103+F109+F115+F121+F127+F133+F139+F145+F151+F157+F163","v":314},508,386,469,591,507,324,341,416,518,381,{"$f":"SUM(E169:P169)","v":5178}]
[null,null,"CONTROL ",null,{"$f":"E86+E92+E98+E104+E110+E116+E122+E128+E134+E140+E146+E152+E158+E164","v":1606},1064,1909,1623,1901,1466,1501,1990,1315,1635,1706,1537,{"$f":"SUM(E170:P170)","v":19253}]
[null,null,"INGRESOS A TRATAMIENTO",null,380,239,389,367,411,464,426,319,310,393,443,328,4469]
[null,null,"ALTAS DE TRATAMIENTO",null,320,238,357,334,385,314,298,340,288,321,331,275,3801]
[null,null,"CONTROL DE ESPECIALIDAD POST ALTA",null,44,47,35,23,94,112,77,119,66,83,104,107,911]
[null,null,"ALTAS ADMINISTRATIVAS",null,1,0,1,2,2,3,4,8,2,2,7,3,35]
[null,"Fuente: REM A09, Sección F, F1, I"]

{"sheet":"HCQ","index":3,"n_rows":177,"n_cols":17,"rows_kept":177,"merged":[[7,1,10,16],[12,2,12,3],[13,2,13,3],[14,2,14,3],[15,2,15,3],[16,2,16,3],[17,2,17,3],[18,2,18,3],[19,2,19,3],[20,2,20,3],[21,2,21,3],[22,2,22,3],[23,2,23,3],[24,2,24,3],[25,2,25,3],[26,2,26,3],[27,2,27,3],[28,2,28,3],[29,2,29,3],[30,2,30,3],[31,2,31,3],[32,2,32,3],[33,2,33,3],[34,2,34,3],[35,2,35,3],[36,2,36,3],[37,2,37,3],[38,2,38,3],[39,2,39,3],[40,2,40,3],[41,2,41,3],[42,2,42,3],[43,2,43,3],[44,2,44,3],[45,2,45,3],[46,2,46,3],[47,2,47,3],[48,2,48,3],[49,2,49,3],[50,2,50,3],[51,2,51,3],[52,2,52,3],[53,2,53,3],[54,2,54,3],[55,2,55,3],[56,2,56,3],[57,2,57,3],[58,2,58,3],[59,2,59,3],[60,2,60,3],[61,2,61,3],[62,2,62,3],[63,2,63,3],[64,2,64,3],[65,2,65,3],[66,2,66,3],[67,2,67,3],[70,2,70,3],[71,2,71,3],[72,2,72,3],[73,2,73,3],[74,2,74,3],[75,2,75,3],[76,2,76,3],[77,2,77,3],[78,2,78,3],[79,2,79,3],[80,2,80,3],[83,2,83,3],[84,1,85,1],[86,1,91,1],[92,1,97,1],[98,1,103,1],[104,1,109,1],[110,1,115,1],[116,1,121,1],[122,1,127,1],[128,1,133,1],[134,1,139,1],[140,1,145,1],[146,1,151,1],[152,1,157,1],[158,1,163,1],[164,1,169,1],[170,1,175,1]]}
["MINISTERIO DE SALUD"]
["SERVICIO DE SALUD COQUIMBO"]
["DEPARTAMENTO  DE GESTIÓN, PLANIFICACIÓN Y CONTROL"]
["SUBDEPTO. DE ESTADÍSTICAS Y GESTIÓN DE LA INFORMACIÓN "]
["AÑO 2022"]
[]
[]
[null,"INDICADOR 2.3: Porcentaje de cumplimiento de la programación de horas de consultas nuevas, tratamientos y procedimientos imagenológicos realizados por profesionales Cirujanos Dentista."]
[]
[]
[]
[]
[null,null,"ACTIVIDADES DE ESPECIALIDADES",null,"Enero","Febrero","Marzo","Abril","Mayo","Junio","Julio","Agosto","Septiembre","Octubre","Noviembre","Diciembre","Total"]
[null,null,"EXAMEN Y DIAGNÓSTICO DE ESPECIALIDAD",null,902,349,992,986,837,685,676,832,617,671,543,580,{"$f":"SUM(E14:P14)","v":8670}]
[null,null,"EDUCACIÓN EN SALUD BUCAL",null,82,45,94,76,79,65,27,94,74,82,90,84,{"$f":"SUM(E15:P15)","v":892}]
[null,null,"RESPUESTA A INTERCONSULTA PERSONAS HOSPITALIZADOS",null,33,13,30,19,22,20,18,33,26,28,22,25,289]
[null,null,"VISITA A SALA",null,28,12,33,19,29,28,20,35,25,25,27,19,300]
[null,null,"CONTRALORÍA CLÍNICA",null,0,0,0,0,0,0,0,0,0,0,0,0,0]
[null,null,"CIRUGÍA TERCER MOLAR",null,74,68,51,0,76,88,56,117,66,79,190,88,953]
[null,null,"CIRUGÍA MENOR AMBULATORIA",null,21,30,34,120,44,13,31,202,114,51,79,43,782]
[null,null,"CIRUGÍA MAYOR AMBULATORIA",null,6,6,2,62,7,6,3,14,1,4,6,0,117]
[null,null,"TRATAMIENTO TRAUMATISMO DENTOALVEOLAR",null,0,3,4,9,15,5,6,10,7,10,9,8,86]
[null,null,"OBTURACIÓN DIRECTA",null,41,17,53,5,65,48,28,35,28,40,43,22,425]
[null,null,"OBTURACIÓN INDIRECTA (INLAYS U ONLAYS)",null,0,1,0,0,1,0,0,0,0,0,0,0,2]
[null,null,"INSTALACIÓN APARATO REMOVIBLE ORTODÓNCICO",null,0,28,0,0,0,1,0,0,0,0,1,1,31]
[null,null,"INSTALACIÓN APARATO FIJO ORTODÓNCICO",null,38,0,48,46,67,46,0,32,0,58,40,24,399]
[null,null,"INSTALACIÓN APARATO DE CONTENCIÓN ORTODÓNCICO",null,2,0,3,2,0,5,17,2,0,0,1,0,32]
[null,null,"RETIRO APARATOLOGÍA DE ORTODONCIA",null,7,2,5,4,0,2,0,2,0,3,3,1,29]
[null,null,"ORTOPEDIA PREQUIRÚRGICA",null,0,0,0,0,0,0,0,0,0,0,0,0,0]
[null,null,"ORTODONCIA PREVENTIVA E INTERCEPTIVA (OPI)",null,112,59,142,121,148,122,22,71,140,128,131,75,1271]
[null,null,"TRATAMIENTO ENDODONCIA UNIRRADICULAR",null,26,9,32,27,20,22,22,35,15,12,18,14,252]
[null,null,"TRATAMIENTO ENDODONCIA BIRRADICULAR",null,60,9,55,30,26,28,13,30,36,14,21,14,336]
[null,null,"TRATAMIENTO ENDODONCIA MULTIRRADICULAR",null,62,13,76,54,50,27,24,51,63,41,35,32,528]
[null,null,"INDUCCIÓN AL CIERRE APICAL",null,0,0,1,0,0,0,1,0,3,1,1,1,8]
[null,null,"RETRATAMIENTO DE ENDODONCIA",null,7,2,2,8,0,3,1,0,3,2,0,3,31]
[null,null,"CIRUGÍA APICAL",null,1,0,0,0,0,0,0,0,0,0,0,0,1]
[null,null,"ADAPTACIÓN A LA ATENCIÓN ODONTOLÓGICA ",null,42,20,63,36,68,48,41,70,64,45,52,53,602]
[null,null,"PROCEDIMIENTO RESTAURADOR (ODONTOPEDIATRÍA)",null,34,17,24,25,56,40,25,63,37,31,33,37,422]
[null,null,"PROCEDIMIENTO PULPAR (ODONTOPEDIATRÍA)",null,16,10,25,14,24,24,7,19,29,18,35,26,247]
[null,null,"CIRUGÍA AMBULATORIA (ODONTOPEDIATRÍA)",null,13,8,9,6,7,1,0,8,3,1,1,2,59]
[null,null,"DESTARTRAJE SUBGINGIVAL O PULIDO RADICULAR ",null,294,194,444,349,0,420,243,389,262,341,251,284,3471]
[null,null,"DESTARTRAJE SUPRAGINGIVAL O PULIDO CORONARIO",null,295,196,472,373,0,424,264,407,281,359,273,284,3628]
[null,null,"PROCEDIMIENTO QUIRÚRGICO (PERIODONCIA)",null,0,0,0,0,0,0,0,0,0,0,0,0,0]
[null,null,"PROCEDIMIENTO QUIRÚRGICO PERIIMPLANTAR (PERIODONCIA)",null,0,0,0,0,0,0,0,0,0,0,0,0,0]
[null,null,"FERULIZACIÓN",null,6,3,7,7,9,1,5,3,5,10,7,6,69]
[null,null,"REHABILITACIÓN MEDIANTE PRÓTESIS REMOVIBLE ACRÍLICA PARCIAL O TOTAL",null,298,238,380,305,0,188,195,187,201,244,268,168,2672]
[null,null,"REHABILITACIÓN MEDIANTE PRÓTESIS REMOVIBLE METÁLICA PARCIAL",null,0,3,0,0,0,0,0,0,0,0,0,0,3]
[null,null,"REHABILITACIÓN MEDIANTE PRÓTESIS FIJA UNITARIA O PLURAL",null,0,0,1,0,0,0,0,0,0,0,0,0,1]
[null,null,"REHABILITACIÓN MEDIANTE PRÓTESIS FIJA IMPLANTOASISTIDA",null,10,8,45,76,0,43,23,32,40,27,29,29,362]
[null,null,"REHABILITACIÓN MEDIANTE PRÓTESIS MUCO-  IMPLANTOASISTIDA",null,15,6,40,27,0,21,23,20,7,11,12,11,193]
[null,null,"REPARACIÓN DE PRÓTESIS",null,4,5,13,3,0,6,10,5,10,8,8,6,78]
[null,null,"IMPLANTOLOGÍA QUIRÚRGICA",null,0,1,0,0,0,8,9,9,6,3,6,33,75]
[null,null,"TOMA DE BIOPSIA",null,2,0,3,10,8,1,1,10,6,4,3,4,52]
[null,null,"ESTUDIO HISTOPATOLÓGICO",null,0,0,0,0,2,0,0,0,0,0,0,1,3]
[null,null,"SIALOMETRÍA",null,0,0,0,0,0,0,0,0,0,0,0,0,0]
[null,null,"TERAPIA FARMACOLÓGICA DE LESIONES DEL TERRITORIO ORAL Y MAXILOFACIAL",null,65,21,106,90,66,18,18,39,28,21,26,23,521]
[null,null,"TERAPIA NO FARMACOLÓGICA DE LESIONES DEL TERRITORIO ORAL Y MAXILOFACIAL",null,71,43,28,75,58,78,35,88,17,57,78,10,638]
[null,null,"ESTUDIO CLÍNICO LESIONES DEL TERRITORIO ORAL MAXILOFACIAL",null,10,0,6,10,6,7,6,3,0,3,5,2,58]
[null,null,"TERAPIA FÍSICA EN TRASTORNOS TEMPOROMANDIBULARES (TTM) Y DOLOR OROFACIAL (DOF)",null,12,0,25,30,40,25,20,19,15,17,19,15,237]
[null,null,"INFILTRACIÓN EN ARTICULACIÓN TEMPORO MANDIBULAR (ATM)",null,20,13,38,34,59,69,42,35,50,31,61,40,492]
[null,null,"BLOQUEO ANESTÉSICO Y/O MEDICAMENTOSO EN TTM Y DOF",null,64,22,60,94,123,114,75,70,97,87,83,62,951]
[null,null,"ARTROCENTESIS EN ATM",null,42,13,50,36,47,40,19,24,26,9,24,12,342]
[null,null,"TERAPIA BIOCONDUCTUAL",null,72,20,47,54,27,21,30,32,39,28,21,13,404]
[null,null,"DESGASTE SELECTIVO",null,1,0,17,41,40,36,19,32,21,9,28,12,256]
[null,null,"INSTALACIÓN DE DISPOSITIVO ORTOPÉDICO",null,24,4,26,0,39,37,19,26,23,18,27,23,266]
[null,null,"ACTIVIDADES SOMATOPRÓTESIS",null,0,0,0,0,0,0,0,0,0,0,0,0,0]
[null,null,"REHABILITACIÓN DE PRÓTESIS MAXILOFACIAL",null,0,0,2,0,0,0,0,0,0,0,0,0,2]
[null,null,"TOTAL",null,{"$f":"SUM(E14:E67)","v":2912},{"$f":"SUM(F14:F67)","v":1511},3588,3283,2165,2884,2094,3185,2485,2631,2610,2190,31538]
[]
[]
[null,null,"ACTIVIDADES DE ESPECIALIDADES",null,"Enero","Febrero","Marzo","Abril","Mayo","Junio","Julio","Agosto","Septiembre","Octubre","Noviembre","Diciembre","Total"]
[null,null,"RADIOGRAFÍA INTRAORAL MEDIANTE TÉCNICAS RETROALVEOLARES (POR PLACA)",null,246,307,459,430,340,291,158,261,263,238,261,283,{"$f":"SUM(E72:P72)","v":3537}]
[null,null,"RADIOGRAFÍA INTRAORAL MEDIANTE TÉCNICAS BITE WING (POR PLACA)",null,22,29,45,33,33,24,13,13,13,12,47,23,{"$f":"SUM(E73:P73)","v":307}]
[null,null,"RADIOGRAFÍA EXTRAORAL (POR PLACA)",null,1,0,0,1,0,0,0,0,0,0,0,0,2]
[null,null,"RADIOGRAFÍA OCLUSAL (POR PLACA)",null,0,0,1,0,2,0,0,4,0,4,4,0,15]
[null,null,"TELERRADIOGRAFÍA (POR PLACA)",null,31,25,39,37,0,0,0,0,19,16,25,19,211]
[null,null,"RADIOGRAFÍA PANORÁMICA (POR PLACA)",null,79,61,103,105,0,0,0,10,75,69,94,65,661]
[null,null,"TOMOGRAFÍA COMPUTACIONAL MAXILO FACIAL CONE BEAM (POR ADQUISICIÓN)",null,78,76,108,66,51,72,81,126,119,65,46,47,935]
[null,null,"SIALOGRAFÍAS (POR PROCEDIMIENTO)",null,0,0,0,0,0,0,0,0,0,0,0,0,0]
[null,null,"PROCEDIMIENTO IMAGENOLÓGICO COMPLEJO (POR PROCEDIMIENTO)",null,0,0,0,0,0,387,0,0,0,0,0,0,387]
[null,null,"TOTAL",null,{"$f":"SUM(E72:E80)","v":457},498,755,672,426,774,252,414,489,404,477,437,6055]
[]
[]
[null,"ESPECIALIDAD Y TIPO DE INGRESO O EGRESO","Tipo de Ingreso",null,"Enero","Febrero","Marzo","Abril","Mayo","Junio","Julio","Agosto","Septiembre","Octubre","Noviembre","Diciembre","Total"]
[null,"CONSULTAS DE URGENCIA","CONSULTAS GES",null,3,14,19,11,23,14,8,33,6,17,19,9,{"$f":"SUM(E85:P85)","v":176}]
[null,null,"CONSULTA NO GES",null,17,14,37,8,19,17,21,18,10,38,14,7,{"$f":"SUM(E86:P86)","v":220}]
[null,"CIRUGÍA BUCAL","CONSULTA NUEVA ",null,0,0,0,0,0,0,0,0,0,0,0,0,0]
[null,null,"CONTROL ",null,0,0,1,0,0,0,0,0,0,0,0,0,1]
[null,null,"INGRESOS A TRATAMIENTO",null,0,0,0,0,0,0,0,0,0,0,0,0,0]
[null,null,"ALTAS DE TRATAMIENTO",null,0,0,1,0,0,0,0,0,0,0,3,0,4]
[null,null,"CONTROL DE ESPECIALIDAD POST ALTA",null,0,0,0,0,0,0,0,0,0,0,0,0,0]
[null,null,"ALTAS ADMINISTRATIVAS",null,0,0,0,0,0,0,0,0,0,0,0,0,0]
[null,"CIRUGÍA Y TRAUMATOLOGÍA MAXILOFACIAL","CONSULTA NUEVA ",null,100,76,78,118,126,128,89,88,41,76,72,103,1095]
[null,null,"CONTROL ",null,150,130,45,93,113,150,75,130,57,97,109,58,1207]
[null,null,"INGRESOS A TRATAMIENTO",null,72,55,28,82,31,52,35,71,43,40,64,34,607]
[null,null,"ALTAS DE TRATAMIENTO",null,52,32,32,45,47,74,50,65,46,51,67,55,616]
[null,null,"CONTROL DE ESPECIALIDAD POST ALTA",null,26,43,0,0,0,0,0,0,0,0,0,0,69]
[null,null,"ALTAS ADMINISTRATIVAS",null,0,0,0,0,0,0,0,0,0,0,0,0,0]
[null,"ENDODONCIA","CONSULTA NUEVA ",null,81,19,81,80,63,90,46,56,36,40,44,37,673]
[null,null,"CONTROL ",null,183,49,148,160,157,181,100,156,131,121,100,82,1568]
[null,null,"INGRESOS A TRATAMIENTO",null,53,10,73,59,67,52,37,69,53,43,39,40,595]
[null,null,"ALTAS DE TRATAMIENTO",null,42,11,66,48,47,91,36,66,52,48,48,31,586]
[null,null,"CONTROL DE ESPECIALIDAD POST ALTA",null,39,13,58,58,47,67,36,53,47,35,39,34,526]
[null,null,"ALTAS ADMINISTRATIVAS",null,2,15,1,1,0,0,1,1,0,0,0,0,21]
[null,"ODONTOPEDIATRÍA","CONSULTA NUEVA ",null,27,10,38,21,29,35,13,35,27,11,30,19,295]
[null,null,"CONTROL ",null,0,59,133,106,172,173,70,165,109,104,122,116,1329]
[null,null,"INGRESOS A TRATAMIENTO",null,22,44,34,16,26,20,11,29,24,20,17,15,278]
[null,null,"ALTAS DE TRATAMIENTO",null,7,13,17,15,19,43,12,36,36,27,38,21,284]
[null,null,"CONTROL DE ESPECIALIDAD POST ALTA",null,6,2,7,6,7,6,5,5,5,7,5,11,72]
[null,null,"ALTAS ADMINISTRATIVAS",null,0,0,0,0,0,0,0,1,0,0,0,0,1]
[null,"OPERATORIA","CONSULTA NUEVA ",null,0,0,0,1,1,0,6,0,1,1,3,0,13]
[null,null,"CONTROL ",null,4,0,0,7,9,8,1,3,7,6,3,0,48]
[null,null,"INGRESOS A TRATAMIENTO",null,2,0,0,0,3,2,4,0,1,0,0,0,12]
[null,null,"ALTAS DE TRATAMIENTO",null,2,0,0,0,4,2,1,0,1,2,0,0,12]
[null,null,"CONTROL DE ESPECIALIDAD POST ALTA",null,0,0,0,1,1,0,0,0,1,0,1,0,4]
[null,null,"ALTAS ADMINISTRATIVAS",null,0,0,0,0,0,0,0,0,0,0,0,0,0]
[null,"ORTODONCIA Y ORTOPEDIA DENTO MAXILOFACIAL: APARATOLOGÍA FIJA","CONSULTA NUEVA ",null,39,22,43,37,31,30,3,15,27,26,27,15,315]
[null,null,"CONTROL ",null,330,180,343,279,321,380,48,167,297,293,266,145,3049]
[null,null,"INGRESOS A TRATAMIENTO",null,9,169,45,25,25,15,0,6,5,4,4,1,308]
[null,null,"ALTAS DE TRATAMIENTO",null,7,8,9,5,4,10,0,6,15,8,26,7,105]
[null,null,"CONTROL DE ESPECIALIDAD POST ALTA",null,12,1,3,3,4,2,0,1,4,2,4,2,38]
[null,null,"ALTAS ADMINISTRATIVAS",null,0,2,0,0,0,0,0,0,0,2,2,0,6]
[null,"ORTODONCIA Y ORTOPEDIA DENTO MAXILOFACIAL: APARATOLOGÍA REMOVIBLE","CONSULTA NUEVA ",null,0,0,0,0,0,0,0,0,0,0,0,0,0]
[null,null,"CONTROL ",null,0,0,0,0,0,0,0,0,0,0,0,0,0]
[null,null,"INGRESOS A TRATAMIENTO",null,0,0,0,0,0,0,0,0,0,0,0,0,0]
[null,null,"ALTAS DE TRATAMIENTO",null,0,0,0,0,0,0,0,0,0,0,0,0,0]
[null,null,"CONTROL DE ESPECIALIDAD POST ALTA",null,0,0,0,0,0,0,0,0,0,0,0,0,0]
[null,null,"ALTAS ADMINISTRATIVAS",null,0,0,0,0,0,0,0,0,0,0,0,0,0]
[null,"PERIODONCIA","CONSULTA NUEVA ",null,24,15,24,28,23,25,22,31,37,32,21,33,315]
[null,null,"CONTROL ",null,61,43,76,76,81,122,52,71,52,74,56,58,822]
[null,null,"INGRESOS A TRATAMIENTO",null,12,14,16,13,14,30,13,17,6,17,15,12,179]
[null,null,"ALTAS DE TRATAMIENTO",null,25,10,36,38,24,37,11,9,9,17,9,16,241]
[null,null,"CONTROL DE ESPECIALIDAD POST ALTA",null,0,19,4,5,18,43,15,21,26,19,16,22,208]
[null,null,"ALTAS ADMINISTRATIVAS",null,1,0,0,0,0,0,0,0,0,0,0,0,1]
[null,"REHABILITACIÓN: PRÓTESIS FIJA","CONSULTA NUEVA ",null,0,0,0,0,0,0,0,0,0,0,0,0,0]
[null,null,"CONTROL ",null,0,0,0,0,0,0,0,0,0,0,0,0,0]
[null,null,"INGRESOS A TRATAMIENTO",null,0,0,0,0,0,0,0,0,0,0,0,0,0]
[null,null,"ALTAS DE TRATAMIENTO",null,0,0,0,0,0,0,0,0,0,0,0,0,0]
[null,null,"CONTROL DE ESPECIALIDAD POST ALTA",null,0,0,0,0,0,0,0,0,0,0,0,0,0]
[null,null,"ALTAS ADMINISTRATIVAS",null,0,0,0,0,0,0,0,0,0,0,0,0,0]
[null,"REHABILITACIÓN: PRÓTESIS REMOVIBLE","CONSULTA NUEVA ",null,85,21,87,68,51,0,55,39,45,52,37,40,580]
[null,null,"CONTROL ",null,489,229,386,325,211,0,148,166,105,144,136,135,2474]
[null,null,"INGRESOS A TRATAMIENTO",null,61,178,80,94,61,0,67,64,45,26,31,28,735]
[null,null,"ALTAS DE TRATAMIENTO",null,50,16,93,36,80,0,22,36,33,34,33,29,462]
[null,null,"CONTROL DE ESPECIALIDAD POST ALTA",null,90,17,39,38,55,0,39,41,28,25,25,39,436]
[null,null,"ALTAS ADMINISTRATIVAS",null,0,18,0,1,0,0,0,1,1,0,0,0,21]
[null,"REHABILITACIÓN: PRÓTESIS IMPLANTOASISTIDA","CONSULTA NUEVA ",null,0,0,0,0,0,0,0,0,0,27,32,15,74]
[null,null,"CONTROL ",null,0,0,0,0,0,0,0,3,0,54,61,53,171]
[null,null,"INGRESOS A TRATAMIENTO",null,0,0,0,0,0,0,0,0,0,3,21,6,30]
[null,null,"ALTAS DE TRATAMIENTO",null,0,0,0,0,0,0,0,0,0,5,9,7,{"$f":"SUM(E150:P150)","v":21}]
[null,null,"CONTROL DE ESPECIALIDAD POST ALTA",null,0,0,0,0,0,0,0,2,0,1,3,0,6]
[null,null,"ALTAS ADMINISTRATIVAS",null,0,0,0,0,0,0,0,0,0,0,0,0,0]
[null,"IMPLANTOLOGÍA BUCO MAXILOFACIAL","CONSULTA NUEVA ",null,12,12,32,15,16,45,26,24,28,3,0,1,214]
[null,null,"CONTROL ",null,28,27,95,94,89,116,68,69,62,0,0,0,648]
[null,null,"INGRESOS A TRATAMIENTO",null,1,15,7,4,11,8,2,3,2,0,1,0,54]
[null,null,"ALTAS DE TRATAMIENTO",null,4,2,11,17,21,42,14,8,6,0,0,0,125]
[null,null,"CONTROL DE ESPECIALIDAD POST ALTA",null,7,3,16,17,15,22,19,9,4,0,0,0,112]
[null,null,"ALTAS ADMINISTRATIVAS",null,0,1,0,0,0,0,0,0,0,0,0,0,1]
[null,"PATOLOGÍA ORAL","CONSULTA NUEVA ",null,0,0,0,0,0,0,0,0,0,0,0,0,0]
[null,null,"CONTROL ",null,0,0,0,0,0,0,0,0,0,0,0,0,0]
[null,null,"INGRESOS A TRATAMIENTO",null,0,0,0,0,0,0,0,0,0,0,0,0,0]
[null,null,"ALTAS DE TRATAMIENTO",null,0,0,0,0,0,0,0,0,0,0,0,0,0]
[null,null,"CONTROL DE ESPECIALIDAD POST ALTA",null,0,0,0,0,0,0,0,0,0,0,0,0,0]
[null,null,"ALTAS ADMINISTRATIVAS",null,0,0,0,0,0,0,0,0,0,0,0,0,0]
[null,"TRASTORNOS TEMPOROMANDIBULARES Y DOLOR OROFACIAL","CONSULTA NUEVA ",null,29,14,24,36,37,82,20,19,19,19,20,18,337]
[null,null,"CONTROL ",null,182,88,123,126,135,255,94,102,117,99,108,87,1516]
[null,null,"INGRESOS A TRATAMIENTO",null,32,14,25,30,35,50,20,19,15,16,19,16,291]
[null,null,"ALTAS DE TRATAMIENTO",null,18,8,23,33,49,77,29,32,27,15,18,9,338]
[null,null,"CONTROL DE ESPECIALIDAD POST ALTA",null,0,4,1,0,0,0,0,0,0,0,0,0,5]
[null,null,"ALTAS ADMINISTRATIVAS",null,0,0,0,0,0,0,0,0,0,0,0,0,0]
[null,"TOTAL","CONSULTA NUEVA ",null,{"$f":"E87+E93+E99+E105+E111+E117+E123+E129+E135+E141+E147+E153+E159+E165","v":397},{"$f":"F87+F93+F99+F105+F111+F117+F123+F129+F135+F141+F147+F153+F159+F165","v":189},407,404,377,435,280,307,261,287,286,281,{"$f":"SUM(E171:P171)","v":3911}]
[null,null,"CONTROL ",null,{"$f":"E88+E94+E100+E106+E112+E118+E124+E130+E136+E142+E148+E154+E160+E166","v":1427},805,1350,1266,1288,1385,656,1032,937,992,961,734,{"$f":"SUM(E172:P172)","v":12833}]
[null,null,"INGRESOS A TRATAMIENTO",null,264,499,308,323,273,229,189,278,194,169,211,152,3089]
[null,null,"ALTAS DE TRATAMIENTO",null,207,100,288,237,295,376,175,258,225,207,251,175,2794]
[null,null,"CONTROL DE ESPECIALIDAD POST ALTA",null,180,102,128,128,147,140,114,132,115,89,93,108,1476]
[null,null,"ALTAS ADMINISTRATIVAS",null,3,36,1,2,0,0,1,3,1,2,2,0,51]
[null,"Fuente: REM A09, Sección F, F1, I"]

{"sheet":"HOV","index":4,"n_rows":177,"n_cols":17,"rows_kept":177,"merged":[[7,1,10,16],[12,2,12,3],[13,2,13,3],[14,2,14,3],[15,2,15,3],[16,2,16,3],[17,2,17,3],[18,2,18,3],[19,2,19,3],[20,2,20,3],[21,2,21,3],[22,2,22,3],[23,2,23,3],[24,2,24,3],[25,2,25,3],[26,2,26,3],[27,2,27,3],[28,2,28,3],[29,2,29,3],[30,2,30,3],[31,2,31,3],[32,2,32,3],[33,2,33,3],[34,2,34,3],[35,2,35,3],[36,2,36,3],[37,2,37,3],[38,2,38,3],[39,2,39,3],[40,2,40,3],[41,2,41,3],[42,2,42,3],[43,2,43,3],[44,2,44,3],[45,2,45,3],[46,2,46,3],[47,2,47,3],[48,2,48,3],[49,2,49,3],[50,2,50,3],[51,2,51,3],[52,2,52,3],[53,2,53,3],[54,2,54,3],[55,2,55,3],[56,2,56,3],[57,2,57,3],[58,2,58,3],[59,2,59,3],[60,2,60,3],[61,2,61,3],[62,2,62,3],[63,2,63,3],[64,2,64,3],[65,2,65,3],[66,2,66,3],[67,2,67,3],[70,2,70,3],[71,2,71,3],[72,2,72,3],[73,2,73,3],[74,2,74,3],[75,2,75,3],[76,2,76,3],[77,2,77,3],[78,2,78,3],[79,2,79,3],[80,2,80,3],[83,2,83,3],[84,1,85,1],[86,1,91,1],[92,1,97,1],[98,1,103,1],[104,1,109,1],[110,1,115,1],[116,1,121,1],[122,1,127,1],[128,1,133,1],[134,1,139,1],[140,1,145,1],[146,1,151,1],[152,1,157,1],[158,1,163,1],[164,1,169,1],[170,1,175,1]]}
["MINISTERIO DE SALUD"]
["SERVICIO DE SALUD COQUIMBO"]
["DEPARTAMENTO  DE GESTIÓN, PLANIFICACIÓN Y CONTROL"]
["SUBDEPTO. DE ESTADÍSTICAS Y GESTIÓN DE LA INFORMACIÓN "]
["AÑO 2022"]
[]
[]
[null,"INDICADOR 2.3: Porcentaje de cumplimiento de la programación de horas de consultas nuevas, tratamientos y procedimientos imagenológicos realizados por profesionales Cirujanos Dentista."]
[]
[]
[]
[]
[null,null,"ACTIVIDADES DE ESPECIALIDADES",null,"Enero","Febrero","Marzo","Abril","Mayo","Junio","Julio","Agosto","Septiembre","Octubre","Noviembre","Diciembre","Total"]
[null,null,"EXAMEN Y DIAGNÓSTICO DE ESPECIALIDAD",null,319,215,449,379,342,365,353,426,345,359,385,414,{"$f":"SUM(E14:P14)","v":4351}]
[null,null,"EDUCACIÓN EN SALUD BUCAL",null,242,158,287,284,288,222,255,258,184,291,234,288,{"$f":"SUM(E15:P15)","v":2991}]
[null,null,"RESPUESTA A INTERCONSULTA PERSONAS HOSPITALIZADOS",null,3,7,12,7,5,3,15,11,6,2,8,8,87]
[null,null,"VISITA A SALA",null,3,7,18,9,15,7,17,7,6,2,8,9,108]
[null,null,"CONTRALORÍA CLÍNICA",null,105,0,44,128,121,47,86,70,50,67,0,149,867]
[null,null,"CIRUGÍA TERCER MOLAR",null,49,33,73,71,46,47,67,72,47,48,37,45,635]
[null,null,"CIRUGÍA MENOR AMBULATORIA",null,46,28,53,59,48,37,41,95,43,72,53,56,631]
[null,null,"CIRUGÍA MAYOR AMBULATORIA",null,2,3,2,0,9,5,7,6,2,4,4,2,46]
[null,null,"TRATAMIENTO TRAUMATISMO DENTOALVEOLAR",null,0,0,5,1,1,0,0,1,0,1,1,4,14]
[null,null,"OBTURACIÓN DIRECTA",null,22,38,69,66,116,88,79,121,81,90,84,115,969]
[null,null,"OBTURACIÓN INDIRECTA (INLAYS U ONLAYS)",null,1,1,1,0,0,0,0,0,0,0,0,1,4]
[null,null,"INSTALACIÓN APARATO REMOVIBLE ORTODÓNCICO",null,1,2,0,2,3,1,1,1,1,1,3,0,16]
[null,null,"INSTALACIÓN APARATO FIJO ORTODÓNCICO",null,29,16,28,26,37,31,28,23,27,28,25,24,322]
[null,null,"INSTALACIÓN APARATO DE CONTENCIÓN ORTODÓNCICO",null,3,9,3,14,11,19,11,19,9,15,15,12,140]
[null,null,"RETIRO APARATOLOGÍA DE ORTODONCIA",null,13,8,8,7,14,17,13,24,17,12,16,17,166]
[null,null,"ORTOPEDIA PREQUIRÚRGICA",null,0,0,0,2,0,0,0,0,0,0,0,0,2]
[null,null,"ORTODONCIA PREVENTIVA E INTERCEPTIVA (OPI)",null,2,0,4,1,1,0,1,3,0,1,1,2,16]
[null,null,"TRATAMIENTO ENDODONCIA UNIRRADICULAR",null,8,4,10,15,19,18,16,21,16,20,20,23,190]
[null,null,"TRATAMIENTO ENDODONCIA BIRRADICULAR",null,9,3,26,20,21,21,19,20,25,24,25,30,243]
[null,null,"TRATAMIENTO ENDODONCIA MULTIRRADICULAR",null,16,5,26,24,37,31,29,44,36,52,42,53,395]
[null,null,"INDUCCIÓN AL CIERRE APICAL",null,1,1,0,1,0,0,0,0,1,2,1,1,8]
[null,null,"RETRATAMIENTO DE ENDODONCIA",null,0,2,6,2,7,5,4,5,3,3,9,2,48]
[null,null,"CIRUGÍA APICAL",null,0,0,0,2,1,1,0,0,0,0,1,1,6]
[null,null,"ADAPTACIÓN A LA ATENCIÓN ODONTOLÓGICA ",null,2,15,31,38,40,0,0,0,0,0,0,0,126]
[null,null,"PROCEDIMIENTO RESTAURADOR (ODONTOPEDIATRÍA)",null,0,12,21,27,0,0,0,0,0,0,0,0,60]
[null,null,"PROCEDIMIENTO PULPAR (ODONTOPEDIATRÍA)",null,0,5,4,5,12,3,0,8,2,10,7,4,60]
[null,null,"CIRUGÍA AMBULATORIA (ODONTOPEDIATRÍA)",null,0,2,13,14,6,9,1,24,10,18,20,14,131]
[null,null,"DESTARTRAJE SUBGINGIVAL O PULIDO RADICULAR ",null,62,14,24,72,105,70,66,97,98,91,66,81,846]
[null,null,"DESTARTRAJE SUPRAGINGIVAL O PULIDO CORONARIO",null,78,13,29,91,108,81,74,106,98,101,76,90,945]
[null,null,"PROCEDIMIENTO QUIRÚRGICO (PERIODONCIA)",null,0,0,0,2,1,3,1,0,1,2,1,2,13]
[null,null,"PROCEDIMIENTO QUIRÚRGICO PERIIMPLANTAR (PERIODONCIA)",null,0,0,0,0,1,0,0,0,1,0,0,0,2]
[null,null,"FERULIZACIÓN",null,1,1,3,0,0,3,1,1,2,1,2,0,15]
[null,null,"REHABILITACIÓN MEDIANTE PRÓTESIS REMOVIBLE ACRÍLICA PARCIAL O TOTAL",null,35,35,76,78,65,57,39,63,49,31,37,59,624]
[null,null,"REHABILITACIÓN MEDIANTE PRÓTESIS REMOVIBLE METÁLICA PARCIAL",null,0,0,0,0,0,0,0,0,0,0,0,0,0]
[null,null,"REHABILITACIÓN MEDIANTE PRÓTESIS FIJA UNITARIA O PLURAL",null,0,2,1,0,2,0,2,2,2,0,1,10,22]
[null,null,"REHABILITACIÓN MEDIANTE PRÓTESIS FIJA IMPLANTOASISTIDA",null,1,0,1,1,3,3,2,3,1,3,7,4,29]
[null,null,"REHABILITACIÓN MEDIANTE PRÓTESIS MUCO-  IMPLANTOASISTIDA",null,0,0,0,0,0,0,2,0,1,1,0,2,6]
[null,null,"REPARACIÓN DE PRÓTESIS",null,2,3,4,0,2,1,6,2,1,1,2,2,26]
[null,null,"IMPLANTOLOGÍA QUIRÚRGICA",null,6,2,1,0,6,5,3,12,3,11,6,3,58]
[null,null,"TOMA DE BIOPSIA",null,4,2,3,1,1,2,0,1,0,2,0,1,17]
[null,null,"ESTUDIO HISTOPATOLÓGICO",null,6,6,4,12,12,6,6,8,0,8,6,12,86]
[null,null,"SIALOMETRÍA",null,0,0,0,0,0,0,0,0,0,0,0,0,0]
[null,null,"TERAPIA FARMACOLÓGICA DE LESIONES DEL TERRITORIO ORAL Y MAXILOFACIAL",null,24,9,35,31,31,14,31,18,6,10,9,2,220]
[null,null,"TERAPIA NO FARMACOLÓGICA DE LESIONES DEL TERRITORIO ORAL Y MAXILOFACIAL",null,1,0,0,0,2,3,0,0,1,2,1,0,10]
[null,null,"ESTUDIO CLÍNICO LESIONES DEL TERRITORIO ORAL MAXILOFACIAL",null,0,0,0,2,2,0,1,0,2,3,1,0,11]
[null,null,"TERAPIA FÍSICA EN TRASTORNOS TEMPOROMANDIBULARES (TTM) Y DOLOR OROFACIAL (DOF)",null,1,0,0,0,0,0,0,1,2,0,0,0,4]
[null,null,"INFILTRACIÓN EN ARTICULACIÓN TEMPORO MANDIBULAR (ATM)",null,0,0,0,0,2,2,0,2,0,4,0,0,10]
[null,null,"BLOQUEO ANESTÉSICO Y/O MEDICAMENTOSO EN TTM Y DOF",null,0,0,0,0,2,0,0,0,0,0,0,0,2]
[null,null,"ARTROCENTESIS EN ATM",null,0,0,0,0,0,1,0,0,0,1,0,0,2]
[null,null,"TERAPIA BIOCONDUCTUAL",null,4,0,1,2,0,0,0,0,0,0,0,0,7]
[null,null,"DESGASTE SELECTIVO",null,5,2,1,4,5,6,4,7,0,1,2,0,37]
[null,null,"INSTALACIÓN DE DISPOSITIVO ORTOPÉDICO",null,2,0,3,5,0,2,3,1,1,2,0,3,22]
[null,null,"ACTIVIDADES SOMATOPRÓTESIS",null,0,0,0,0,0,0,0,0,0,0,0,0,0]
[null,null,"REHABILITACIÓN DE PRÓTESIS MAXILOFACIAL",null,0,0,0,0,0,0,0,0,0,0,0,0,0]
[null,null,"TOTAL",null,{"$f":"SUM(E14:E67)","v":1108},{"$f":"SUM(F14:F67)","v":663},1379,1505,1550,1236,1284,1583,1180,1397,1216,1545,15646]
[]
[]
[null,null,"ACTIVIDADES DE ESPECIALIDADES",null,"Enero","Febrero","Marzo","Abril","Mayo","Junio","Julio","Agosto","Septiembre","Octubre","Noviembre","Diciembre","Total"]
[null,null,"RADIOGRAFÍA INTRAORAL MEDIANTE TÉCNICAS RETROALVEOLARES (POR PLACA)",null,244,113,208,248,96,112,146,146,161,65,83,144,{"$f":"SUM(E72:P72)","v":1766}]
[null,null,"RADIOGRAFÍA INTRAORAL MEDIANTE TÉCNICAS BITE WING (POR PLACA)",null,35,5,12,15,31,57,43,30,53,44,48,56,{"$f":"SUM(E73:P73)","v":429}]
[null,null,"RADIOGRAFÍA EXTRAORAL (POR PLACA)",null,0,0,0,0,0,0,0,0,0,0,0,0,0]
[null,null,"RADIOGRAFÍA OCLUSAL (POR PLACA)",null,0,0,0,0,0,0,1,0,0,1,0,0,2]
[null,null,"TELERRADIOGRAFÍA (POR PLACA)",null,28,22,21,20,14,9,16,23,19,13,22,21,228]
[null,null,"RADIOGRAFÍA PANORÁMICA (POR PLACA)",null,143,62,102,130,77,72,107,150,135,76,92,134,1280]
[null,null,"TOMOGRAFÍA COMPUTACIONAL MAXILO FACIAL CONE BEAM (POR ADQUISICIÓN)",null,26,14,23,40,21,22,31,41,44,24,14,46,346]
[null,null,"SIALOGRAFÍAS (POR PROCEDIMIENTO)",null,0,0,0,0,0,0,0,0,0,0,0,0,0]
[null,null,"PROCEDIMIENTO IMAGENOLÓGICO COMPLEJO (POR PROCEDIMIENTO)",null,0,0,0,0,0,0,0,0,0,0,0,0,0]
[null,null,"TOTAL",null,{"$f":"SUM(E72:E80)","v":476},216,366,453,239,272,344,390,412,223,259,401,4051]
[]
[]
[null,"ESPECIALIDAD Y TIPO DE INGRESO O EGRESO","Tipo de Ingreso",null,"Enero","Febrero","Marzo","Abril","Mayo","Junio","Julio","Agosto","Septiembre","Octubre","Noviembre","Diciembre","Total"]
[null,"CONSULTAS DE URGENCIA","CONSULTAS GES",null,10,6,15,13,17,9,7,13,4,11,6,8,{"$f":"SUM(E85:P85)","v":119}]
[null,null,"CONSULTA NO GES",null,36,16,37,25,25,24,21,29,16,24,30,27,{"$f":"SUM(E86:P86)","v":310}]
[null,"CIRUGÍA BUCAL","CONSULTA NUEVA ",null,13,4,22,20,25,10,7,25,12,28,19,14,199]
[null,null,"CONTROL ",null,31,3,44,34,51,42,13,37,30,78,68,82,513]
[null,null,"INGRESOS A TRATAMIENTO",null,13,4,22,20,25,10,7,25,12,28,19,14,199]
[null,null,"ALTAS DE TRATAMIENTO",null,11,2,25,17,21,19,6,21,14,27,27,28,218]
[null,null,"CONTROL DE ESPECIALIDAD POST ALTA",null,13,3,13,20,23,18,7,26,6,16,7,8,160]
[null,null,"ALTAS ADMINISTRATIVAS",null,0,0,0,0,0,0,0,0,0,0,0,0,0]
[null,"CIRUGÍA Y TRAUMATOLOGÍA MAXILOFACIAL","CONSULTA NUEVA ",null,38,28,68,40,58,42,47,21,29,23,33,37,464]
[null,null,"CONTROL ",null,85,64,176,137,142,94,143,100,88,90,92,116,1327]
[null,null,"INGRESOS A TRATAMIENTO",null,35,27,62,39,56,37,34,17,23,20,24,24,398]
[null,null,"ALTAS DE TRATAMIENTO",null,17,16,43,47,34,28,36,26,23,23,12,21,326]
[null,null,"CONTROL DE ESPECIALIDAD POST ALTA",null,0,0,1,2,1,0,2,1,0,0,0,0,7]
[null,null,"ALTAS ADMINISTRATIVAS",null,0,0,0,0,0,7,14,3,11,7,7,2,51]
[null,"ENDODONCIA","CONSULTA NUEVA ",null,47,16,115,81,125,107,86,128,105,115,93,96,1114]
[null,null,"CONTROL ",null,71,28,164,148,217,157,163,225,183,224,212,214,2006]
[null,null,"INGRESOS A TRATAMIENTO",null,33,12,63,58,76,69,64,85,78,97,88,101,824]
[null,null,"ALTAS DE TRATAMIENTO",null,20,9,47,46,62,42,52,64,64,61,79,65,611]
[null,null,"CONTROL DE ESPECIALIDAD POST ALTA",null,8,4,10,9,5,2,0,0,0,0,1,2,41]
[null,null,"ALTAS ADMINISTRATIVAS",null,0,0,2,4,2,3,5,5,1,1,1,2,26]
[null,"ODONTOPEDIATRÍA","CONSULTA NUEVA ",null,8,6,19,23,28,24,10,29,19,24,23,30,243]
[null,null,"CONTROL ",null,38,32,120,121,127,101,58,141,93,141,141,142,1255]
[null,null,"INGRESOS A TRATAMIENTO",null,7,6,16,26,31,25,11,29,24,28,21,31,255]
[null,null,"ALTAS DE TRATAMIENTO",null,5,7,18,15,25,19,17,31,8,16,21,25,207]
[null,null,"CONTROL DE ESPECIALIDAD POST ALTA",null,7,0,10,11,7,6,5,11,2,6,13,11,89]
[null,null,"ALTAS ADMINISTRATIVAS",null,0,0,0,0,0,1,0,0,0,0,0,2,3]
[null,"OPERATORIA","CONSULTA NUEVA ",null,16,14,9,5,10,4,15,5,7,0,9,5,99]
[null,null,"CONTROL ",null,68,64,51,64,70,33,58,75,52,23,41,58,657]
[null,null,"INGRESOS A TRATAMIENTO",null,15,14,10,9,9,5,10,8,6,0,10,2,98]
[null,null,"ALTAS DE TRATAMIENTO",null,10,11,10,7,10,6,8,12,5,3,6,9,97]
[null,null,"CONTROL DE ESPECIALIDAD POST ALTA",null,9,2,0,0,4,0,0,0,0,0,0,0,15]
[null,null,"ALTAS ADMINISTRATIVAS",null,0,0,0,0,0,0,0,0,0,0,0,0,0]
[null,"ORTODONCIA Y ORTOPEDIA DENTO MAXILOFACIAL: APARATOLOGÍA FIJA","CONSULTA NUEVA ",null,12,17,7,20,10,19,15,15,13,11,10,15,164]
[null,null,"CONTROL ",null,95,142,166,161,158,183,97,208,168,165,179,190,1912]
[null,null,"INGRESOS A TRATAMIENTO",null,8,16,14,35,22,40,9,20,23,16,12,9,224]
[null,null,"ALTAS DE TRATAMIENTO",null,1,14,3,7,6,22,4,17,7,8,7,10,106]
[null,null,"CONTROL DE ESPECIALIDAD POST ALTA",null,2,1,4,2,3,4,3,5,2,6,6,2,40]
[null,null,"ALTAS ADMINISTRATIVAS",null,0,2,0,1,1,2,0,0,0,0,0,0,6]
[null,"ORTODONCIA Y ORTOPEDIA DENTO MAXILOFACIAL: APARATOLOGÍA REMOVIBLE","CONSULTA NUEVA ",null,1,0,0,0,0,1,2,1,0,2,1,1,9]
[null,null,"CONTROL ",null,8,9,10,9,6,9,5,11,4,7,7,9,94]
[null,null,"INGRESOS A TRATAMIENTO",null,2,1,1,1,1,5,3,2,0,3,1,1,21]
[null,null,"ALTAS DE TRATAMIENTO",null,0,0,0,0,0,5,0,4,1,1,0,3,14]
[null,null,"CONTROL DE ESPECIALIDAD POST ALTA",null,0,0,0,0,0,0,0,0,0,0,0,0,0]
[null,null,"ALTAS ADMINISTRATIVAS",null,0,0,0,0,0,0,0,0,0,0,0,0,0]
[null,"PERIODONCIA","CONSULTA NUEVA ",null,21,3,10,34,36,18,29,29,34,31,29,39,313]
[null,null,"CONTROL ",null,48,12,21,84,107,74,74,103,105,103,68,86,885]
[null,null,"INGRESOS A TRATAMIENTO",null,21,2,9,33,35,18,29,28,33,31,25,35,299]
[null,null,"ALTAS DE TRATAMIENTO",null,14,3,1,9,18,14,18,28,36,16,12,12,181]
[null,null,"CONTROL DE ESPECIALIDAD POST ALTA",null,7,1,4,5,3,2,5,0,0,0,0,0,27]
[null,null,"ALTAS ADMINISTRATIVAS",null,3,0,0,1,3,0,2,1,2,0,0,1,13]
[null,"REHABILITACIÓN: PRÓTESIS FIJA","CONSULTA NUEVA ",null,0,0,0,0,1,1,1,4,2,0,0,3,12]
[null,null,"CONTROL ",null,5,11,7,5,9,7,6,17,12,4,8,15,106]
[null,null,"INGRESOS A TRATAMIENTO",null,0,2,0,1,3,2,1,4,1,1,1,3,19]
[null,null,"ALTAS DE TRATAMIENTO",null,0,2,2,0,2,0,2,1,2,0,0,4,15]
[null,null,"CONTROL DE ESPECIALIDAD POST ALTA",null,0,0,0,0,0,0,0,0,0,0,0,0,0]
[null,null,"ALTAS ADMINISTRATIVAS",null,0,0,0,0,0,0,0,0,0,0,0,0,0]
[null,"REHABILITACIÓN: PRÓTESIS REMOVIBLE","CONSULTA NUEVA ",null,43,56,35,58,41,35,27,38,25,20,20,32,430]
[null,null,"CONTROL ",null,156,115,162,207,213,161,134,201,122,87,126,177,1861]
[null,null,"INGRESOS A TRATAMIENTO",null,39,25,16,41,39,19,16,33,14,14,20,29,305]
[null,null,"ALTAS DE TRATAMIENTO",null,23,24,39,43,37,33,23,34,26,14,22,33,351]
[null,null,"CONTROL DE ESPECIALIDAD POST ALTA",null,2,0,0,0,0,0,0,0,0,0,0,6,8]
[null,null,"ALTAS ADMINISTRATIVAS",null,0,0,1,0,0,1,0,1,0,0,0,0,3]
[null,"REHABILITACIÓN: PRÓTESIS IMPLANTOASISTIDA","CONSULTA NUEVA ",null,2,0,5,3,3,3,2,3,2,2,5,2,32]
[null,null,"CONTROL ",null,7,12,19,20,21,15,8,15,14,28,25,29,213]
[null,null,"INGRESOS A TRATAMIENTO",null,3,0,5,4,3,3,2,3,2,2,4,2,33]
[null,null,"ALTAS DE TRATAMIENTO",null,1,0,2,1,4,3,1,2,4,5,9,8,{"$f":"SUM(E150:P150)","v":40}]
[null,null,"CONTROL DE ESPECIALIDAD POST ALTA",null,7,1,4,5,2,4,1,7,1,2,1,6,41]
[null,null,"ALTAS ADMINISTRATIVAS",null,0,0,0,0,0,0,0,0,0,0,0,0,0]
[null,"IMPLANTOLOGÍA BUCO MAXILOFACIAL","CONSULTA NUEVA ",null,3,0,1,4,3,3,0,3,0,3,1,1,22]
[null,null,"CONTROL ",null,17,1,6,6,14,8,3,16,4,11,5,6,97]
[null,null,"INGRESOS A TRATAMIENTO",null,3,0,1,4,3,3,0,3,0,3,1,1,22]
[null,null,"ALTAS DE TRATAMIENTO",null,4,1,1,1,3,2,0,6,1,4,3,1,27]
[null,null,"CONTROL DE ESPECIALIDAD POST ALTA",null,1,3,3,4,1,4,0,2,2,2,0,0,22]
[null,null,"ALTAS ADMINISTRATIVAS",null,0,0,0,0,0,0,0,0,0,0,0,0,0]
[null,"PATOLOGÍA ORAL","CONSULTA NUEVA ",null,0,0,0,0,0,0,0,0,0,0,0,0,0]
[null,null,"CONTROL ",null,0,0,0,0,0,0,0,0,0,0,0,0,0]
[null,null,"INGRESOS A TRATAMIENTO",null,0,0,0,0,0,0,0,0,0,0,0,0,0]
[null,null,"ALTAS DE TRATAMIENTO",null,0,0,0,0,0,0,0,0,0,0,0,0,0]
[null,null,"CONTROL DE ESPECIALIDAD POST ALTA",null,0,0,0,0,0,0,0,0,0,0,0,0,0]
[null,null,"ALTAS ADMINISTRATIVAS",null,0,0,0,0,0,0,0,0,0,0,0,0,0]
[null,"TRASTORNOS TEMPOROMANDIBULARES Y DOLOR OROFACIAL","CONSULTA NUEVA ",null,0,0,0,0,0,0,0,0,0,0,0,0,0]
[null,null,"CONTROL ",null,0,0,0,0,0,0,0,0,0,0,0,0,0]
[null,null,"INGRESOS A TRATAMIENTO",null,0,0,0,0,0,0,0,0,0,0,0,0,0]
[null,null,"ALTAS DE TRATAMIENTO",null,0,0,0,0,0,0,0,0,0,0,0,0,0]
[null,null,"CONTROL DE ESPECIALIDAD POST ALTA",null,0,0,0,0,0,0,0,0,0,0,0,0,0]
[null,null,"ALTAS ADMINISTRATIVAS",null,0,0,0,0,0,0,0,0,0,0,0,0,0]
[null,"TOTAL","CONSULTA NUEVA ",null,{"$f":"E87+E93+E99+E105+E111+E117+E123+E129+E135+E141+E147+E153+E159+E165","v":204},{"$f":"F87+F93+F99+F105+F111+F117+F123+F129+F135+F141+F147+F153+F159+F165","v":144},291,288,340,267,241,301,248,259,243,275,{"$f":"SUM(E171:P171)","v":3101}]
[null,null,"CONTROL ",null,{"$f":"E88+E94+E100+E106+E112+E118+E124+E130+E136+E142+E148+E154+E160+E166","v":629},493,946,996,1135,884,762,1149,875,961,972,1124,{"$f":"SUM(E172:P172)","v":10926}]
[null,null,"INGRESOS A TRATAMIENTO",null,179,109,219,271,303,236,186,257,216,243,226,252,2697]
[null,null,"ALTAS DE TRATAMIENTO",null,106,89,191,193,222,193,167,246,191,178,198,219,2193]
[null,null,"CONTROL DE ESPECIALIDAD POST ALTA",null,56,15,49,58,49,40,23,52,13,32,28,35,450]
[null,null,"ALTAS ADMINISTRATIVAS",null,3,2,3,6,6,14,21,10,14,8,8,7,102]
[null,"Fuente: REM A09, Sección F, F1, I"]

{"sheet":"HILL","index":5,"n_rows":177,"n_cols":17,"rows_kept":177,"merged":[[7,1,10,16],[12,2,12,3],[13,2,13,3],[14,2,14,3],[15,2,15,3],[16,2,16,3],[17,2,17,3],[18,2,18,3],[19,2,19,3],[20,2,20,3],[21,2,21,3],[22,2,22,3],[23,2,23,3],[24,2,24,3],[25,2,25,3],[26,2,26,3],[27,2,27,3],[28,2,28,3],[29,2,29,3],[30,2,30,3],[31,2,31,3],[32,2,32,3],[33,2,33,3],[34,2,34,3],[35,2,35,3],[36,2,36,3],[37,2,37,3],[38,2,38,3],[39,2,39,3],[40,2,40,3],[41,2,41,3],[42,2,42,3],[43,2,43,3],[44,2,44,3],[45,2,45,3],[46,2,46,3],[47,2,47,3],[48,2,48,3],[49,2,49,3],[50,2,50,3],[51,2,51,3],[52,2,52,3],[53,2,53,3],[54,2,54,3],[55,2,55,3],[56,2,56,3],[57,2,57,3],[58,2,58,3],[59,2,59,3],[60,2,60,3],[61,2,61,3],[62,2,62,3],[63,2,63,3],[64,2,64,3],[65,2,65,3],[66,2,66,3],[67,2,67,3],[70,2,70,3],[71,2,71,3],[72,2,72,3],[73,2,73,3],[74,2,74,3],[75,2,75,3],[76,2,76,3],[77,2,77,3],[78,2,78,3],[79,2,79,3],[80,2,80,3],[83,2,83,3],[84,1,85,1],[86,1,91,1],[92,1,97,1],[98,1,103,1],[104,1,109,1],[110,1,115,1],[116,1,121,1],[122,1,127,1],[128,1,133,1],[134,1,139,1],[140,1,145,1],[146,1,151,1],[152,1,157,1],[158,1,163,1],[164,1,169,1],[170,1,175,1]]}
["MINISTERIO DE SALUD"]
["SERVICIO DE SALUD COQUIMBO"]
["DEPARTAMENTO  DE GESTIÓN, PLANIFICACIÓN Y CONTROL"]
["SUBDEPTO. DE ESTADÍSTICAS Y GESTIÓN DE LA INFORMACIÓN "]
["AÑO 2022"]
[]
[]
[null,"INDICADOR 2.3: Porcentaje de cumplimiento de la programación de horas de consultas nuevas, tratamientos y procedimientos imagenológicos realizados por profesionales Cirujanos Dentista."]
[]
[]
[]
[]
[null,null,"ACTIVIDADES DE ESPECIALIDADES",null,"Enero","Febrero","Marzo","Abril","Mayo","Junio","Julio","Agosto","Septiembre","Octubre","Noviembre","Diciembre","Total"]
[null,null,"EXAMEN Y DIAGNÓSTICO DE ESPECIALIDAD",null,164,199,164,173,295,253,186,356,351,350,551,325,{"$f":"SUM(E14:P14)","v":3367}]
[null,null,"EDUCACIÓN EN SALUD BUCAL",null,210,44,252,226,243,248,199,291,238,120,245,124,{"$f":"SUM(E15:P15)","v":2440}]
[null,null,"RESPUESTA A INTERCONSULTA PERSONAS HOSPITALIZADOS",null,0,2,0,2,3,4,0,0,0,0,0,6,17]
[null,null,"VISITA A SALA",null,15,12,4,7,17,7,4,7,2,4,7,3,89]
[null,null,"CONTRALORÍA CLÍNICA",null,0,0,0,0,0,0,0,0,0,0,0,0,0]
[null,null,"CIRUGÍA TERCER MOLAR",null,16,12,8,5,11,24,22,18,16,10,19,5,166]
[null,null,"CIRUGÍA MENOR AMBULATORIA",null,13,8,21,19,17,14,23,21,20,2,17,8,183]
[null,null,"CIRUGÍA MAYOR AMBULATORIA",null,27,21,12,24,22,34,26,19,12,25,20,6,248]
[null,null,"TRATAMIENTO TRAUMATISMO DENTOALVEOLAR",null,1,0,1,1,3,1,0,0,0,0,0,0,7]
[null,null,"OBTURACIÓN DIRECTA",null,0,30,0,55,59,40,53,0,51,0,0,83,371]
[null,null,"OBTURACIÓN INDIRECTA (INLAYS U ONLAYS)",null,0,0,16,0,0,0,0,0,0,0,0,1,17]
[null,null,"INSTALACIÓN APARATO REMOVIBLE ORTODÓNCICO",null,0,2,1,0,3,1,0,1,0,3,1,0,12]
[null,null,"INSTALACIÓN APARATO FIJO ORTODÓNCICO",null,0,8,13,2,8,4,2,13,8,10,12,6,86]
[null,null,"INSTALACIÓN APARATO DE CONTENCIÓN ORTODÓNCICO",null,0,9,7,5,6,16,6,6,6,9,4,13,87]
[null,null,"RETIRO APARATOLOGÍA DE ORTODONCIA",null,21,9,6,5,6,11,6,5,6,8,3,7,93]
[null,null,"ORTOPEDIA PREQUIRÚRGICA",null,0,0,0,0,0,0,0,0,0,0,0,0,0]
[null,null,"ORTODONCIA PREVENTIVA E INTERCEPTIVA (OPI)",null,12,1,0,0,0,0,0,0,0,0,0,0,13]
[null,null,"TRATAMIENTO ENDODONCIA UNIRRADICULAR",null,10,12,6,22,22,11,29,30,15,18,17,14,206]
[null,null,"TRATAMIENTO ENDODONCIA BIRRADICULAR",null,14,9,5,13,9,15,15,17,13,11,11,11,143]
[null,null,"TRATAMIENTO ENDODONCIA MULTIRRADICULAR",null,15,9,5,18,28,18,20,29,25,30,30,30,257]
[null,null,"INDUCCIÓN AL CIERRE APICAL",null,0,0,0,0,0,0,0,0,0,0,0,0,0]
[null,null,"RETRATAMIENTO DE ENDODONCIA",null,0,0,0,0,0,0,0,1,0,0,0,0,1]
[null,null,"CIRUGÍA APICAL",null,0,0,0,4,2,0,0,0,0,0,0,0,6]
[null,null,"ADAPTACIÓN A LA ATENCIÓN ODONTOLÓGICA ",null,3,8,8,9,13,26,12,35,26,5,4,0,149]
[null,null,"PROCEDIMIENTO RESTAURADOR (ODONTOPEDIATRÍA)",null,0,0,0,0,0,0,0,0,0,0,0,0,0]
[null,null,"PROCEDIMIENTO PULPAR (ODONTOPEDIATRÍA)",null,0,0,0,0,0,0,0,0,0,0,0,0,0]
[null,null,"CIRUGÍA AMBULATORIA (ODONTOPEDIATRÍA)",null,1,0,0,0,1,0,0,0,0,0,0,0,2]
[null,null,"DESTARTRAJE SUBGINGIVAL O PULIDO RADICULAR ",null,263,17,177,128,136,113,60,105,64,44,104,121,1332]
[null,null,"DESTARTRAJE SUPRAGINGIVAL O PULIDO CORONARIO",null,10,64,166,118,66,47,71,89,96,205,49,130,1111]
[null,null,"PROCEDIMIENTO QUIRÚRGICO (PERIODONCIA)",null,2,0,1,3,2,7,4,2,1,1,1,4,28]
[null,null,"PROCEDIMIENTO QUIRÚRGICO PERIIMPLANTAR (PERIODONCIA)",null,0,0,0,0,0,0,0,0,0,0,0,1,1]
[null,null,"FERULIZACIÓN",null,0,0,0,0,2,0,1,0,0,0,0,0,3]
[null,null,"REHABILITACIÓN MEDIANTE PRÓTESIS REMOVIBLE ACRÍLICA PARCIAL O TOTAL",null,43,28,44,29,24,12,14,27,9,74,129,124,557]
[null,null,"REHABILITACIÓN MEDIANTE PRÓTESIS REMOVIBLE METÁLICA PARCIAL",null,0,0,0,0,1,0,1,1,0,24,25,34,86]
[null,null,"REHABILITACIÓN MEDIANTE PRÓTESIS FIJA UNITARIA O PLURAL",null,0,0,0,0,0,0,0,0,0,0,0,0,0]
[null,null,"REHABILITACIÓN MEDIANTE PRÓTESIS FIJA IMPLANTOASISTIDA",null,0,0,0,0,1,0,1,0,0,0,0,0,2]
[null,null,"REHABILITACIÓN MEDIANTE PRÓTESIS MUCO-  IMPLANTOASISTIDA",null,1,1,0,0,1,0,1,0,0,0,1,0,5]
[null,null,"REPARACIÓN DE PRÓTESIS",null,1,1,1,0,0,1,0,0,0,0,0,0,4]
[null,null,"IMPLANTOLOGÍA QUIRÚRGICA",null,0,0,0,0,0,0,0,0,0,0,0,0,0]
[null,null,"TOMA DE BIOPSIA",null,1,0,2,0,0,0,0,0,0,0,1,0,4]
[null,null,"ESTUDIO HISTOPATOLÓGICO",null,0,0,0,0,0,0,0,0,0,0,0,0,0]
[null,null,"SIALOMETRÍA",null,0,0,0,0,0,0,0,0,0,0,0,0,0]
[null,null,"TERAPIA FARMACOLÓGICA DE LESIONES DEL TERRITORIO ORAL Y MAXILOFACIAL",null,6,21,57,50,54,25,23,44,26,13,44,19,382]
[null,null,"TERAPIA NO FARMACOLÓGICA DE LESIONES DEL TERRITORIO ORAL Y MAXILOFACIAL",null,0,0,1,0,0,0,0,0,0,0,13,0,14]
[null,null,"ESTUDIO CLÍNICO LESIONES DEL TERRITORIO ORAL MAXILOFACIAL",null,0,0,0,0,0,0,0,0,0,0,0,0,0]
[null,null,"TERAPIA FÍSICA EN TRASTORNOS TEMPOROMANDIBULARES (TTM) Y DOLOR OROFACIAL (DOF)",null,0,0,0,0,0,0,0,0,0,0,0,0,0]
[null,null,"INFILTRACIÓN EN ARTICULACIÓN TEMPORO MANDIBULAR (ATM)",null,0,0,0,0,0,0,0,0,0,0,0,0,0]
[null,null,"BLOQUEO ANESTÉSICO Y/O MEDICAMENTOSO EN TTM Y DOF",null,0,0,1,0,0,0,0,0,0,0,0,0,1]
[null,null,"ARTROCENTESIS EN ATM",null,0,0,0,0,0,0,0,0,0,0,0,0,0]
[null,null,"TERAPIA BIOCONDUCTUAL",null,0,0,0,0,0,0,0,0,0,0,0,0,0]
[null,null,"DESGASTE SELECTIVO",null,0,0,0,0,1,0,0,0,1,0,0,0,2]
[null,null,"INSTALACIÓN DE DISPOSITIVO ORTOPÉDICO",null,0,0,0,0,0,0,0,0,0,0,0,0,0]
[null,null,"ACTIVIDADES SOMATOPRÓTESIS",null,0,0,0,0,0,0,0,0,0,0,0,0,0]
[null,null,"REHABILITACIÓN DE PRÓTESIS MAXILOFACIAL",null,0,0,0,0,0,0,0,0,0,0,0,0,0]
[null,null,"TOTAL",null,{"$f":"SUM(E14:E67)","v":849},{"$f":"SUM(F14:F67)","v":527},979,918,1056,932,779,1117,986,966,1308,1075,11492]
[]
[]
[null,null,"ACTIVIDADES DE ESPECIALIDADES",null,"Enero","Febrero","Marzo","Abril","Mayo","Junio","Julio","Agosto","Septiembre","Octubre","Noviembre","Diciembre","Total"]
[null,null,"RADIOGRAFÍA INTRAORAL MEDIANTE TÉCNICAS RETROALVEOLARES (POR PLACA)",null,65,76,40,7,137,145,122,177,113,156,103,72,{"$f":"SUM(E72:P72)","v":1213}]
[null,null,"RADIOGRAFÍA INTRAORAL MEDIANTE TÉCNICAS BITE WING (POR PLACA)",null,0,0,0,0,0,0,0,0,0,0,0,0,{"$f":"SUM(E73:P73)","v":0}]
[null,null,"RADIOGRAFÍA EXTRAORAL (POR PLACA)",null,0,0,0,0,0,0,0,0,0,0,0,0,0]
[null,null,"RADIOGRAFÍA OCLUSAL (POR PLACA)",null,0,0,0,0,0,0,0,0,0,0,0,0,0]
[null,null,"TELERRADIOGRAFÍA (POR PLACA)",null,0,0,0,0,33,13,27,34,54,0,0,0,161]
[null,null,"RADIOGRAFÍA PANORÁMICA (POR PLACA)",null,0,0,0,19,78,41,67,93,123,39,125,0,585]
[null,null,"TOMOGRAFÍA COMPUTACIONAL MAXILO FACIAL CONE BEAM (POR ADQUISICIÓN)",null,0,0,0,0,0,0,0,0,0,0,0,0,0]
[null,null,"SIALOGRAFÍAS (POR PROCEDIMIENTO)",null,0,0,0,0,0,0,0,0,0,0,0,0,0]
[null,null,"PROCEDIMIENTO IMAGENOLÓGICO COMPLEJO (POR PROCEDIMIENTO)",null,0,0,0,0,0,0,0,0,0,0,0,0,0]
[null,null,"TOTAL",null,{"$f":"SUM(E72:E80)","v":65},76,40,26,248,199,216,304,290,195,228,72,1959]
[]
[]
[null,"ESPECIALIDAD Y TIPO DE INGRESO O EGRESO","Tipo de Ingreso",null,"Enero","Febrero","Marzo","Abril","Mayo","Junio","Julio","Agosto","Septiembre","Octubre","Noviembre","Diciembre","Total"]
[null,"CONSULTAS DE URGENCIA","CONSULTAS GES",null,0,0,0,0,0,0,0,0,0,0,0,0,{"$f":"SUM(E85:P85)","v":0}]
[null,null,"CONSULTA NO GES",null,6,32,24,18,28,17,14,33,46,20,15,25,{"$f":"SUM(E86:P86)","v":278}]
[null,"CIRUGÍA BUCAL","CONSULTA NUEVA ",null,0,0,0,0,0,0,0,0,0,0,0,0,0]
[null,null,"CONTROL ",null,0,0,0,0,0,0,0,0,0,0,0,0,0]
[null,null,"INGRESOS A TRATAMIENTO",null,0,0,0,0,0,0,0,0,0,0,0,0,0]
[null,null,"ALTAS DE TRATAMIENTO",null,0,0,0,0,0,0,0,0,0,0,0,0,0]
[null,null,"CONTROL DE ESPECIALIDAD POST ALTA",null,0,0,0,0,0,0,0,0,0,0,0,0,0]
[null,null,"ALTAS ADMINISTRATIVAS",null,0,0,0,0,0,0,0,0,0,0,0,0,0]
[null,"CIRUGÍA Y TRAUMATOLOGÍA MAXILOFACIAL","CONSULTA NUEVA ",null,18,12,14,26,55,28,45,82,31,26,41,16,394]
[null,null,"CONTROL ",null,122,98,86,126,130,128,103,118,83,178,127,44,1343]
[null,null,"INGRESOS A TRATAMIENTO",null,25,30,29,43,60,31,45,83,28,34,41,17,466]
[null,null,"ALTAS DE TRATAMIENTO",null,39,24,32,51,44,43,28,47,33,70,39,16,466]
[null,null,"CONTROL DE ESPECIALIDAD POST ALTA",null,0,0,24,33,45,34,40,32,29,55,50,21,363]
[null,null,"ALTAS ADMINISTRATIVAS",null,0,0,0,0,3,2,1,0,0,0,0,0,6]
[null,"ENDODONCIA","CONSULTA NUEVA ",null,45,44,30,53,84,79,70,101,48,72,54,43,723]
[null,null,"CONTROL ",null,88,70,51,105,119,118,122,155,120,142,110,112,1312]
[null,null,"INGRESOS A TRATAMIENTO",null,40,42,29,52,79,72,61,96,39,71,44,37,662]
[null,null,"ALTAS DE TRATAMIENTO",null,39,31,15,54,55,44,57,74,51,59,53,54,586]
[null,null,"CONTROL DE ESPECIALIDAD POST ALTA",null,0,0,0,0,0,0,0,1,0,1,0,0,2]
[null,null,"ALTAS ADMINISTRATIVAS",null,0,0,0,0,0,0,0,0,3,0,1,2,6]
[null,"ODONTOPEDIATRÍA","CONSULTA NUEVA ",null,6,11,18,12,31,27,16,50,33,12,26,11,253]
[null,null,"CONTROL ",null,111,96,118,189,241,161,104,108,168,95,169,132,1692]
[null,null,"INGRESOS A TRATAMIENTO",null,8,10,17,12,32,27,16,51,33,12,25,11,254]
[null,null,"ALTAS DE TRATAMIENTO",null,7,16,3,19,24,19,13,25,19,7,15,36,203]
[null,null,"CONTROL DE ESPECIALIDAD POST ALTA",null,0,6,4,2,0,0,0,1,0,0,1,0,14]
[null,null,"ALTAS ADMINISTRATIVAS",null,0,0,0,0,0,0,0,0,0,0,0,0,0]
[null,"OPERATORIA","CONSULTA NUEVA ",null,0,0,0,0,0,0,0,0,0,0,0,0,0]
[null,null,"CONTROL ",null,0,0,0,0,0,0,0,0,0,0,0,0,0]
[null,null,"INGRESOS A TRATAMIENTO",null,0,0,0,0,0,0,0,0,0,0,0,0,0]
[null,null,"ALTAS DE TRATAMIENTO",null,0,0,0,0,0,0,0,0,0,0,0,0,0]
[null,null,"CONTROL DE ESPECIALIDAD POST ALTA",null,0,0,0,0,0,0,0,0,0,0,0,0,0]
[null,null,"ALTAS ADMINISTRATIVAS",null,0,0,0,0,0,0,0,0,0,0,0,0,0]
[null,"ORTODONCIA Y ORTOPEDIA DENTO MAXILOFACIAL: APARATOLOGÍA FIJA","CONSULTA NUEVA ",null,10,0,4,0,9,1,1,17,84,41,61,34,262]
[null,null,"CONTROL ",null,271,211,238,93,209,208,181,264,147,158,158,110,2248]
[null,null,"INGRESOS A TRATAMIENTO",null,8,10,18,2,10,4,2,17,8,11,9,7,106]
[null,null,"ALTAS DE TRATAMIENTO",null,24,11,11,5,8,18,7,7,6,10,5,13,125]
[null,null,"CONTROL DE ESPECIALIDAD POST ALTA",null,0,14,18,11,8,20,7,19,9,15,2,6,129]
[null,null,"ALTAS ADMINISTRATIVAS",null,1,0,0,0,0,0,0,0,1,1,0,0,3]
[null,"ORTODONCIA Y ORTOPEDIA DENTO MAXILOFACIAL: APARATOLOGÍA REMOVIBLE","CONSULTA NUEVA ",null,1,4,11,0,3,0,1,9,8,19,0,0,56]
[null,null,"CONTROL ",null,7,6,5,1,5,10,5,7,5,3,6,1,61]
[null,null,"INGRESOS A TRATAMIENTO",null,2,1,1,0,3,2,0,1,0,1,1,0,12]
[null,null,"ALTAS DE TRATAMIENTO",null,2,2,1,0,1,0,1,1,1,0,2,0,11]
[null,null,"CONTROL DE ESPECIALIDAD POST ALTA",null,0,4,1,6,0,0,0,1,0,0,0,0,12]
[null,null,"ALTAS ADMINISTRATIVAS",null,0,1,0,0,0,0,0,0,0,0,0,0,1]
[null,"PERIODONCIA","CONSULTA NUEVA ",null,39,18,46,13,13,30,26,25,67,25,59,10,371]
[null,null,"CONTROL ",null,109,31,167,133,111,67,68,98,94,87,85,166,1216]
[null,null,"INGRESOS A TRATAMIENTO",null,34,8,45,13,11,20,21,13,66,25,59,10,325]
[null,null,"ALTAS DE TRATAMIENTO",null,23,1,17,11,16,9,11,17,5,11,11,8,140]
[null,null,"CONTROL DE ESPECIALIDAD POST ALTA",null,0,0,0,0,0,0,0,1,0,0,0,0,1]
[null,null,"ALTAS ADMINISTRATIVAS",null,0,0,2,1,0,0,0,0,0,0,0,0,3]
[null,"REHABILITACIÓN: PRÓTESIS FIJA","CONSULTA NUEVA ",null,0,0,0,0,0,0,0,0,0,0,0,0,0]
[null,null,"CONTROL ",null,0,0,0,0,0,0,0,0,0,0,0,0,0]
[null,null,"INGRESOS A TRATAMIENTO",null,0,0,0,0,0,0,0,0,0,0,0,0,0]
[null,null,"ALTAS DE TRATAMIENTO",null,0,0,0,0,0,0,0,0,0,0,0,0,0]
[null,null,"CONTROL DE ESPECIALIDAD POST ALTA",null,0,0,0,0,0,0,0,0,0,0,0,0,0]
[null,null,"ALTAS ADMINISTRATIVAS",null,0,0,0,0,0,0,0,0,0,0,0,0,0]
[null,"REHABILITACIÓN: PRÓTESIS REMOVIBLE","CONSULTA NUEVA ",null,22,16,22,18,18,6,15,23,14,90,102,28,374]
[null,null,"CONTROL ",null,55,39,67,56,31,28,47,73,18,20,41,22,497]
[null,null,"INGRESOS A TRATAMIENTO",null,22,15,22,18,18,6,15,23,13,90,87,25,354]
[null,null,"ALTAS DE TRATAMIENTO",null,22,16,20,18,16,7,10,16,4,13,19,14,175]
[null,null,"CONTROL DE ESPECIALIDAD POST ALTA",null,15,23,15,27,22,8,16,19,5,4,32,10,196]
[null,null,"ALTAS ADMINISTRATIVAS",null,0,0,0,2,0,0,1,1,0,0,0,0,4]
[null,"REHABILITACIÓN: PRÓTESIS IMPLANTOASISTIDA","CONSULTA NUEVA ",null,0,0,0,0,0,0,0,0,0,0,0,0,0]
[null,null,"CONTROL ",null,0,0,0,0,0,0,0,0,0,0,0,0,0]
[null,null,"INGRESOS A TRATAMIENTO",null,0,0,0,0,0,0,0,0,0,0,0,0,0]
[null,null,"ALTAS DE TRATAMIENTO",null,0,0,0,0,0,0,0,0,0,0,0,0,{"$f":"SUM(E150:P150)","v":0}]
[null,null,"CONTROL DE ESPECIALIDAD POST ALTA",null,0,0,0,0,0,0,0,0,0,0,0,0,0]
[null,null,"ALTAS ADMINISTRATIVAS",null,0,0,0,0,0,0,0,0,0,0,0,0,0]
[null,"IMPLANTOLOGÍA BUCO MAXILOFACIAL","CONSULTA NUEVA ",null,0,0,0,0,0,0,0,0,0,0,0,0,0]
[null,null,"CONTROL ",null,0,0,0,0,0,0,0,0,0,0,0,0,0]
[null,null,"INGRESOS A TRATAMIENTO",null,0,0,0,0,0,0,0,0,0,0,0,0,0]
[null,null,"ALTAS DE TRATAMIENTO",null,0,0,0,0,0,0,0,0,0,0,0,0,0]
[null,null,"CONTROL DE ESPECIALIDAD POST ALTA",null,0,0,0,0,0,0,0,0,0,0,0,0,0]
[null,null,"ALTAS ADMINISTRATIVAS",null,0,0,0,0,0,0,0,0,0,0,0,0,0]
[null,"PATOLOGÍA ORAL","CONSULTA NUEVA ",null,0,0,0,0,0,0,0,0,0,0,0,0,0]
[null,null,"CONTROL ",null,0,0,0,0,0,0,0,0,0,0,0,0,0]
[null,null,"INGRESOS A TRATAMIENTO",null,0,0,0,0,0,0,0,0,0,0,0,0,0]
[null,null,"ALTAS DE TRATAMIENTO",null,0,0,0,0,0,0,0,0,0,0,0,0,0]
[null,null,"CONTROL DE ESPECIALIDAD POST ALTA",null,0,0,0,0,0,0,0,0,0,0,0,0,0]
[null,null,"ALTAS ADMINISTRATIVAS",null,0,0,0,0,0,0,0,0,0,0,0,0,0]
[null,"TRASTORNOS TEMPOROMANDIBULARES Y DOLOR OROFACIAL","CONSULTA NUEVA ",null,0,0,0,0,0,0,0,0,0,0,0,0,0]
[null,null,"CONTROL ",null,0,0,0,0,0,0,0,0,0,0,0,0,0]
[null,null,"INGRESOS A TRATAMIENTO",null,0,0,0,0,0,0,0,0,0,0,0,0,0]
[null,null,"ALTAS DE TRATAMIENTO",null,0,0,0,0,0,0,0,0,0,0,0,0,0]
[null,null,"CONTROL DE ESPECIALIDAD POST ALTA",null,0,0,0,0,0,0,0,0,0,0,0,0,0]
[null,null,"ALTAS ADMINISTRATIVAS",null,0,0,0,0,0,0,0,0,0,0,0,0,0]
[null,"TOTAL","CONSULTA NUEVA ",null,{"$f":"E87+E93+E99+E105+E111+E117+E123+E129+E135+E141+E147+E153+E159+E165","v":141},{"$f":"F87+F93+F99+F105+F111+F117+F123+F129+F135+F141+F147+F153+F159+F165","v":105},145,122,213,171,174,307,285,285,343,142,{"$f":"SUM(E171:P171)","v":2433}]
[null,null,"CONTROL ",null,{"$f":"E88+E94+E100+E106+E112+E118+E124+E130+E136+E142+E148+E154+E160+E166","v":763},551,732,703,846,720,630,823,635,683,696,587,{"$f":"SUM(E172:P172)","v":8369}]
[null,null,"INGRESOS A TRATAMIENTO",null,139,116,161,140,213,162,160,284,187,244,266,107,2179]
[null,null,"ALTAS DE TRATAMIENTO",null,156,101,99,158,164,140,127,187,119,170,144,141,1706]
[null,null,"CONTROL DE ESPECIALIDAD POST ALTA",null,15,47,62,79,75,62,63,74,43,75,85,37,717]
[null,null,"ALTAS ADMINISTRATIVAS",null,1,1,2,3,3,2,2,1,4,1,1,2,23]
[null,"Fuente: REM A09, Sección F, F1, I"]

{"sheet":"FILTRO DIC.","index":6,"n_rows":253,"n_cols":14,"rows_kept":253,"hidden":true}
["IdEstablecimiento","(Todas)"]
[]
["Suma de Col01","Etiquetas de columna"]
["Etiquetas de fila",1,2,3,4,5,6,7,8,9,10,11,12,"Total general"]
["09200313",10505,9609,14016,14967,15792,14566,14155,16990,14953,15383,15799,14513,171248]
["09200513",7841,6404,11164,11080,11620,12014,9491,12346,10260,10685,12096,10730,125731]
["09201225",2804,2603,3360,3517,3465,3157,2933,3737,3296,3626,3371,3245,39114]
["09201713",968,925,1095,1648,1383,1300,1060,1719,1239,1653,1425,1868,16283]
["09202313",6,8,49,66,104,163,193,353,329,275,497,897,2940]
["09202413",1,3,{"$nulls":3},2,3,3,1,2,4,6,25]
["09202725",62,39,74,70,81,72,85,100,55,63,60,59,820]
["09202735",96,28,102,76,70,76,65,82,89,63,77,72,896]
["09202745",127,42,140,121,149,99,100,156,154,172,142,144,1546]
["09203213",37,38,29,37,39,26,27,19,3,24,24,19,322]
["09203313",null,4,6,5,7,3,5,9,5,3,1,11,59]
["09203425",848,607,1093,1048,617,733,503,839,751,802,905,647,9393]
["09203435",null,4,2,null,11,null,1,1,2,26,27,34,108]
["09203813",7,10,20,34,37,13,13,27,20,20,31,23,255]
["09203913",1,null,null,1,{"$nulls":8},2]
["09204213",74,45,51,78,51,39,40,77,37,60,72,35,659]
["09204214",{"$nulls":8},1,{"$nulls":3},1]
["09204317",122,122,null,null,2,{"$nulls":7},246]
["09204417",{"$nulls":4},16,11,{"$nulls":6},27]
["09204517",{"$nulls":4},3,{"$nulls":7},3]
["09204717",135,135,null,null,16,11,{"$nulls":6},297]
["09204918",6265,5375,7846,8651,8827,8688,8254,10192,8613,8950,9099,7778,98538]
["09204919",1923,1643,2424,2714,2940,2489,2247,2955,2404,2771,2759,2331,29600]
["09204924",1294,1057,1809,2184,3052,2552,3739,3684,3144,3414,3641,3459,33029]
["09204926",274,262,355,362,381,344,379,427,363,371,442,349,4309]
["09204931",57,70,97,75,85,94,78,97,66,98,95,72,984]
["09204934",48,51,81,88,110,100,112,98,115,98,138,101,1140]
["09204935",2238,1308,2444,2196,2231,2069,1961,2282,1720,2095,2253,1881,24678]
["09204944",{"$nulls":5},10,2,2,6,8,11,5,44]
["09204947",6,29,29,66,70,80,82,92,60,57,105,114,790]
["09204949",2,4,1,20,51,65,89,70,71,31,88,135,627]
["09204953",167,149,160,211,196,151,148,196,119,161,216,142,2016]
["09204954",119,106,160,197,163,162,138,171,127,177,153,141,1814]
["09215013",1034,597,1286,1622,1643,1348,1122,1332,1189,1304,1185,1012,14674]
["09215014",1587,1135,1984,2543,3105,2424,1936,2718,2237,2471,2536,1955,26631]
["09215015",74,46,107,124,87,109,74,98,83,116,89,61,1068]
["09215313",117,100,161,93,112,155,130,148,165,163,158,151,1653]
["09215413",343,310,460,469,544,481,418,443,356,375,371,514,5084]
["09216113",28,28,47,26,62,46,44,36,57,85,75,48,582]
["09216213",36,22,41,25,44,38,26,36,25,52,60,44,449]
["09216513",215,128,292,267,320,274,292,333,240,275,244,246,3126]
["09216613",172,92,215,196,244,202,220,266,225,257,248,223,2560]
["09216913",100,83,100,98,126,107,85,138,115,102,106,92,1252]
["09217013",75,76,85,102,128,112,108,136,113,97,136,140,1308]
["09217413",31,20,21,16,25,21,18,27,21,12,21,11,244]
["09217513",37,24,25,21,39,27,29,35,29,23,21,19,329]
["09217913",45,198,99,96,83,64,40,53,40,36,42,35,831]
["09218013",43,35,31,27,27,54,25,47,29,43,46,34,441]
["09218313",115,66,107,96,104,157,132,125,187,154,169,113,1525]
["09218413",93,40,94,83,88,87,67,96,79,64,51,50,892]
["09218813",1,6,8,3,8,9,2,5,6,6,7,4,65]
["09218913",2,6,7,2,4,5,2,5,4,1,5,9,52]
["09219213",181,245,175,214,180,111,147,169,105,174,196,113,2010]
["09219313",169,91,213,185,217,154,91,160,145,115,134,111,1785]
["09220100",1572,1298,2133,2198,2392,1971,1687,2405,1920,2065,2399,1748,23788]
["09220150",587,406,704,805,797,801,668,805,606,771,678,922,8550]
["09220250",373,279,492,580,544,569,490,537,473,537,500,644,6018]
["09220350",299,196,333,392,391,349,306,365,346,391,318,392,4078]
["09220450",188,113,216,271,247,228,156,228,203,242,200,283,2575]
["09220500",218,156,279,317,292,264,243,270,244,285,252,504,3324]
["09230100",2025,2209,2493,3016,3856,3841,3585,5119,3920,3856,4431,3254,41605]
["09230200",14,28,39,24,154,302,313,391,437,318,387,378,2785]
["09230300",1086,1036,1284,1163,1167,1072,1072,1283,1156,1071,1142,1131,13663]
["09230500",1062,799,1241,1592,1454,1823,1618,1536,1292,1775,1618,1019,16829]
["09240500",37,23,34,42,45,40,26,30,27,29,21,23,377]
["09240600",21,21,31,40,56,48,40,36,33,19,23,10,378]
["09240700",61,56,71,65,78,33,33,83,27,50,47,28,632]
["09260100",198,181,228,222,242,281,286,294,235,253,334,218,2972]
["09260500",null,3,9,20,3,7,7,54,32,19,32,89,275]
["09260600",null,null,13,5,5,25,37,89,68,45,34,50,371]
["09300300",26,2,1,12,49,47,null,3,1,null,2,3,146]
["09300500",2,36,29,42,125,114,69,121,83,74,220,146,1061]
["09305400",1,{"$nulls":4},1,2,2,3,2,2,3,16]
["09305500",5,6,8,4,6,5,5,10,4,3,5,5,66]
["09305600",1413,680,1563,940,879,1376,888,1535,953,1092,1160,1075,13554]
["09305700",96,26,125,109,128,92,72,90,48,111,96,74,1067]
["09305800",12,20,21,26,27,46,50,40,18,41,37,29,367]
["09306000",204,124,188,248,279,194,145,245,243,240,218,129,2457]
["09306200",null,null,1,null,2,null,1,4,null,5,4,null,17]
["09306300",89,72,74,57,81,58,50,57,92,34,64,70,798]
["09306400",405,234,270,254,245,235,217,253,333,376,537,387,3746]
["09306500",136,114,151,106,140,139,140,167,163,123,115,128,1622]
["09306600",33,2,1633,2699,2786,3560,791,2604,2098,1696,2653,1984,22539]
["09306800",336,2,1533,2483,2511,3077,493,2400,2705,3355,5568,2779,27242]
["09306900",24,14,{"$nulls":5},6,null,4,10,231,289]
["09309000",16,15,10,13,24,11,1,4,3,3,3,1,104]
["09309050",10,3,16,22,25,7,null,8,3,6,11,8,119]
["09309200",{"$nulls":10},14,5,19]
["09309250",{"$nulls":10},4,1,5]
["09310700",null,4,4,5,9,5,7,5,4,3,8,3,57]
["09310800",17,22,34,39,37,41,34,51,49,30,58,21,433]
["09310900",{"$nulls":3},1,null,1,null,2,2,1,5,1,13]
["09311000",{"$nulls":3},1,null,1,2,2,2,1,7,1,17]
["09311100",1,45,18,24,75,91,62,90,86,66,165,148,871]
["09311200",2,60,28,39,117,146,103,158,130,71,330,213,1397]
["09400030",4,2,3,1,4,4,2,5,1,4,2,2,34]
["09400080",168,149,207,120,306,263,207,334,353,473,484,302,3366]
["09400081",3918,3472,4840,5650,5881,4929,4563,5380,4811,4979,5542,4117,58082]
["09400082",10756,9446,13858,14368,15052,14344,13985,17839,15124,15282,15757,14762,170573]
["09400084",3145,2744,4112,3853,4127,4444,4555,4494,4028,3862,4437,4758,48559]
["09400085",59,8,46,55,69,34,129,77,47,36,57,64,681]
["09400087",4838,4026,5916,7289,7660,6568,6652,8283,7573,7873,8948,7358,82984]
["09400088",36,26,38,73,34,105,240,43,29,25,28,34,711]
["09400089",3299,3006,4423,4521,5113,4708,4758,5892,4944,4943,5648,5594,56849]
["09400090",346,2,1527,2478,2505,3080,509,2056,1876,1461,2459,1708,20007]
["09400091",296,1,1189,1681,1546,1741,332,1096,1220,875,1888,719,12584]
["09400092",{"$nulls":5},3,7,7,8,7,10,32,74]
["09400093",18,5,35,45,114,132,189,269,315,223,447,955,2747]
["09400094",6,24,30,278,205,116,74,174,195,194,151,194,1641]
["09400095",8,null,25,96,64,71,10,119,70,86,139,3,691]
["09400096",{"$nulls":4},50,21,60,4,42,24,9,null,210]
["09400097",1154,2045,2297,3442,5191,3854,5955,7050,7221,5720,9712,8496,62137]
["09400098",335,728,807,1528,1927,1415,1874,2203,2144,1766,2948,2206,19881]
["09400101"]
["09400102"]
["09400103"]
["09400104",264,484,484,440,484,440,484,484,440,440,440,396,5280]
["09400200",{"$nulls":4},4,1,{"$nulls":6},5]
["09400202",1,{"$nulls":11},1]
["09400204",22,25,25,8,22,51,18,46,30,45,38,39,369]
["09500500",null,3,4,6,48,96,78,90,101,116,219,118,879]
["09500501",2,{"$nulls":6},5,null,1,null,47,55]
["09500502",null,2,{"$nulls":7},2,1,null,5]
["09500503",2,null,3,5,31,70,61,70,83,92,134,96,647]
["09600100",7,15,34,42,90,80,48,75,46,26,21,22,506]
["09600101",69,66,170,197,167,205,226,228,216,166,320,182,2212]
["09600102",5,5,10,9,16,18,14,5,14,15,8,13,132]
["09600103",2,null,null,9,1,null,6,4,18,23,3,1,67]
["09600105"]
["09600106",23,33,43,56,35,34,20,39,18,23,29,7,360]
["09600110",767,330,928,800,893,695,731,992,568,794,861,765,9124]
["09600111",74,48,103,52,65,45,55,81,52,48,59,60,742]
["09600112",46,31,58,35,66,42,45,61,35,35,54,32,540]
["09600113",105,null,44,128,121,47,86,70,50,67,null,149,867]
["09600114",182,162,211,142,185,224,199,274,194,231,312,237,2553]
["09600115",171,172,233,291,242,165,176,416,255,221,235,190,2767]
["09600116",38,32,22,90,45,47,37,43,16,38,37,16,461]
["09600117",220,176,309,278,436,314,311,286,291,276,328,446,3671]
["09600118",3,5,22,1,2,3,{"$nulls":4},4,7,47]
["09600119",62,27,27,26,36,36,36,47,25,52,38,28,440]
["09600120",{"$nulls":3},2,{"$nulls":8},2]
["09600121",133,63,153,129,167,128,32,85,149,136,148,98,1421]
["09600122",1,3,2,3,1,1,2,1,4,5,2,4,29]
["09600123",7,4,8,10,8,8,5,6,6,5,9,6,82]
["09600124",1,1,1,6,5,1,1,{"$nulls":3},3,1,20]
["09600125",189,145,259,197,290,194,206,183,227,163,222,199,2474]
["09600126",130,89,153,144,160,119,110,135,112,122,145,144,1563]
["09600127",33,22,43,26,49,39,28,30,43,39,68,40,460]
["09600128",21,14,27,27,21,17,7,43,22,28,30,22,279]
["09600129",452,311,725,609,254,605,465,698,540,729,480,572,6440]
["09600130",2,null,1,5,3,11,5,3,3,3,2,6,44]
["09600131",{"$nulls":4},1,{"$nulls":3},1,null,null,1,3]
["09600132",7,4,10,7,11,4,7,4,8,11,10,6,89]
["09600133",13,10,48,83,9,47,27,37,43,30,39,36,422]
["09600134",18,7,41,31,2,21,26,21,8,12,13,13,213]
["09600135",11,4,4,2,8,15,12,26,11,17,13,39,162]
["09600137",7,2,8,11,9,4,1,12,7,6,6,5,78]
["09600138",6,6,4,12,14,6,6,8,null,8,6,13,89]
["09600140",221,151,327,279,254,135,122,178,113,100,154,130,2164]
["09600141",34,24,48,62,75,58,41,47,45,53,35,32,554]
["09600142",24,14,39,37,62,73,42,40,51,35,63,42,522]
["09600143",77,34,75,106,134,132,80,78,111,100,91,66,1084]
["09600144",46,14,51,39,49,43,19,27,27,10,26,14,365]
["09600145",101,51,75,92,65,57,55,64,72,65,37,31,765]
["09600146",28,10,27,54,69,59,41,59,45,24,42,25,483]
["09600147",33,6,34,10,48,47,28,32,35,22,27,29,351]
["09600148",6,1,5,18,4,3,1,4,4,2,null,3,51]
["09600149",796,687,1067,898,862,773,643,819,744,687,669,661,9306]
["09600151",64,39,89,113,138,121,64,164,217,135,102,119,1365]
["09600152",49,12,71,67,74,44,9,23,16,74,21,18,478]
["09600153",{"$nulls":3},9,24,32,42,40,47,45,49,61,349]
["09600154",{"$nulls":3},54,31,64,115,102,97,72,102,197,834]
["09600155",29,28,47,27,61,49,43,36,57,87,78,49,591]
["09600156",106,95,120,59,140,135,117,169,106,170,186,137,1540]
["09600158",201,171,213,236,300,218,223,241,168,215,236,229,2651]
["09600159",477,443,517,585,578,519,457,513,368,566,536,470,6029]
["09600160",{"$nulls":4},3,9,15,4,12,7,10,6,66]
["09600161",285,167,401,338,400,382,348,389,273,309,276,270,3838]
["09600162",531,300,614,585,739,563,601,759,621,713,620,598,7244]
["09600163",2,15,4,5,2,3,6,6,5,1,2,4,55]
["09600164",111,57,123,104,137,118,94,150,111,91,121,95,1312]
["09600165",376,326,597,605,765,559,465,601,561,532,680,635,6702]
["09600166",{"$nulls":5},1,null,1,null,null,1,2,5]
["09600167",27,19,18,12,22,19,22,11,16,7,26,9,208]
["09600168",124,81,86,103,129,70,84,119,89,54,70,73,1082]
["09600169",{"$nulls":4},1,{"$nulls":7},1]
["09600170",92,51,96,95,102,92,87,57,124,78,141,121,1136]
["09600171",912,643,1056,793,1015,835,671,1003,694,919,895,781,10217]
["09600172",1,4,null,3,1,4,2,4,1,5,3,1,29]
["09600173",16,7,21,1,11,8,13,11,8,21,17,14,148]
["09600174",116,53,132,115,140,92,114,144,36,126,106,95,1269]
["09600175",21,2,13,12,20,18,17,10,null,6,6,3,128]
["09600176",7,10,12,13,21,10,8,20,2,12,12,7,134]
["09600177",null,1,{"$nulls":4},1,1,null,null,1,null,4]
["09600178",124,79,126,108,114,166,145,151,215,175,178,138,1719]
["09600179",399,198,478,398,457,388,312,473,416,422,367,439,4747]
["09600180",5,null,2,2,3,1,2,2,3,null,null,1,21]
["09600181",null,4,9,2,5,7,2,4,4,5,5,3,50]
["09600182",12,15,17,11,19,12,11,28,22,10,16,23,196]
["09600184",212,133,207,197,164,190,162,124,109,196,237,128,2059]
["09600185",1037,586,982,994,831,610,508,904,609,538,595,500,8694]
["09600186",null,18,1,3,1,1,2,4,1,null,1,null,32]
["09600187",4,0,9,5,6,31,29,32,31,30,37,17,231]
["09600188",34,23,47,52,54,101,79,107,90,86,100,93,866]
["09600189",5,null,11,7,7,10,6,12,7,6,26,10,107]
["09600190",5,2,5,9,10,30,16,15,12,10,21,20,155]
["09600192",29,14,47,29,33,20,1,3,2,6,1,2,187]
["09600193",83,31,130,117,122,26,7,35,26,16,23,31,647]
["09600194",null,1,{"$nulls":10},1]
["09600195",{"$nulls":10},15,8,23]
["09600196",{"$nulls":10},13,3,16]
["09600198",35,22,34,46,44,56,27,30,31,33,22,24,404]
["09600199",218,119,161,171,181,178,128,139,158,129,128,104,1814]
["09600300",3689,3098,4812,5435,5537,5233,4901,6064,5273,5054,5769,4988,59853]
["09600301",514,456,698,872,807,717,695,830,805,805,827,718,8744]
["09600302",492,445,629,688,637,577,909,745,696,688,614,586,7706]
["09600303",2046,1844,2817,2979,3036,2662,2738,3059,2860,2837,3009,2619,32506]
["09600304",180,115,221,184,130,131,162,227,204,429,259,201,2443]
["09600305",47,118,205,163,190,249,186,183,219,153,232,135,2080]
["09600306",125,98,217,206,187,180,162,232,202,209,206,175,2199]
["09600307",114,152,294,290,227,283,256,265,200,245,267,212,2805]
["09600308",964,703,1420,1326,1412,1244,1102,1246,1148,1302,1187,1040,14094]
["09600309",282,237,465,530,501,378,352,452,359,450,374,395,4775]
["09600311",45,35,63,67,100,118,131,152,72,41,60,56,940]
["09600312",118,98,144,100,57,55,77,93,108,142,213,136,1341]
["09600313",120,89,149,148,155,155,151,123,146,148,165,142,1691]
["09600316",534,464,688,668,729,738,437,818,638,617,717,581,7629]
["09600317",132,42,95,96,132,116,90,62,100,113,150,130,1258]
["09600318",1,null,3,14,{"$nulls":4},1,{"$nulls":3},19]
["09600319",59,38,62,48,64,81,56,43,66,56,95,79,747]
["09600320",2,18,22,36,72,64,130,74,62,46,104,82,712]
["09600321",4,11,7,8,14,18,40,19,10,22,28,57,238]
["09600322",4,8,2,33,85,102,139,128,118,77,198,174,1068]
["09600323",{"$nulls":5},4,12,11,16,3,null,85,131]
["09600324"]
["09600325",86,76,114,63,83,59,68,97,74,93,62,65,940]
["09600326",51,49,41,32,57,58,43,67,29,42,44,26,539]
["09600327",26,43,25,35,100,104,73,95,69,101,110,98,879]
["09600328",47,17,68,67,52,42,36,54,47,36,40,37,543]
["09600329",13,8,21,19,14,11,10,17,7,13,19,22,174]
["09600330",9,2,null,1,5,null,1,null,1,null,1,null,20]
["09600331",18,17,32,27,20,27,20,38,15,33,18,21,286]
["09600332",2,4,1,6,1,null,null,1,3,1,1,1,21]
["09600333",7,20,8,10,21,30,20,22,26,19,16,22,221]
["09600335",107,40,54,65,77,91,55,63,33,29,57,55,726]
["09600336",7,1,4,5,2,16,20,18,5,3,4,6,91]
["09600337",8,6,19,21,16,4,null,2,2,2,null,null,80]
["09600339",null,4,1,{"$nulls":9},5]
["Total general",99544,83415,132687,145015,154923,146359,131481,167734,145358,148748,168218,146809,1670291]